BEGIN:VCALENDAR
VERSION:2.0
PRODID:-//Collaroy Surf Life Saving Club - ECPv6.15.20//NONSGML v1.0//EN
CALSCALE:GREGORIAN
METHOD:PUBLISH
X-WR-CALNAME:Collaroy Surf Life Saving Club
X-ORIGINAL-URL:https://collaroysurfclub.com.au
X-WR-CALDESC:Events for Collaroy Surf Life Saving Club
REFRESH-INTERVAL;VALUE=DURATION:PT1H
X-Robots-Tag:noindex
X-PUBLISHED-TTL:PT1H
BEGIN:VTIMEZONE
TZID:Australia/Sydney
BEGIN:STANDARD
TZOFFSETFROM:+1100
TZOFFSETTO:+1000
TZNAME:AEST
DTSTART:20230401T160000
END:STANDARD
BEGIN:DAYLIGHT
TZOFFSETFROM:+1000
TZOFFSETTO:+1100
TZNAME:AEDT
DTSTART:20230930T160000
END:DAYLIGHT
BEGIN:STANDARD
TZOFFSETFROM:+1100
TZOFFSETTO:+1000
TZNAME:AEST
DTSTART:20240406T160000
END:STANDARD
BEGIN:DAYLIGHT
TZOFFSETFROM:+1000
TZOFFSETTO:+1100
TZNAME:AEDT
DTSTART:20241005T160000
END:DAYLIGHT
BEGIN:STANDARD
TZOFFSETFROM:+1100
TZOFFSETTO:+1000
TZNAME:AEST
DTSTART:20250405T160000
END:STANDARD
BEGIN:DAYLIGHT
TZOFFSETFROM:+1000
TZOFFSETTO:+1100
TZNAME:AEDT
DTSTART:20251004T160000
END:DAYLIGHT
END:VTIMEZONE
BEGIN:VEVENT
DTSTART;VALUE=DATE:20240218
DTEND;VALUE=DATE:20240219
DTSTAMP:20260421T064002
CREATED:20240209T055932Z
LAST-MODIFIED:20240209T055932Z
UID:10003882-1708214400-1708300799@collaroysurfclub.com.au
SUMMARY:Branch Championships
DESCRIPTION:Junior Water
URL:https://collaroysurfclub.com.au/event/branch-championships-4/
LOCATION:Newport SLSC\, 394 Barrenjoey Rd\,\, Newport\, Australia
CATEGORIES:Carnival,Nippers
END:VEVENT
BEGIN:VEVENT
DTSTART;TZID=Australia/Sydney:20240218T081500
DTEND;TZID=Australia/Sydney:20240218T113000
DTSTAMP:20260421T064002
CREATED:20230711T004144Z
LAST-MODIFIED:20240209T055052Z
UID:10003862-1708244100-1708255800@collaroysurfclub.com.au
SUMMARY:Nippers
DESCRIPTION:U6 – U8 at 8.30am\, U9 – U14 at 9.45am \n\n\n\nPlease arrive 15 minutes early and join your age group on the beach infront of the clubhouse.
URL:https://collaroysurfclub.com.au/event/first-nippers/2024-02-18/
LOCATION:Collaroy SLSC\, 1054 Pittwater Road\,\, Collaroy\, Australia
CATEGORIES:Nippers
GEO:33"43'58"S;151"18'08"E
X-APPLE-STRUCTURED-LOCATION;VALUE=URI;X-ADDRESS=Collaroy SLSC 1054 Pittwater Road Collaroy Australia;X-APPLE-RADIUS=500;X-TITLE=1054 Pittwater Road\,:geo:151"18'08"E,33"43'58"S
END:VEVENT
BEGIN:VEVENT
DTSTART;TZID=Australia/Sydney:20240218T084500
DTEND;TZID=Australia/Sydney:20240218T133000
DTSTAMP:20260421T064002
CREATED:20230919T000542Z
LAST-MODIFIED:20230919T000542Z
UID:10003671-1708245900-1708263000@collaroysurfclub.com.au
SUMMARY:AM Patrol - Patrol 2
DESCRIPTION:
URL:https://collaroysurfclub.com.au/event/am-patrol-patrol-2/2024-02-18/
LOCATION:Collaroy SLSC\, 1054 Pittwater Road\,\, Collaroy\, Australia
CATEGORIES:Patrol 2
GEO:33"43'58"S;151"18'08"E
X-APPLE-STRUCTURED-LOCATION;VALUE=URI;X-ADDRESS=Collaroy SLSC 1054 Pittwater Road Collaroy Australia;X-APPLE-RADIUS=500;X-TITLE=1054 Pittwater Road\,:geo:151"18'08"E,33"43'58"S
END:VEVENT
BEGIN:VEVENT
DTSTART;TZID=Australia/Sydney:20240218T131500
DTEND;TZID=Australia/Sydney:20240218T180000
DTSTAMP:20260421T064002
CREATED:20230919T005817Z
LAST-MODIFIED:20230919T011716Z
UID:10003769-1708262100-1708279200@collaroysurfclub.com.au
SUMMARY:PM Patrol - Patrol 7
DESCRIPTION:
URL:https://collaroysurfclub.com.au/event/pm-patrol-patrol-7/2024-02-18/
LOCATION:Collaroy SLSC\, 1054 Pittwater Road\,\, Collaroy\, Australia
CATEGORIES:Patrol 7
GEO:33"43'58"S;151"18'08"E
X-APPLE-STRUCTURED-LOCATION;VALUE=URI;X-ADDRESS=Collaroy SLSC 1054 Pittwater Road Collaroy Australia;X-APPLE-RADIUS=500;X-TITLE=1054 Pittwater Road\,:geo:151"18'08"E,33"43'58"S
END:VEVENT
BEGIN:VEVENT
DTSTART;TZID=Australia/Sydney:20240224T084500
DTEND;TZID=Australia/Sydney:20240224T133000
DTSTAMP:20260421T064002
CREATED:20230919T002957Z
LAST-MODIFIED:20230919T002957Z
UID:10003722-1708764300-1708781400@collaroysurfclub.com.au
SUMMARY:AM Patrol - Patrol LS 1
DESCRIPTION:
URL:https://collaroysurfclub.com.au/event/am-patrol-patrol-ls-1/2024-02-24/
LOCATION:Collaroy SLSC\, 1054 Pittwater Road\,\, Collaroy\, Australia
CATEGORIES:Patrol LS1
GEO:33"43'58"S;151"18'08"E
X-APPLE-STRUCTURED-LOCATION;VALUE=URI;X-ADDRESS=Collaroy SLSC 1054 Pittwater Road Collaroy Australia;X-APPLE-RADIUS=500;X-TITLE=1054 Pittwater Road\,:geo:151"18'08"E,33"43'58"S
END:VEVENT
BEGIN:VEVENT
DTSTART;TZID=Australia/Sydney:20240224T131500
DTEND;TZID=Australia/Sydney:20240224T180000
DTSTAMP:20260421T064002
CREATED:20230919T010432Z
LAST-MODIFIED:20230919T010432Z
UID:10003785-1708780500-1708797600@collaroysurfclub.com.au
SUMMARY:PM Patrol - Patrol 9
DESCRIPTION:
URL:https://collaroysurfclub.com.au/event/pm-patrol-patrol-9/2024-02-24/
LOCATION:Collaroy SLSC\, 1054 Pittwater Road\,\, Collaroy\, Australia
CATEGORIES:Patrol 9
GEO:33"43'58"S;151"18'08"E
X-APPLE-STRUCTURED-LOCATION;VALUE=URI;X-ADDRESS=Collaroy SLSC 1054 Pittwater Road Collaroy Australia;X-APPLE-RADIUS=500;X-TITLE=1054 Pittwater Road\,:geo:151"18'08"E,33"43'58"S
END:VEVENT
BEGIN:VEVENT
DTSTART;TZID=Australia/Sydney:20240224T140000
DTEND;TZID=Australia/Sydney:20240224T220000
DTSTAMP:20260421T064002
CREATED:20231113T101951Z
LAST-MODIFIED:20240206T223730Z
UID:10003877-1708783200-1708812000@collaroysurfclub.com.au
SUMMARY:Ladies Day
DESCRIPTION:We have fun filled afternoon planned. Networking\, socialising\, eating\, drinking\, and building on the Collaroy spirit we all hold so dear. Our Community partners have once again provided so much support\, with some great prizes available to win on the day.\n\nLadies\, if you’ve been thinking about it – think no more and get your ticket by the 10 February 2024.\nAll funds raised will go back into the club so bring your aunties\, sisters\, mums and girlfriends!\n\nAny questions you can contact us at collaroyladiesday@outlook.com\nTickets must be pre-purchased. Click here.\n\nThank you so much for your support and we look forward to seeing you on the day.
URL:https://collaroysurfclub.com.au/event/ladies-day/
LOCATION:Collaroy SLSC\, 1054 Pittwater Road\,\, Collaroy\, Australia
CATEGORIES:Club,Function
ATTACH;FMTTYPE=image/png:https://collaroysurfclub.com.au/wp-content/uploads/2023/11/PNG-image.png
GEO:33"43'58"S;151"18'08"E
X-APPLE-STRUCTURED-LOCATION;VALUE=URI;X-ADDRESS=Collaroy SLSC 1054 Pittwater Road Collaroy Australia;X-APPLE-RADIUS=500;X-TITLE=1054 Pittwater Road\,:geo:151"18'08"E,33"43'58"S
END:VEVENT
END:VCALENDAR