BEGIN:VCALENDAR
VERSION:2.0
PRODID:-//Collaroy Surf Life Saving Club - ECPv6.15.20//NONSGML v1.0//EN
CALSCALE:GREGORIAN
METHOD:PUBLISH
X-ORIGINAL-URL:https://collaroysurfclub.com.au
X-WR-CALDESC:Events for Collaroy Surf Life Saving Club
REFRESH-INTERVAL;VALUE=DURATION:PT1H
X-Robots-Tag:noindex
X-PUBLISHED-TTL:PT1H
BEGIN:VTIMEZONE
TZID:Australia/Sydney
BEGIN:STANDARD
TZOFFSETFROM:+1100
TZOFFSETTO:+1000
TZNAME:AEST
DTSTART:20230401T160000
END:STANDARD
BEGIN:DAYLIGHT
TZOFFSETFROM:+1000
TZOFFSETTO:+1100
TZNAME:AEDT
DTSTART:20230930T160000
END:DAYLIGHT
BEGIN:STANDARD
TZOFFSETFROM:+1100
TZOFFSETTO:+1000
TZNAME:AEST
DTSTART:20240406T160000
END:STANDARD
BEGIN:DAYLIGHT
TZOFFSETFROM:+1000
TZOFFSETTO:+1100
TZNAME:AEDT
DTSTART:20241005T160000
END:DAYLIGHT
BEGIN:STANDARD
TZOFFSETFROM:+1100
TZOFFSETTO:+1000
TZNAME:AEST
DTSTART:20250405T160000
END:STANDARD
BEGIN:DAYLIGHT
TZOFFSETFROM:+1000
TZOFFSETTO:+1100
TZNAME:AEDT
DTSTART:20251004T160000
END:DAYLIGHT
END:VTIMEZONE
BEGIN:VEVENT
DTSTART;VALUE=DATE:20240128
DTEND;VALUE=DATE:20240129
DTSTAMP:20260426T022708
CREATED:20230919T062154Z
LAST-MODIFIED:20230919T062154Z
UID:10003824-1706400000-1706486399@collaroysurfclub.com.au
SUMMARY:Surf Boats - Young Guns
DESCRIPTION:
URL:https://collaroysurfclub.com.au/event/surf-boats-young-guns/
LOCATION:Collaroy SLSC\, 1054 Pittwater Road\,\, Collaroy\, Australia
CATEGORIES:Carnival
GEO:33"43'58"S;151"18'08"E
X-APPLE-STRUCTURED-LOCATION;VALUE=URI;X-ADDRESS=Collaroy SLSC 1054 Pittwater Road Collaroy Australia;X-APPLE-RADIUS=500;X-TITLE=1054 Pittwater Road\,:geo:151"18'08"E,33"43'58"S
END:VEVENT
BEGIN:VEVENT
DTSTART;TZID=Australia/Sydney:20240128T080000
DTEND;TZID=Australia/Sydney:20240128T170000
DTSTAMP:20260426T022708
CREATED:20230826T021444Z
LAST-MODIFIED:20240119T070355Z
UID:10003660-1706428800-1706461200@collaroysurfclub.com.au
SUMMARY:Weekend @ The Roy - Australia Day Weekend Lifesaving Spectacular
DESCRIPTION:For more information click here
URL:https://collaroysurfclub.com.au/event/australia-day-weekend-lifesaving-spectacular/2024-01-28/
LOCATION:Collaroy SLSC\, 1054 Pittwater Road\,\, Collaroy\, Australia
CATEGORIES:Carnival
GEO:33"43'58"S;151"18'08"E
X-APPLE-STRUCTURED-LOCATION;VALUE=URI;X-ADDRESS=Collaroy SLSC 1054 Pittwater Road Collaroy Australia;X-APPLE-RADIUS=500;X-TITLE=1054 Pittwater Road\,:geo:151"18'08"E,33"43'58"S
END:VEVENT
BEGIN:VEVENT
DTSTART;TZID=Australia/Sydney:20240128T081500
DTEND;TZID=Australia/Sydney:20240128T113000
DTSTAMP:20260426T022708
CREATED:20230711T004144Z
LAST-MODIFIED:20240209T055052Z
UID:10003859-1706429700-1706441400@collaroysurfclub.com.au
SUMMARY:Nippers
DESCRIPTION:U6 – U8 at 8.30am\, U9 – U14 at 9.45am \n\n\n\nPlease arrive 15 minutes early and join your age group on the beach infront of the clubhouse.
URL:https://collaroysurfclub.com.au/event/first-nippers/2024-01-28/
LOCATION:Collaroy SLSC\, 1054 Pittwater Road\,\, Collaroy\, Australia
CATEGORIES:Nippers
GEO:33"43'58"S;151"18'08"E
X-APPLE-STRUCTURED-LOCATION;VALUE=URI;X-ADDRESS=Collaroy SLSC 1054 Pittwater Road Collaroy Australia;X-APPLE-RADIUS=500;X-TITLE=1054 Pittwater Road\,:geo:151"18'08"E,33"43'58"S
END:VEVENT
BEGIN:VEVENT
DTSTART;TZID=Australia/Sydney:20240128T084500
DTEND;TZID=Australia/Sydney:20240128T133000
DTSTAMP:20260426T022708
CREATED:20230919T000542Z
LAST-MODIFIED:20230919T000542Z
UID:10003670-1706431500-1706448600@collaroysurfclub.com.au
SUMMARY:AM Patrol - Patrol 2
DESCRIPTION:
URL:https://collaroysurfclub.com.au/event/am-patrol-patrol-2/2024-01-28/
LOCATION:Collaroy SLSC\, 1054 Pittwater Road\,\, Collaroy\, Australia
CATEGORIES:Patrol 2
GEO:33"43'58"S;151"18'08"E
X-APPLE-STRUCTURED-LOCATION;VALUE=URI;X-ADDRESS=Collaroy SLSC 1054 Pittwater Road Collaroy Australia;X-APPLE-RADIUS=500;X-TITLE=1054 Pittwater Road\,:geo:151"18'08"E,33"43'58"S
END:VEVENT
BEGIN:VEVENT
DTSTART;TZID=Australia/Sydney:20240128T131500
DTEND;TZID=Australia/Sydney:20240128T180000
DTSTAMP:20260426T022708
CREATED:20230919T005256Z
LAST-MODIFIED:20230919T005256Z
UID:10003754-1706447700-1706464800@collaroysurfclub.com.au
SUMMARY:PM Patrol - Patrol 4
DESCRIPTION:
URL:https://collaroysurfclub.com.au/event/pm-patrol-patrol-4/2024-01-28/
LOCATION:Collaroy SLSC\, 1054 Pittwater Road\,\, Collaroy\, Australia
CATEGORIES:Patrol 4
GEO:33"43'58"S;151"18'08"E
X-APPLE-STRUCTURED-LOCATION;VALUE=URI;X-ADDRESS=Collaroy SLSC 1054 Pittwater Road Collaroy Australia;X-APPLE-RADIUS=500;X-TITLE=1054 Pittwater Road\,:geo:151"18'08"E,33"43'58"S
END:VEVENT
BEGIN:VEVENT
DTSTART;TZID=Australia/Sydney:20240203T084500
DTEND;TZID=Australia/Sydney:20240203T133000
DTSTAMP:20260426T022708
CREATED:20230919T002957Z
LAST-MODIFIED:20230919T002957Z
UID:10003721-1706949900-1706967000@collaroysurfclub.com.au
SUMMARY:AM Patrol - Patrol LS 1
DESCRIPTION:
URL:https://collaroysurfclub.com.au/event/am-patrol-patrol-ls-1/2024-02-03/
LOCATION:Collaroy SLSC\, 1054 Pittwater Road\,\, Collaroy\, Australia
CATEGORIES:Patrol LS1
GEO:33"43'58"S;151"18'08"E
X-APPLE-STRUCTURED-LOCATION;VALUE=URI;X-ADDRESS=Collaroy SLSC 1054 Pittwater Road Collaroy Australia;X-APPLE-RADIUS=500;X-TITLE=1054 Pittwater Road\,:geo:151"18'08"E,33"43'58"S
END:VEVENT
BEGIN:VEVENT
DTSTART;TZID=Australia/Sydney:20240203T131500
DTEND;TZID=Australia/Sydney:20240203T180000
DTSTAMP:20260426T022708
CREATED:20230919T010112Z
LAST-MODIFIED:20230919T011611Z
UID:10003776-1706966100-1706983200@collaroysurfclub.com.au
SUMMARY:PM Patrol - Patrol 8
DESCRIPTION:
URL:https://collaroysurfclub.com.au/event/pm-patrol-patrol-8/2024-02-03/
LOCATION:Collaroy SLSC\, 1054 Pittwater Road\,\, Collaroy\, Australia
CATEGORIES:Patrol 8
GEO:33"43'58"S;151"18'08"E
X-APPLE-STRUCTURED-LOCATION;VALUE=URI;X-ADDRESS=Collaroy SLSC 1054 Pittwater Road Collaroy Australia;X-APPLE-RADIUS=500;X-TITLE=1054 Pittwater Road\,:geo:151"18'08"E,33"43'58"S
END:VEVENT
END:VCALENDAR