BEGIN:VCALENDAR
VERSION:2.0
PRODID:-//Collaroy Surf Life Saving Club - ECPv6.15.20//NONSGML v1.0//EN
CALSCALE:GREGORIAN
METHOD:PUBLISH
X-WR-CALNAME:Collaroy Surf Life Saving Club
X-ORIGINAL-URL:https://collaroysurfclub.com.au
X-WR-CALDESC:Events for Collaroy Surf Life Saving Club
REFRESH-INTERVAL;VALUE=DURATION:PT1H
X-Robots-Tag:noindex
X-PUBLISHED-TTL:PT1H
BEGIN:VTIMEZONE
TZID:Australia/Sydney
BEGIN:STANDARD
TZOFFSETFROM:+1100
TZOFFSETTO:+1000
TZNAME:AEST
DTSTART:20230401T160000
END:STANDARD
BEGIN:DAYLIGHT
TZOFFSETFROM:+1000
TZOFFSETTO:+1100
TZNAME:AEDT
DTSTART:20230930T160000
END:DAYLIGHT
BEGIN:STANDARD
TZOFFSETFROM:+1100
TZOFFSETTO:+1000
TZNAME:AEST
DTSTART:20240406T160000
END:STANDARD
BEGIN:DAYLIGHT
TZOFFSETFROM:+1000
TZOFFSETTO:+1100
TZNAME:AEDT
DTSTART:20241005T160000
END:DAYLIGHT
BEGIN:STANDARD
TZOFFSETFROM:+1100
TZOFFSETTO:+1000
TZNAME:AEST
DTSTART:20250405T160000
END:STANDARD
BEGIN:DAYLIGHT
TZOFFSETFROM:+1000
TZOFFSETTO:+1100
TZNAME:AEDT
DTSTART:20251004T160000
END:DAYLIGHT
END:VTIMEZONE
BEGIN:VEVENT
DTSTART;VALUE=DATE:20240114
DTEND;VALUE=DATE:20240115
DTSTAMP:20260421T112849
CREATED:20230919T061446Z
LAST-MODIFIED:20230919T061446Z
UID:10003817-1705190400-1705276799@collaroysurfclub.com.au
SUMMARY:Nipper Nats
DESCRIPTION:
URL:https://collaroysurfclub.com.au/event/nipper-nats-2/
LOCATION:Manly SLSC\, Ashburner St &\, S Steyne\, Manly\, Australia
CATEGORIES:Carnival
END:VEVENT
BEGIN:VEVENT
DTSTART;VALUE=DATE:20240114
DTEND;VALUE=DATE:20240115
DTSTAMP:20260421T112849
CREATED:20230919T062023Z
LAST-MODIFIED:20230919T062023Z
UID:10003822-1705190400-1705276799@collaroysurfclub.com.au
SUMMARY:Surf Boats - Premiership Round 3
DESCRIPTION:State Selection Open/Reserves
URL:https://collaroysurfclub.com.au/event/surf-boats-premiership-round-3-2/
LOCATION:North Steyne SLSC\, 675P+JP Manly\, New South Wales
CATEGORIES:Carnival
END:VEVENT
BEGIN:VEVENT
DTSTART;TZID=Australia/Sydney:20240114T081500
DTEND;TZID=Australia/Sydney:20240114T113000
DTSTAMP:20260421T112849
CREATED:20230711T004144Z
LAST-MODIFIED:20240209T055052Z
UID:10003857-1705220100-1705231800@collaroysurfclub.com.au
SUMMARY:Nippers
DESCRIPTION:U6 – U8 at 8.30am\, U9 – U14 at 9.45am \n\n\n\nPlease arrive 15 minutes early and join your age group on the beach infront of the clubhouse.
URL:https://collaroysurfclub.com.au/event/first-nippers/2024-01-14/
LOCATION:Collaroy SLSC\, 1054 Pittwater Road\,\, Collaroy\, Australia
CATEGORIES:Nippers
GEO:33"43'58"S;151"18'08"E
X-APPLE-STRUCTURED-LOCATION;VALUE=URI;X-ADDRESS=Collaroy SLSC 1054 Pittwater Road Collaroy Australia;X-APPLE-RADIUS=500;X-TITLE=1054 Pittwater Road\,:geo:151"18'08"E,33"43'58"S
END:VEVENT
BEGIN:VEVENT
DTSTART;TZID=Australia/Sydney:20240114T084500
DTEND;TZID=Australia/Sydney:20240114T133000
DTSTAMP:20260421T112849
CREATED:20230919T000005Z
LAST-MODIFIED:20230919T000005Z
UID:10003664-1705221900-1705239000@collaroysurfclub.com.au
SUMMARY:AM Patrol - Patrol 1
DESCRIPTION:
URL:https://collaroysurfclub.com.au/event/am-patrol-patrol-1/2024-01-14/
LOCATION:Collaroy SLSC\, 1054 Pittwater Road\,\, Collaroy\, Australia
CATEGORIES:Patrol 1
GEO:33"43'58"S;151"18'08"E
X-APPLE-STRUCTURED-LOCATION;VALUE=URI;X-ADDRESS=Collaroy SLSC 1054 Pittwater Road Collaroy Australia;X-APPLE-RADIUS=500;X-TITLE=1054 Pittwater Road\,:geo:151"18'08"E,33"43'58"S
END:VEVENT
BEGIN:VEVENT
DTSTART;TZID=Australia/Sydney:20240114T131500
DTEND;TZID=Australia/Sydney:20240114T180000
DTSTAMP:20260421T112849
CREATED:20230919T010432Z
LAST-MODIFIED:20230919T010432Z
UID:10003783-1705238100-1705255200@collaroysurfclub.com.au
SUMMARY:PM Patrol - Patrol 9
DESCRIPTION:
URL:https://collaroysurfclub.com.au/event/pm-patrol-patrol-9/2024-01-14/
LOCATION:Collaroy SLSC\, 1054 Pittwater Road\,\, Collaroy\, Australia
CATEGORIES:Patrol 9
GEO:33"43'58"S;151"18'08"E
X-APPLE-STRUCTURED-LOCATION;VALUE=URI;X-ADDRESS=Collaroy SLSC 1054 Pittwater Road Collaroy Australia;X-APPLE-RADIUS=500;X-TITLE=1054 Pittwater Road\,:geo:151"18'08"E,33"43'58"S
END:VEVENT
BEGIN:VEVENT
DTSTART;VALUE=DATE:20240120
DTEND;VALUE=DATE:20240121
DTSTAMP:20260421T112849
CREATED:20230919T062815Z
LAST-MODIFIED:20230919T062815Z
UID:10003831-1705708800-1705795199@collaroysurfclub.com.au
SUMMARY:R&R Carnival
DESCRIPTION:
URL:https://collaroysurfclub.com.au/event/rr-carnival/
LOCATION:North Steyne SLSC\, 675P+JP Manly\, New South Wales
CATEGORIES:Carnival
END:VEVENT
BEGIN:VEVENT
DTSTART;TZID=Australia/Sydney:20240120T084500
DTEND;TZID=Australia/Sydney:20240120T133000
DTSTAMP:20260421T112849
CREATED:20230919T000542Z
LAST-MODIFIED:20230919T000542Z
UID:10003669-1705740300-1705757400@collaroysurfclub.com.au
SUMMARY:AM Patrol - Patrol 2
DESCRIPTION:
URL:https://collaroysurfclub.com.au/event/am-patrol-patrol-2/2024-01-20/
LOCATION:Collaroy SLSC\, 1054 Pittwater Road\,\, Collaroy\, Australia
CATEGORIES:Patrol 2
GEO:33"43'58"S;151"18'08"E
X-APPLE-STRUCTURED-LOCATION;VALUE=URI;X-ADDRESS=Collaroy SLSC 1054 Pittwater Road Collaroy Australia;X-APPLE-RADIUS=500;X-TITLE=1054 Pittwater Road\,:geo:151"18'08"E,33"43'58"S
END:VEVENT
BEGIN:VEVENT
DTSTART;TZID=Australia/Sydney:20240120T131500
DTEND;TZID=Australia/Sydney:20240120T180000
DTSTAMP:20260421T112849
CREATED:20230919T005817Z
LAST-MODIFIED:20230919T011716Z
UID:10003767-1705756500-1705773600@collaroysurfclub.com.au
SUMMARY:PM Patrol - Patrol 7
DESCRIPTION:
URL:https://collaroysurfclub.com.au/event/pm-patrol-patrol-7/2024-01-20/
LOCATION:Collaroy SLSC\, 1054 Pittwater Road\,\, Collaroy\, Australia
CATEGORIES:Patrol 7
GEO:33"43'58"S;151"18'08"E
X-APPLE-STRUCTURED-LOCATION;VALUE=URI;X-ADDRESS=Collaroy SLSC 1054 Pittwater Road Collaroy Australia;X-APPLE-RADIUS=500;X-TITLE=1054 Pittwater Road\,:geo:151"18'08"E,33"43'58"S
END:VEVENT
END:VCALENDAR