BEGIN:VCALENDAR
VERSION:2.0
PRODID:-//Collaroy Surf Life Saving Club - ECPv6.15.20//NONSGML v1.0//EN
CALSCALE:GREGORIAN
METHOD:PUBLISH
X-WR-CALNAME:Collaroy Surf Life Saving Club
X-ORIGINAL-URL:https://collaroysurfclub.com.au
X-WR-CALDESC:Events for Collaroy Surf Life Saving Club
REFRESH-INTERVAL;VALUE=DURATION:PT1H
X-Robots-Tag:noindex
X-PUBLISHED-TTL:PT1H
BEGIN:VTIMEZONE
TZID:Australia/Sydney
BEGIN:STANDARD
TZOFFSETFROM:+1100
TZOFFSETTO:+1000
TZNAME:AEST
DTSTART:20220402T160000
END:STANDARD
BEGIN:DAYLIGHT
TZOFFSETFROM:+1000
TZOFFSETTO:+1100
TZNAME:AEDT
DTSTART:20221001T160000
END:DAYLIGHT
BEGIN:STANDARD
TZOFFSETFROM:+1100
TZOFFSETTO:+1000
TZNAME:AEST
DTSTART:20230401T160000
END:STANDARD
BEGIN:DAYLIGHT
TZOFFSETFROM:+1000
TZOFFSETTO:+1100
TZNAME:AEDT
DTSTART:20230930T160000
END:DAYLIGHT
BEGIN:STANDARD
TZOFFSETFROM:+1100
TZOFFSETTO:+1000
TZNAME:AEST
DTSTART:20240406T160000
END:STANDARD
BEGIN:DAYLIGHT
TZOFFSETFROM:+1000
TZOFFSETTO:+1100
TZNAME:AEDT
DTSTART:20241005T160000
END:DAYLIGHT
END:VTIMEZONE
BEGIN:VEVENT
DTSTART;TZID=Australia/Sydney:20231029T081500
DTEND;TZID=Australia/Sydney:20231029T113000
DTSTAMP:20260422T225732
CREATED:20230711T004144Z
LAST-MODIFIED:20240209T055052Z
UID:10003846-1698567300-1698579000@collaroysurfclub.com.au
SUMMARY:Nippers
DESCRIPTION:U6 – U8 at 8.30am\, U9 – U14 at 9.45am \n\n\n\nPlease arrive 15 minutes early and join your age group on the beach infront of the clubhouse.
URL:https://collaroysurfclub.com.au/event/first-nippers/2023-10-29/
LOCATION:Collaroy SLSC\, 1054 Pittwater Road\,\, Collaroy\, Australia
CATEGORIES:Nippers
GEO:33"43'58"S;151"18'08"E
X-APPLE-STRUCTURED-LOCATION;VALUE=URI;X-ADDRESS=Collaroy SLSC 1054 Pittwater Road Collaroy Australia;X-APPLE-RADIUS=500;X-TITLE=1054 Pittwater Road\,:geo:151"18'08"E,33"43'58"S
END:VEVENT
BEGIN:VEVENT
DTSTART;TZID=Australia/Sydney:20231029T084500
DTEND;TZID=Australia/Sydney:20231029T130000
DTSTAMP:20260422T225732
CREATED:20230919T002154Z
LAST-MODIFIED:20230919T002154Z
UID:10003700-1698569100-1698584400@collaroysurfclub.com.au
SUMMARY:AM Patrol - Patrol 9
DESCRIPTION:
URL:https://collaroysurfclub.com.au/event/am-patrol-patrol-9/2023-10-29/
LOCATION:Collaroy SLSC\, 1054 Pittwater Road\,\, Collaroy\, Australia
CATEGORIES:Patrol 9
GEO:33"43'58"S;151"18'08"E
X-APPLE-STRUCTURED-LOCATION;VALUE=URI;X-ADDRESS=Collaroy SLSC 1054 Pittwater Road Collaroy Australia;X-APPLE-RADIUS=500;X-TITLE=1054 Pittwater Road\,:geo:151"18'08"E,33"43'58"S
END:VEVENT
BEGIN:VEVENT
DTSTART;TZID=Australia/Sydney:20231029T110000
DTEND;TZID=Australia/Sydney:20231029T130000
DTSTAMP:20260422T225732
CREATED:20231013T101512Z
LAST-MODIFIED:20231013T224039Z
UID:10003870-1698577200-1698584400@collaroysurfclub.com.au
SUMMARY:Bronze/SRC Skills Update
DESCRIPTION:All active lifesavers are required to complete a skills maintenance to demonstrate\ncompetency in the lifesaving award/s they hold and in which they wish to remain current. \nIf you wish to patrol or compete this season you must complete the update prior to December 31\, 2023.
URL:https://collaroysurfclub.com.au/event/bronze-src-skills-update/2023-10-29/
LOCATION:Collaroy SLSC\, 1054 Pittwater Road\,\, Collaroy\, Australia
CATEGORIES:Training
GEO:33"43'58"S;151"18'08"E
X-APPLE-STRUCTURED-LOCATION;VALUE=URI;X-ADDRESS=Collaroy SLSC 1054 Pittwater Road Collaroy Australia;X-APPLE-RADIUS=500;X-TITLE=1054 Pittwater Road\,:geo:151"18'08"E,33"43'58"S
END:VEVENT
BEGIN:VEVENT
DTSTART;TZID=Australia/Sydney:20231029T124500
DTEND;TZID=Australia/Sydney:20231029T170000
DTSTAMP:20260422T225732
CREATED:20230919T010728Z
LAST-MODIFIED:20230919T010728Z
UID:10003788-1698583500-1698598800@collaroysurfclub.com.au
SUMMARY:PM Patrol - Patrol 11
DESCRIPTION:
URL:https://collaroysurfclub.com.au/event/pm-patrol-patrol-11/2023-10-29/
LOCATION:Collaroy SLSC\, 1054 Pittwater Road\,\, Collaroy\, Australia
CATEGORIES:Patrol 11
GEO:33"43'58"S;151"18'08"E
X-APPLE-STRUCTURED-LOCATION;VALUE=URI;X-ADDRESS=Collaroy SLSC 1054 Pittwater Road Collaroy Australia;X-APPLE-RADIUS=500;X-TITLE=1054 Pittwater Road\,:geo:151"18'08"E,33"43'58"S
END:VEVENT
BEGIN:VEVENT
DTSTART;VALUE=DATE:20231104
DTEND;VALUE=DATE:20231105
DTSTAMP:20260422T225732
CREATED:20230919T061807Z
LAST-MODIFIED:20230919T061807Z
UID:10003819-1699056000-1699142399@collaroysurfclub.com.au
SUMMARY:Surf Boats - Premiership Round 1
DESCRIPTION:
URL:https://collaroysurfclub.com.au/event/surf-boats-premiership-round-1/
LOCATION:Freshwater SLSC\, 679Q+HX Freshwater\, New South Wales
CATEGORIES:Carnival
END:VEVENT
BEGIN:VEVENT
DTSTART;TZID=Australia/Sydney:20231104T084500
DTEND;TZID=Australia/Sydney:20231104T130000
DTSTAMP:20260422T225732
CREATED:20230919T000005Z
LAST-MODIFIED:20230919T000005Z
UID:10003663-1699087500-1699102800@collaroysurfclub.com.au
SUMMARY:AM Patrol - Patrol 1
DESCRIPTION:
URL:https://collaroysurfclub.com.au/event/am-patrol-patrol-1/2023-11-04/
LOCATION:Collaroy SLSC\, 1054 Pittwater Road\,\, Collaroy\, Australia
CATEGORIES:Patrol 1
GEO:33"43'58"S;151"18'08"E
X-APPLE-STRUCTURED-LOCATION;VALUE=URI;X-ADDRESS=Collaroy SLSC 1054 Pittwater Road Collaroy Australia;X-APPLE-RADIUS=500;X-TITLE=1054 Pittwater Road\,:geo:151"18'08"E,33"43'58"S
END:VEVENT
BEGIN:VEVENT
DTSTART;TZID=Australia/Sydney:20231104T090000
DTEND;TZID=Australia/Sydney:20231104T110000
DTSTAMP:20260422T225732
CREATED:20231013T101512Z
LAST-MODIFIED:20231013T224039Z
UID:10003871-1699088400-1699095600@collaroysurfclub.com.au
SUMMARY:Bronze/SRC Skills Update
DESCRIPTION:All active lifesavers are required to complete a skills maintenance to demonstrate\ncompetency in the lifesaving award/s they hold and in which they wish to remain current. \nIf you wish to patrol or compete this season you must complete the update prior to December 31\, 2023.
URL:https://collaroysurfclub.com.au/event/bronze-src-skills-update/2023-11-04/
LOCATION:Collaroy SLSC\, 1054 Pittwater Road\,\, Collaroy\, Australia
CATEGORIES:Training
GEO:33"43'58"S;151"18'08"E
X-APPLE-STRUCTURED-LOCATION;VALUE=URI;X-ADDRESS=Collaroy SLSC 1054 Pittwater Road Collaroy Australia;X-APPLE-RADIUS=500;X-TITLE=1054 Pittwater Road\,:geo:151"18'08"E,33"43'58"S
END:VEVENT
BEGIN:VEVENT
DTSTART;TZID=Australia/Sydney:20231104T124500
DTEND;TZID=Australia/Sydney:20231104T170000
DTSTAMP:20260422T225732
CREATED:20230919T010112Z
LAST-MODIFIED:20230919T011611Z
UID:10003772-1699101900-1699117200@collaroysurfclub.com.au
SUMMARY:PM Patrol - Patrol 8
DESCRIPTION:
URL:https://collaroysurfclub.com.au/event/pm-patrol-patrol-8/2023-11-04/
LOCATION:Collaroy SLSC\, 1054 Pittwater Road\,\, Collaroy\, Australia
CATEGORIES:Patrol 8
GEO:33"43'58"S;151"18'08"E
X-APPLE-STRUCTURED-LOCATION;VALUE=URI;X-ADDRESS=Collaroy SLSC 1054 Pittwater Road Collaroy Australia;X-APPLE-RADIUS=500;X-TITLE=1054 Pittwater Road\,:geo:151"18'08"E,33"43'58"S
END:VEVENT
END:VCALENDAR