BEGIN:VCALENDAR
VERSION:2.0
PRODID:-//Collaroy Surf Life Saving Club - ECPv6.15.20//NONSGML v1.0//EN
CALSCALE:GREGORIAN
METHOD:PUBLISH
X-WR-CALNAME:Collaroy Surf Life Saving Club
X-ORIGINAL-URL:https://collaroysurfclub.com.au
X-WR-CALDESC:Events for Collaroy Surf Life Saving Club
REFRESH-INTERVAL;VALUE=DURATION:PT1H
X-Robots-Tag:noindex
X-PUBLISHED-TTL:PT1H
BEGIN:VTIMEZONE
TZID:Australia/Sydney
BEGIN:STANDARD
TZOFFSETFROM:+1100
TZOFFSETTO:+1000
TZNAME:AEST
DTSTART:20220402T160000
END:STANDARD
BEGIN:DAYLIGHT
TZOFFSETFROM:+1000
TZOFFSETTO:+1100
TZNAME:AEDT
DTSTART:20221001T160000
END:DAYLIGHT
BEGIN:STANDARD
TZOFFSETFROM:+1100
TZOFFSETTO:+1000
TZNAME:AEST
DTSTART:20230401T160000
END:STANDARD
BEGIN:DAYLIGHT
TZOFFSETFROM:+1000
TZOFFSETTO:+1100
TZNAME:AEDT
DTSTART:20230930T160000
END:DAYLIGHT
BEGIN:STANDARD
TZOFFSETFROM:+1100
TZOFFSETTO:+1000
TZNAME:AEST
DTSTART:20240406T160000
END:STANDARD
BEGIN:DAYLIGHT
TZOFFSETFROM:+1000
TZOFFSETTO:+1100
TZNAME:AEDT
DTSTART:20241005T160000
END:DAYLIGHT
END:VTIMEZONE
BEGIN:VEVENT
DTSTART;VALUE=DATE:20230325
DTEND;VALUE=DATE:20230327
DTSTAMP:20260426T104734
CREATED:20220907T130258Z
LAST-MODIFIED:20220907T130327Z
UID:10003351-1679702400-1679875199@collaroysurfclub.com.au
SUMMARY:Aussies Youth
DESCRIPTION:
URL:https://collaroysurfclub.com.au/event/aussies-youth/
LOCATION:Scarborough SLSC\, 163 The Esplanade\, Scarborough\, WA\, Australia
CATEGORIES:Carnival
END:VEVENT
BEGIN:VEVENT
DTSTART;TZID=Australia/Sydney:20230326T084500
DTEND;TZID=Australia/Sydney:20230326T133000
DTSTAMP:20260426T104734
CREATED:20220906T122132Z
LAST-MODIFIED:20220907T114007Z
UID:10003313-1679820300-1679837400@collaroysurfclub.com.au
SUMMARY:Patrol LS1
DESCRIPTION:
URL:https://collaroysurfclub.com.au/event/patrol-ls1/2023-03-26/
LOCATION:Collaroy SLSC\, 1054 Pittwater Road\,\, Collaroy\, Australia
CATEGORIES:Patrol LS1
GEO:33"43'58"S;151"18'08"E
X-APPLE-STRUCTURED-LOCATION;VALUE=URI;X-ADDRESS=Collaroy SLSC 1054 Pittwater Road Collaroy Australia;X-APPLE-RADIUS=500;X-TITLE=1054 Pittwater Road\,:geo:151"18'08"E,33"43'58"S
END:VEVENT
BEGIN:VEVENT
DTSTART;TZID=Australia/Sydney:20230326T120000
DTEND;TZID=Australia/Sydney:20230326T160000
DTSTAMP:20260426T104734
CREATED:20221003T080757Z
LAST-MODIFIED:20221003T080907Z
UID:10003374-1679832000-1679846400@collaroysurfclub.com.au
SUMMARY:Sunday Sippers
DESCRIPTION:Join us in the bar every throughout the patrol season Sunday throughout the patrol season from 12pm until at least 4pm.
URL:https://collaroysurfclub.com.au/event/sunday-sippers-2/2023-03-26/
LOCATION:Collaroy SLSC\, 1054 Pittwater Road\,\, Collaroy\, Australia
CATEGORIES:Collaroy Bar
GEO:33"43'58"S;151"18'08"E
X-APPLE-STRUCTURED-LOCATION;VALUE=URI;X-ADDRESS=Collaroy SLSC 1054 Pittwater Road Collaroy Australia;X-APPLE-RADIUS=500;X-TITLE=1054 Pittwater Road\,:geo:151"18'08"E,33"43'58"S
END:VEVENT
BEGIN:VEVENT
DTSTART;TZID=Australia/Sydney:20230326T124500
DTEND;TZID=Australia/Sydney:20230326T170000
DTSTAMP:20260426T104734
CREATED:20220906T115118Z
LAST-MODIFIED:20220906T115118Z
UID:10003255-1679834700-1679850000@collaroysurfclub.com.au
SUMMARY:Patrol 7
DESCRIPTION:
URL:https://collaroysurfclub.com.au/event/patrol-7/2023-03-26/
LOCATION:Collaroy SLSC\, 1054 Pittwater Road\,\, Collaroy\, Australia
CATEGORIES:Patrol 7
GEO:33"43'58"S;151"18'08"E
X-APPLE-STRUCTURED-LOCATION;VALUE=URI;X-ADDRESS=Collaroy SLSC 1054 Pittwater Road Collaroy Australia;X-APPLE-RADIUS=500;X-TITLE=1054 Pittwater Road\,:geo:151"18'08"E,33"43'58"S
END:VEVENT
BEGIN:VEVENT
DTSTART;VALUE=DATE:20230327
DTEND;VALUE=DATE:20230329
DTSTAMP:20260426T104734
CREATED:20220907T130438Z
LAST-MODIFIED:20220907T130438Z
UID:10003352-1679875200-1680047999@collaroysurfclub.com.au
SUMMARY:Aussies Masters
DESCRIPTION:
URL:https://collaroysurfclub.com.au/event/aussies-masters/
LOCATION:Scarborough SLSC\, 163 The Esplanade\, Scarborough\, WA\, Australia
CATEGORIES:Carnival
END:VEVENT
BEGIN:VEVENT
DTSTART;VALUE=DATE:20230329
DTEND;VALUE=DATE:20230401
DTSTAMP:20260426T104734
CREATED:20220907T131140Z
LAST-MODIFIED:20220907T131207Z
UID:10003353-1680048000-1680307199@collaroysurfclub.com.au
SUMMARY:Aussies Open
DESCRIPTION:
URL:https://collaroysurfclub.com.au/event/aussies-open/
LOCATION:Scarborough SLSC\, 163 The Esplanade\, Scarborough\, WA\, Australia
CATEGORIES:Carnival
END:VEVENT
BEGIN:VEVENT
DTSTART;TZID=Australia/Sydney:20230401T084500
DTEND;TZID=Australia/Sydney:20230401T170000
DTSTAMP:20260426T104734
CREATED:20220906T123041Z
LAST-MODIFIED:20220906T123539Z
UID:10003328-1680338700-1680368400@collaroysurfclub.com.au
SUMMARY:Volunteer Patrol
DESCRIPTION:
URL:https://collaroysurfclub.com.au/event/volunteer-patrol-2/2023-04-01/
LOCATION:Collaroy SLSC\, 1054 Pittwater Road\,\, Collaroy\, Australia
CATEGORIES:Patrol Volunteer
GEO:33"43'58"S;151"18'08"E
X-APPLE-STRUCTURED-LOCATION;VALUE=URI;X-ADDRESS=Collaroy SLSC 1054 Pittwater Road Collaroy Australia;X-APPLE-RADIUS=500;X-TITLE=1054 Pittwater Road\,:geo:151"18'08"E,33"43'58"S
END:VEVENT
END:VCALENDAR