BEGIN:VCALENDAR
VERSION:2.0
PRODID:-//Collaroy Surf Life Saving Club - ECPv6.15.20//NONSGML v1.0//EN
CALSCALE:GREGORIAN
METHOD:PUBLISH
X-WR-CALNAME:Collaroy Surf Life Saving Club
X-ORIGINAL-URL:https://collaroysurfclub.com.au
X-WR-CALDESC:Events for Collaroy Surf Life Saving Club
REFRESH-INTERVAL;VALUE=DURATION:PT1H
X-Robots-Tag:noindex
X-PUBLISHED-TTL:PT1H
BEGIN:VTIMEZONE
TZID:Australia/Sydney
BEGIN:STANDARD
TZOFFSETFROM:+1100
TZOFFSETTO:+1000
TZNAME:AEST
DTSTART:20220402T160000
END:STANDARD
BEGIN:DAYLIGHT
TZOFFSETFROM:+1000
TZOFFSETTO:+1100
TZNAME:AEDT
DTSTART:20221001T160000
END:DAYLIGHT
BEGIN:STANDARD
TZOFFSETFROM:+1100
TZOFFSETTO:+1000
TZNAME:AEST
DTSTART:20230401T160000
END:STANDARD
BEGIN:DAYLIGHT
TZOFFSETFROM:+1000
TZOFFSETTO:+1100
TZNAME:AEDT
DTSTART:20230930T160000
END:DAYLIGHT
BEGIN:STANDARD
TZOFFSETFROM:+1100
TZOFFSETTO:+1000
TZNAME:AEST
DTSTART:20240406T160000
END:STANDARD
BEGIN:DAYLIGHT
TZOFFSETFROM:+1000
TZOFFSETTO:+1100
TZNAME:AEDT
DTSTART:20241005T160000
END:DAYLIGHT
END:VTIMEZONE
BEGIN:VEVENT
DTSTART;TZID=Australia/Sydney:20230226T080000
DTEND;TZID=Australia/Sydney:20230226T170000
DTSTAMP:20260426T104730
CREATED:20230110T103640Z
LAST-MODIFIED:20230110T103640Z
UID:10003549-1677398400-1677430800@collaroysurfclub.com.au
SUMMARY:NSW Surf Lifesaving Championships - Age Championships
DESCRIPTION:
URL:https://collaroysurfclub.com.au/event/nsw-surf-lifesaving-championships-age-championships/2023-02-26/
LOCATION:Queenscliff SLSC\, 677Q+J4 Manly\, New South Wales\, Australia
CATEGORIES:Carnival
END:VEVENT
BEGIN:VEVENT
DTSTART;TZID=Australia/Sydney:20230226T080000
DTEND;TZID=Australia/Sydney:20230226T170000
DTSTAMP:20260426T104730
CREATED:20230110T103757Z
LAST-MODIFIED:20230110T103757Z
UID:10003551-1677398400-1677430800@collaroysurfclub.com.au
SUMMARY:NSW Surf Lifesaving Championships - First Aid
DESCRIPTION:
URL:https://collaroysurfclub.com.au/event/nsw-surf-lifesaving-championships-first-aid/2023-02-26/
LOCATION:Freshwater SLSC\, 679Q+HX Freshwater\, New South Wales
CATEGORIES:Carnival
END:VEVENT
BEGIN:VEVENT
DTSTART;TZID=Australia/Sydney:20230226T120000
DTEND;TZID=Australia/Sydney:20230226T160000
DTSTAMP:20260426T104730
CREATED:20221003T080757Z
LAST-MODIFIED:20221003T080907Z
UID:10003370-1677412800-1677427200@collaroysurfclub.com.au
SUMMARY:Sunday Sippers
DESCRIPTION:Join us in the bar every throughout the patrol season Sunday throughout the patrol season from 12pm until at least 4pm.
URL:https://collaroysurfclub.com.au/event/sunday-sippers-2/2023-02-26/
LOCATION:Collaroy SLSC\, 1054 Pittwater Road\,\, Collaroy\, Australia
CATEGORIES:Collaroy Bar
GEO:33"43'58"S;151"18'08"E
X-APPLE-STRUCTURED-LOCATION;VALUE=URI;X-ADDRESS=Collaroy SLSC 1054 Pittwater Road Collaroy Australia;X-APPLE-RADIUS=500;X-TITLE=1054 Pittwater Road\,:geo:151"18'08"E,33"43'58"S
END:VEVENT
BEGIN:VEVENT
DTSTART;TZID=Australia/Sydney:20230226T124500
DTEND;TZID=Australia/Sydney:20230226T170000
DTSTAMP:20260426T104730
CREATED:20220906T120422Z
LAST-MODIFIED:20220906T124457Z
UID:10003279-1677415500-1677430800@collaroysurfclub.com.au
SUMMARY:Patrol 9
DESCRIPTION:
URL:https://collaroysurfclub.com.au/event/patrol-9/2023-02-26/
LOCATION:Collaroy SLSC\, 1054 Pittwater Road\,\, Collaroy\, Australia
CATEGORIES:Patrol 9
GEO:33"43'58"S;151"18'08"E
X-APPLE-STRUCTURED-LOCATION;VALUE=URI;X-ADDRESS=Collaroy SLSC 1054 Pittwater Road Collaroy Australia;X-APPLE-RADIUS=500;X-TITLE=1054 Pittwater Road\,:geo:151"18'08"E,33"43'58"S
END:VEVENT
BEGIN:VEVENT
DTSTART;TZID=Australia/Sydney:20230226T131500
DTEND;TZID=Australia/Sydney:20230226T180000
DTSTAMP:20260426T104730
CREATED:20220906T115118Z
LAST-MODIFIED:20220906T115118Z
UID:10003608-1677417300-1677434400@collaroysurfclub.com.au
SUMMARY:Patrol 7
DESCRIPTION:
URL:https://collaroysurfclub.com.au/event/patrol-7/2023-02-26/
LOCATION:Collaroy SLSC\, 1054 Pittwater Road\,\, Collaroy\, Australia
CATEGORIES:Patrol 7
GEO:33"43'58"S;151"18'08"E
X-APPLE-STRUCTURED-LOCATION;VALUE=URI;X-ADDRESS=Collaroy SLSC 1054 Pittwater Road Collaroy Australia;X-APPLE-RADIUS=500;X-TITLE=1054 Pittwater Road\,:geo:151"18'08"E,33"43'58"S
END:VEVENT
BEGIN:VEVENT
DTSTART;TZID=Australia/Sydney:20230226T194400
DTEND;TZID=Australia/Sydney:20230226T194400
DTSTAMP:20260426T104730
CREATED:20230110T084758Z
LAST-MODIFIED:20230110T084800Z
UID:10003478-1677440640-1677440640@collaroysurfclub.com.au
SUMMARY:Nippers
DESCRIPTION:U6-U8 8.30am – 9.30am\nU9-U14 9.45am – 11.00am \nPlease be ready 15 minutes prior to the scheduled start time with cap\, sunscreen\, googles and water bottle.
URL:https://collaroysurfclub.com.au/event/nippers-4-2/2023-02-26/
LOCATION:Collaroy SLSC\, 1054 Pittwater Road\,\, Collaroy\, Australia
CATEGORIES:Nippers
GEO:33"43'58"S;151"18'08"E
X-APPLE-STRUCTURED-LOCATION;VALUE=URI;X-ADDRESS=Collaroy SLSC 1054 Pittwater Road Collaroy Australia;X-APPLE-RADIUS=500;X-TITLE=1054 Pittwater Road\,:geo:151"18'08"E,33"43'58"S
END:VEVENT
BEGIN:VEVENT
DTSTART;TZID=Australia/Sydney:20230301T080000
DTEND;TZID=Australia/Sydney:20230301T170000
DTSTAMP:20260426T104730
CREATED:20230110T103914Z
LAST-MODIFIED:20230110T103914Z
UID:10003552-1677657600-1677690000@collaroysurfclub.com.au
SUMMARY:NSW Surf Lifesaving Championships - Masters
DESCRIPTION:
URL:https://collaroysurfclub.com.au/event/nsw-surf-lifesaving-championships-masters/2023-03-01/
LOCATION:Queenscliff SLSC\, 677Q+J4 Manly\, New South Wales\, Australia
CATEGORIES:Carnival
END:VEVENT
BEGIN:VEVENT
DTSTART;TZID=Australia/Sydney:20230302T080000
DTEND;TZID=Australia/Sydney:20230302T170000
DTSTAMP:20260426T104730
CREATED:20230110T103914Z
LAST-MODIFIED:20230110T103914Z
UID:10003553-1677744000-1677776400@collaroysurfclub.com.au
SUMMARY:NSW Surf Lifesaving Championships - Masters
DESCRIPTION:
URL:https://collaroysurfclub.com.au/event/nsw-surf-lifesaving-championships-masters/2023-03-02/
LOCATION:Queenscliff SLSC\, 677Q+J4 Manly\, New South Wales\, Australia
CATEGORIES:Carnival
END:VEVENT
BEGIN:VEVENT
DTSTART;TZID=Australia/Sydney:20230303T080000
DTEND;TZID=Australia/Sydney:20230303T170000
DTSTAMP:20260426T104730
CREATED:20230110T104057Z
LAST-MODIFIED:20230110T104057Z
UID:10003554-1677830400-1677862800@collaroysurfclub.com.au
SUMMARY:NSW Surf Lifesaving Championships - Surf Boats
DESCRIPTION:
URL:https://collaroysurfclub.com.au/event/nsw-surf-lifesaving-championships-surf-boats/2023-03-03/
LOCATION:North Steyne SLSC\, 675P+JP Manly\, New South Wales
CATEGORIES:Carnival
END:VEVENT
BEGIN:VEVENT
DTSTART;TZID=Australia/Sydney:20230303T080000
DTEND;TZID=Australia/Sydney:20230303T170000
DTSTAMP:20260426T104730
CREATED:20230110T105304Z
LAST-MODIFIED:20230110T105304Z
UID:10003557-1677830400-1677862800@collaroysurfclub.com.au
SUMMARY:NSW Surf Lifesaving Championships - Opens
DESCRIPTION:
URL:https://collaroysurfclub.com.au/event/nsw-surf-lifesaving-championships-opens/2023-03-03/
LOCATION:Queenscliff SLSC\, 677Q+J4 Manly\, New South Wales\, Australia
CATEGORIES:Carnival
END:VEVENT
BEGIN:VEVENT
DTSTART;TZID=Australia/Sydney:20230304T080000
DTEND;TZID=Australia/Sydney:20230304T170000
DTSTAMP:20260426T104730
CREATED:20230110T104057Z
LAST-MODIFIED:20230110T104057Z
UID:10003555-1677916800-1677949200@collaroysurfclub.com.au
SUMMARY:NSW Surf Lifesaving Championships - Surf Boats
DESCRIPTION:
URL:https://collaroysurfclub.com.au/event/nsw-surf-lifesaving-championships-surf-boats/2023-03-04/
LOCATION:North Steyne SLSC\, 675P+JP Manly\, New South Wales
CATEGORIES:Carnival
END:VEVENT
BEGIN:VEVENT
DTSTART;TZID=Australia/Sydney:20230304T080000
DTEND;TZID=Australia/Sydney:20230304T170000
DTSTAMP:20260426T104730
CREATED:20230110T105304Z
LAST-MODIFIED:20230110T105304Z
UID:10003558-1677916800-1677949200@collaroysurfclub.com.au
SUMMARY:NSW Surf Lifesaving Championships - Opens
DESCRIPTION:
URL:https://collaroysurfclub.com.au/event/nsw-surf-lifesaving-championships-opens/2023-03-04/
LOCATION:Queenscliff SLSC\, 677Q+J4 Manly\, New South Wales\, Australia
CATEGORIES:Carnival
END:VEVENT
BEGIN:VEVENT
DTSTART;TZID=Australia/Sydney:20230304T084500
DTEND;TZID=Australia/Sydney:20230304T170000
DTSTAMP:20260426T104730
CREATED:20220906T123041Z
LAST-MODIFIED:20220906T123539Z
UID:10003326-1677919500-1677949200@collaroysurfclub.com.au
SUMMARY:Volunteer Patrol
DESCRIPTION:
URL:https://collaroysurfclub.com.au/event/volunteer-patrol-2/2023-03-04/
LOCATION:Collaroy SLSC\, 1054 Pittwater Road\,\, Collaroy\, Australia
CATEGORIES:Patrol Volunteer
GEO:33"43'58"S;151"18'08"E
X-APPLE-STRUCTURED-LOCATION;VALUE=URI;X-ADDRESS=Collaroy SLSC 1054 Pittwater Road Collaroy Australia;X-APPLE-RADIUS=500;X-TITLE=1054 Pittwater Road\,:geo:151"18'08"E,33"43'58"S
END:VEVENT
END:VCALENDAR