BEGIN:VCALENDAR
VERSION:2.0
PRODID:-//Collaroy Surf Life Saving Club - ECPv6.15.20//NONSGML v1.0//EN
CALSCALE:GREGORIAN
METHOD:PUBLISH
X-ORIGINAL-URL:https://collaroysurfclub.com.au
X-WR-CALDESC:Events for Collaroy Surf Life Saving Club
REFRESH-INTERVAL;VALUE=DURATION:PT1H
X-Robots-Tag:noindex
X-PUBLISHED-TTL:PT1H
BEGIN:VTIMEZONE
TZID:Australia/Sydney
BEGIN:STANDARD
TZOFFSETFROM:+1100
TZOFFSETTO:+1000
TZNAME:AEST
DTSTART:20220402T160000
END:STANDARD
BEGIN:DAYLIGHT
TZOFFSETFROM:+1000
TZOFFSETTO:+1100
TZNAME:AEDT
DTSTART:20221001T160000
END:DAYLIGHT
BEGIN:STANDARD
TZOFFSETFROM:+1100
TZOFFSETTO:+1000
TZNAME:AEST
DTSTART:20230401T160000
END:STANDARD
BEGIN:DAYLIGHT
TZOFFSETFROM:+1000
TZOFFSETTO:+1100
TZNAME:AEDT
DTSTART:20230930T160000
END:DAYLIGHT
BEGIN:STANDARD
TZOFFSETFROM:+1100
TZOFFSETTO:+1000
TZNAME:AEST
DTSTART:20240406T160000
END:STANDARD
BEGIN:DAYLIGHT
TZOFFSETFROM:+1000
TZOFFSETTO:+1100
TZNAME:AEDT
DTSTART:20241005T160000
END:DAYLIGHT
BEGIN:STANDARD
TZOFFSETFROM:+1100
TZOFFSETTO:+1000
TZNAME:AEST
DTSTART:20250405T160000
END:STANDARD
BEGIN:DAYLIGHT
TZOFFSETFROM:+1000
TZOFFSETTO:+1100
TZNAME:AEDT
DTSTART:20251004T160000
END:DAYLIGHT
END:VTIMEZONE
BEGIN:VEVENT
DTSTART;TZID=Australia/Sydney:20231216T084500
DTEND;TZID=Australia/Sydney:20231216T133000
DTSTAMP:20260421T132547
CREATED:20230919T001514Z
LAST-MODIFIED:20230919T001514Z
UID:10003688-1702716300-1702733400@collaroysurfclub.com.au
SUMMARY:AM Patrol - Patrol 7
DESCRIPTION:
URL:https://collaroysurfclub.com.au/event/am-patrol-patrol-7/2023-12-16/
LOCATION:Collaroy SLSC\, 1054 Pittwater Road\,\, Collaroy\, Australia
CATEGORIES:Patrol 7
GEO:33"43'58"S;151"18'08"E
X-APPLE-STRUCTURED-LOCATION;VALUE=URI;X-ADDRESS=Collaroy SLSC 1054 Pittwater Road Collaroy Australia;X-APPLE-RADIUS=500;X-TITLE=1054 Pittwater Road\,:geo:151"18'08"E,33"43'58"S
END:VEVENT
BEGIN:VEVENT
DTSTART;TZID=Australia/Sydney:20231216T090000
DTEND;TZID=Australia/Sydney:20231216T110000
DTSTAMP:20260421T132547
CREATED:20231013T101512Z
LAST-MODIFIED:20231013T224039Z
UID:10003875-1702717200-1702724400@collaroysurfclub.com.au
SUMMARY:Bronze/SRC Skills Update
DESCRIPTION:All active lifesavers are required to complete a skills maintenance to demonstrate\ncompetency in the lifesaving award/s they hold and in which they wish to remain current. \nIf you wish to patrol or compete this season you must complete the update prior to December 31\, 2023.
URL:https://collaroysurfclub.com.au/event/bronze-src-skills-update/2023-12-16/
LOCATION:Collaroy SLSC\, 1054 Pittwater Road\,\, Collaroy\, Australia
CATEGORIES:Training
GEO:33"43'58"S;151"18'08"E
X-APPLE-STRUCTURED-LOCATION;VALUE=URI;X-ADDRESS=Collaroy SLSC 1054 Pittwater Road Collaroy Australia;X-APPLE-RADIUS=500;X-TITLE=1054 Pittwater Road\,:geo:151"18'08"E,33"43'58"S
END:VEVENT
BEGIN:VEVENT
DTSTART;TZID=Australia/Sydney:20231216T131500
DTEND;TZID=Australia/Sydney:20231216T180000
DTSTAMP:20260421T132547
CREATED:20230919T005538Z
LAST-MODIFIED:20230919T012230Z
UID:10003806-1702732500-1702749600@collaroysurfclub.com.au
SUMMARY:PM Patrol - Patrol 5
DESCRIPTION:
URL:https://collaroysurfclub.com.au/event/pm-patrol-patrol-5/2023-12-16/
LOCATION:Collaroy SLSC\, 1054 Pittwater Road\,\, Collaroy\, Australia
CATEGORIES:Patrol 5
GEO:33"43'58"S;151"18'08"E
X-APPLE-STRUCTURED-LOCATION;VALUE=URI;X-ADDRESS=Collaroy SLSC 1054 Pittwater Road Collaroy Australia;X-APPLE-RADIUS=500;X-TITLE=1054 Pittwater Road\,:geo:151"18'08"E,33"43'58"S
END:VEVENT
BEGIN:VEVENT
DTSTART;TZID=Australia/Sydney:20231217T081500
DTEND;TZID=Australia/Sydney:20231217T113000
DTSTAMP:20260421T132547
CREATED:20230711T004144Z
LAST-MODIFIED:20240209T055052Z
UID:10003853-1702800900-1702812600@collaroysurfclub.com.au
SUMMARY:Nippers
DESCRIPTION:U6 – U8 at 8.30am\, U9 – U14 at 9.45am \n\n\n\nPlease arrive 15 minutes early and join your age group on the beach infront of the clubhouse.
URL:https://collaroysurfclub.com.au/event/first-nippers/2023-12-17/
LOCATION:Collaroy SLSC\, 1054 Pittwater Road\,\, Collaroy\, Australia
CATEGORIES:Nippers
GEO:33"43'58"S;151"18'08"E
X-APPLE-STRUCTURED-LOCATION;VALUE=URI;X-ADDRESS=Collaroy SLSC 1054 Pittwater Road Collaroy Australia;X-APPLE-RADIUS=500;X-TITLE=1054 Pittwater Road\,:geo:151"18'08"E,33"43'58"S
END:VEVENT
BEGIN:VEVENT
DTSTART;TZID=Australia/Sydney:20231217T084500
DTEND;TZID=Australia/Sydney:20231217T133000
DTSTAMP:20260421T132547
CREATED:20230919T002154Z
LAST-MODIFIED:20230919T002154Z
UID:10003702-1702802700-1702819800@collaroysurfclub.com.au
SUMMARY:AM Patrol - Patrol 9
DESCRIPTION:
URL:https://collaroysurfclub.com.au/event/am-patrol-patrol-9/2023-12-17/
LOCATION:Collaroy SLSC\, 1054 Pittwater Road\,\, Collaroy\, Australia
CATEGORIES:Patrol 9
GEO:33"43'58"S;151"18'08"E
X-APPLE-STRUCTURED-LOCATION;VALUE=URI;X-ADDRESS=Collaroy SLSC 1054 Pittwater Road Collaroy Australia;X-APPLE-RADIUS=500;X-TITLE=1054 Pittwater Road\,:geo:151"18'08"E,33"43'58"S
END:VEVENT
BEGIN:VEVENT
DTSTART;TZID=Australia/Sydney:20231217T131500
DTEND;TZID=Australia/Sydney:20231217T180000
DTSTAMP:20260421T132547
CREATED:20230919T010112Z
LAST-MODIFIED:20230919T011611Z
UID:10003774-1702818900-1702836000@collaroysurfclub.com.au
SUMMARY:PM Patrol - Patrol 8
DESCRIPTION:
URL:https://collaroysurfclub.com.au/event/pm-patrol-patrol-8/2023-12-17/
LOCATION:Collaroy SLSC\, 1054 Pittwater Road\,\, Collaroy\, Australia
CATEGORIES:Patrol 8
GEO:33"43'58"S;151"18'08"E
X-APPLE-STRUCTURED-LOCATION;VALUE=URI;X-ADDRESS=Collaroy SLSC 1054 Pittwater Road Collaroy Australia;X-APPLE-RADIUS=500;X-TITLE=1054 Pittwater Road\,:geo:151"18'08"E,33"43'58"S
END:VEVENT
BEGIN:VEVENT
DTSTART;TZID=Australia/Sydney:20231223T084500
DTEND;TZID=Australia/Sydney:20231223T133000
DTSTAMP:20260421T132547
CREATED:20230919T002416Z
LAST-MODIFIED:20230919T003757Z
UID:10003731-1703321100-1703338200@collaroysurfclub.com.au
SUMMARY:AM Patrol - Patrol 11
DESCRIPTION:
URL:https://collaroysurfclub.com.au/event/am-patrol-patrol-11/2023-12-23/
LOCATION:Collaroy SLSC\, 1054 Pittwater Road\,\, Collaroy\, Australia
CATEGORIES:Patrol 11
GEO:33"43'58"S;151"18'08"E
X-APPLE-STRUCTURED-LOCATION;VALUE=URI;X-ADDRESS=Collaroy SLSC 1054 Pittwater Road Collaroy Australia;X-APPLE-RADIUS=500;X-TITLE=1054 Pittwater Road\,:geo:151"18'08"E,33"43'58"S
END:VEVENT
BEGIN:VEVENT
DTSTART;TZID=Australia/Sydney:20231223T131500
DTEND;TZID=Australia/Sydney:20231223T180000
DTSTAMP:20260421T132547
CREATED:20230919T004615Z
LAST-MODIFIED:20230919T004615Z
UID:10003739-1703337300-1703354400@collaroysurfclub.com.au
SUMMARY:PM Patrol - Patrol 1
DESCRIPTION:
URL:https://collaroysurfclub.com.au/event/pm-patrol-patrol-1/2023-12-23/
LOCATION:Collaroy SLSC\, 1054 Pittwater Road\,\, Collaroy\, Australia
CATEGORIES:Patrol 1
GEO:33"43'58"S;151"18'08"E
X-APPLE-STRUCTURED-LOCATION;VALUE=URI;X-ADDRESS=Collaroy SLSC 1054 Pittwater Road Collaroy Australia;X-APPLE-RADIUS=500;X-TITLE=1054 Pittwater Road\,:geo:151"18'08"E,33"43'58"S
END:VEVENT
BEGIN:VEVENT
DTSTART;TZID=Australia/Sydney:20231224T084500
DTEND;TZID=Australia/Sydney:20231224T133000
DTSTAMP:20260421T132547
CREATED:20230919T001222Z
LAST-MODIFIED:20230919T001222Z
UID:10003682-1703407500-1703424600@collaroysurfclub.com.au
SUMMARY:AM Patrol - Patrol 5
DESCRIPTION:
URL:https://collaroysurfclub.com.au/event/am-patrol-patrol-5/2023-12-24/
LOCATION:Collaroy SLSC\, 1054 Pittwater Road\,\, Collaroy\, Australia
CATEGORIES:Patrol 5
GEO:33"43'58"S;151"18'08"E
X-APPLE-STRUCTURED-LOCATION;VALUE=URI;X-ADDRESS=Collaroy SLSC 1054 Pittwater Road Collaroy Australia;X-APPLE-RADIUS=500;X-TITLE=1054 Pittwater Road\,:geo:151"18'08"E,33"43'58"S
END:VEVENT
BEGIN:VEVENT
DTSTART;TZID=Australia/Sydney:20231224T131500
DTEND;TZID=Australia/Sydney:20231224T180000
DTSTAMP:20260421T132547
CREATED:20230919T011020Z
LAST-MODIFIED:20230919T011020Z
UID:10003798-1703423700-1703440800@collaroysurfclub.com.au
SUMMARY:PM Patrol - Patrol 12
DESCRIPTION:
URL:https://collaroysurfclub.com.au/event/pm-patrol-patrol-12/2023-12-24/
LOCATION:Collaroy SLSC\, 1054 Pittwater Road\,\, Collaroy\, Australia
CATEGORIES:Patrol 12
GEO:33"43'58"S;151"18'08"E
X-APPLE-STRUCTURED-LOCATION;VALUE=URI;X-ADDRESS=Collaroy SLSC 1054 Pittwater Road Collaroy Australia;X-APPLE-RADIUS=500;X-TITLE=1054 Pittwater Road\,:geo:151"18'08"E,33"43'58"S
END:VEVENT
BEGIN:VEVENT
DTSTART;TZID=Australia/Sydney:20231225T084500
DTEND;TZID=Australia/Sydney:20231225T133000
DTSTAMP:20260421T132547
CREATED:20230919T003954Z
LAST-MODIFIED:20230919T004025Z
UID:10003735-1703493900-1703511000@collaroysurfclub.com.au
SUMMARY:AM Patrol - VOLUNTEER
DESCRIPTION:
URL:https://collaroysurfclub.com.au/event/am-patrol-volunteer/2023-12-25/
LOCATION:Collaroy SLSC\, 1054 Pittwater Road\,\, Collaroy\, Australia
CATEGORIES:Patrol Volunteer
GEO:33"43'58"S;151"18'08"E
X-APPLE-STRUCTURED-LOCATION;VALUE=URI;X-ADDRESS=Collaroy SLSC 1054 Pittwater Road Collaroy Australia;X-APPLE-RADIUS=500;X-TITLE=1054 Pittwater Road\,:geo:151"18'08"E,33"43'58"S
END:VEVENT
BEGIN:VEVENT
DTSTART;TZID=Australia/Sydney:20231225T131500
DTEND;TZID=Australia/Sydney:20231225T180000
DTSTAMP:20260421T132547
CREATED:20230919T011203Z
LAST-MODIFIED:20230919T011227Z
UID:10003803-1703510100-1703527200@collaroysurfclub.com.au
SUMMARY:PM Patrol - VOLUNTEER
DESCRIPTION:
URL:https://collaroysurfclub.com.au/event/pm-patrol-volunteer/2023-12-25/
LOCATION:Collaroy SLSC\, 1054 Pittwater Road\,\, Collaroy\, Australia
CATEGORIES:Patrol Volunteer
GEO:33"43'58"S;151"18'08"E
X-APPLE-STRUCTURED-LOCATION;VALUE=URI;X-ADDRESS=Collaroy SLSC 1054 Pittwater Road Collaroy Australia;X-APPLE-RADIUS=500;X-TITLE=1054 Pittwater Road\,:geo:151"18'08"E,33"43'58"S
END:VEVENT
BEGIN:VEVENT
DTSTART;TZID=Australia/Sydney:20231226T084500
DTEND;TZID=Australia/Sydney:20231226T133000
DTSTAMP:20260421T132547
CREATED:20230919T000542Z
LAST-MODIFIED:20230919T000542Z
UID:10003668-1703580300-1703597400@collaroysurfclub.com.au
SUMMARY:AM Patrol - Patrol 2
DESCRIPTION:
URL:https://collaroysurfclub.com.au/event/am-patrol-patrol-2/2023-12-26/
LOCATION:Collaroy SLSC\, 1054 Pittwater Road\,\, Collaroy\, Australia
CATEGORIES:Patrol 2
GEO:33"43'58"S;151"18'08"E
X-APPLE-STRUCTURED-LOCATION;VALUE=URI;X-ADDRESS=Collaroy SLSC 1054 Pittwater Road Collaroy Australia;X-APPLE-RADIUS=500;X-TITLE=1054 Pittwater Road\,:geo:151"18'08"E,33"43'58"S
END:VEVENT
BEGIN:VEVENT
DTSTART;TZID=Australia/Sydney:20231226T131500
DTEND;TZID=Australia/Sydney:20231226T180000
DTSTAMP:20260421T132547
CREATED:20230919T004615Z
LAST-MODIFIED:20230919T004615Z
UID:10003740-1703596500-1703613600@collaroysurfclub.com.au
SUMMARY:PM Patrol - Patrol 1
DESCRIPTION:
URL:https://collaroysurfclub.com.au/event/pm-patrol-patrol-1/2023-12-26/
LOCATION:Collaroy SLSC\, 1054 Pittwater Road\,\, Collaroy\, Australia
CATEGORIES:Patrol 1
GEO:33"43'58"S;151"18'08"E
X-APPLE-STRUCTURED-LOCATION;VALUE=URI;X-ADDRESS=Collaroy SLSC 1054 Pittwater Road Collaroy Australia;X-APPLE-RADIUS=500;X-TITLE=1054 Pittwater Road\,:geo:151"18'08"E,33"43'58"S
END:VEVENT
BEGIN:VEVENT
DTSTART;TZID=Australia/Sydney:20231230T084500
DTEND;TZID=Australia/Sydney:20231230T133000
DTSTAMP:20260421T132547
CREATED:20230919T002613Z
LAST-MODIFIED:20230919T012114Z
UID:10003713-1703925900-1703943000@collaroysurfclub.com.au
SUMMARY:AM Patrol - Patrol 12
DESCRIPTION:
URL:https://collaroysurfclub.com.au/event/am-patrol-patrol-12/2023-12-30/
LOCATION:Collaroy SLSC\, 1054 Pittwater Road\,\, Collaroy\, Australia
CATEGORIES:Patrol 12
GEO:33"43'58"S;151"18'08"E
X-APPLE-STRUCTURED-LOCATION;VALUE=URI;X-ADDRESS=Collaroy SLSC 1054 Pittwater Road Collaroy Australia;X-APPLE-RADIUS=500;X-TITLE=1054 Pittwater Road\,:geo:151"18'08"E,33"43'58"S
END:VEVENT
BEGIN:VEVENT
DTSTART;TZID=Australia/Sydney:20231230T131500
DTEND;TZID=Australia/Sydney:20231230T180000
DTSTAMP:20260421T132547
CREATED:20230919T005256Z
LAST-MODIFIED:20230919T005256Z
UID:10003753-1703942100-1703959200@collaroysurfclub.com.au
SUMMARY:PM Patrol - Patrol 4
DESCRIPTION:
URL:https://collaroysurfclub.com.au/event/pm-patrol-patrol-4/2023-12-30/
LOCATION:Collaroy SLSC\, 1054 Pittwater Road\,\, Collaroy\, Australia
CATEGORIES:Patrol 4
GEO:33"43'58"S;151"18'08"E
X-APPLE-STRUCTURED-LOCATION;VALUE=URI;X-ADDRESS=Collaroy SLSC 1054 Pittwater Road Collaroy Australia;X-APPLE-RADIUS=500;X-TITLE=1054 Pittwater Road\,:geo:151"18'08"E,33"43'58"S
END:VEVENT
BEGIN:VEVENT
DTSTART;TZID=Australia/Sydney:20231231T084500
DTEND;TZID=Australia/Sydney:20231231T133000
DTSTAMP:20260421T132547
CREATED:20230919T001844Z
LAST-MODIFIED:20230919T001844Z
UID:10003695-1704012300-1704029400@collaroysurfclub.com.au
SUMMARY:AM Patrol - Patrol 8
DESCRIPTION:
URL:https://collaroysurfclub.com.au/event/am-patrol-patrol-8/2023-12-31/
LOCATION:Collaroy SLSC\, 1054 Pittwater Road\,\, Collaroy\, Australia
CATEGORIES:Patrol 8
GEO:33"43'58"S;151"18'08"E
X-APPLE-STRUCTURED-LOCATION;VALUE=URI;X-ADDRESS=Collaroy SLSC 1054 Pittwater Road Collaroy Australia;X-APPLE-RADIUS=500;X-TITLE=1054 Pittwater Road\,:geo:151"18'08"E,33"43'58"S
END:VEVENT
BEGIN:VEVENT
DTSTART;TZID=Australia/Sydney:20231231T131500
DTEND;TZID=Australia/Sydney:20231231T180000
DTSTAMP:20260421T132547
CREATED:20230919T010728Z
LAST-MODIFIED:20230919T010728Z
UID:10003790-1704028500-1704045600@collaroysurfclub.com.au
SUMMARY:PM Patrol - Patrol 11
DESCRIPTION:
URL:https://collaroysurfclub.com.au/event/pm-patrol-patrol-11/2023-12-31/
LOCATION:Collaroy SLSC\, 1054 Pittwater Road\,\, Collaroy\, Australia
CATEGORIES:Patrol 11
GEO:33"43'58"S;151"18'08"E
X-APPLE-STRUCTURED-LOCATION;VALUE=URI;X-ADDRESS=Collaroy SLSC 1054 Pittwater Road Collaroy Australia;X-APPLE-RADIUS=500;X-TITLE=1054 Pittwater Road\,:geo:151"18'08"E,33"43'58"S
END:VEVENT
BEGIN:VEVENT
DTSTART;TZID=Australia/Sydney:20240101T084500
DTEND;TZID=Australia/Sydney:20240101T133000
DTSTAMP:20260421T132547
CREATED:20230919T001222Z
LAST-MODIFIED:20230919T001222Z
UID:10003683-1704098700-1704115800@collaroysurfclub.com.au
SUMMARY:AM Patrol - Patrol 5
DESCRIPTION:
URL:https://collaroysurfclub.com.au/event/am-patrol-patrol-5/2024-01-01/
LOCATION:Collaroy SLSC\, 1054 Pittwater Road\,\, Collaroy\, Australia
CATEGORIES:Patrol 5
GEO:33"43'58"S;151"18'08"E
X-APPLE-STRUCTURED-LOCATION;VALUE=URI;X-ADDRESS=Collaroy SLSC 1054 Pittwater Road Collaroy Australia;X-APPLE-RADIUS=500;X-TITLE=1054 Pittwater Road\,:geo:151"18'08"E,33"43'58"S
END:VEVENT
BEGIN:VEVENT
DTSTART;TZID=Australia/Sydney:20240101T131500
DTEND;TZID=Australia/Sydney:20240101T180000
DTSTAMP:20260421T132547
CREATED:20230919T005817Z
LAST-MODIFIED:20230919T011716Z
UID:10003808-1704114900-1704132000@collaroysurfclub.com.au
SUMMARY:PM Patrol - Patrol 7
DESCRIPTION:
URL:https://collaroysurfclub.com.au/event/pm-patrol-patrol-7/2024-01-01/
LOCATION:Collaroy SLSC\, 1054 Pittwater Road\,\, Collaroy\, Australia
CATEGORIES:Patrol 7
GEO:33"43'58"S;151"18'08"E
X-APPLE-STRUCTURED-LOCATION;VALUE=URI;X-ADDRESS=Collaroy SLSC 1054 Pittwater Road Collaroy Australia;X-APPLE-RADIUS=500;X-TITLE=1054 Pittwater Road\,:geo:151"18'08"E,33"43'58"S
END:VEVENT
BEGIN:VEVENT
DTSTART;VALUE=DATE:20240105
DTEND;VALUE=DATE:20240106
DTSTAMP:20260421T132547
CREATED:20230919T062413Z
LAST-MODIFIED:20230919T062413Z
UID:10003826-1704412800-1704499199@collaroysurfclub.com.au
SUMMARY:Adrian Lewis Palm Beach Masters
DESCRIPTION:
URL:https://collaroysurfclub.com.au/event/adrian-lewis-palm-beach-masters/
LOCATION:Palm Beach SLSC\, 32 Ocean Rd\, Palm Beach
CATEGORIES:Carnival
END:VEVENT
BEGIN:VEVENT
DTSTART;TZID=Australia/Sydney:20240106T084500
DTEND;TZID=Australia/Sydney:20240106T133000
DTSTAMP:20260421T132547
CREATED:20230919T002957Z
LAST-MODIFIED:20230919T002957Z
UID:10003720-1704530700-1704547800@collaroysurfclub.com.au
SUMMARY:AM Patrol - Patrol LS 1
DESCRIPTION:
URL:https://collaroysurfclub.com.au/event/am-patrol-patrol-ls-1/2024-01-06/
LOCATION:Collaroy SLSC\, 1054 Pittwater Road\,\, Collaroy\, Australia
CATEGORIES:Patrol LS1
GEO:33"43'58"S;151"18'08"E
X-APPLE-STRUCTURED-LOCATION;VALUE=URI;X-ADDRESS=Collaroy SLSC 1054 Pittwater Road Collaroy Australia;X-APPLE-RADIUS=500;X-TITLE=1054 Pittwater Road\,:geo:151"18'08"E,33"43'58"S
END:VEVENT
BEGIN:VEVENT
DTSTART;TZID=Australia/Sydney:20240106T131500
DTEND;TZID=Australia/Sydney:20240106T180000
DTSTAMP:20260421T132547
CREATED:20230919T010728Z
LAST-MODIFIED:20230919T010728Z
UID:10003791-1704546900-1704564000@collaroysurfclub.com.au
SUMMARY:PM Patrol - Patrol 11
DESCRIPTION:
URL:https://collaroysurfclub.com.au/event/pm-patrol-patrol-11/2024-01-06/
LOCATION:Collaroy SLSC\, 1054 Pittwater Road\,\, Collaroy\, Australia
CATEGORIES:Patrol 11
GEO:33"43'58"S;151"18'08"E
X-APPLE-STRUCTURED-LOCATION;VALUE=URI;X-ADDRESS=Collaroy SLSC 1054 Pittwater Road Collaroy Australia;X-APPLE-RADIUS=500;X-TITLE=1054 Pittwater Road\,:geo:151"18'08"E,33"43'58"S
END:VEVENT
BEGIN:VEVENT
DTSTART;VALUE=DATE:20240107
DTEND;VALUE=DATE:20240108
DTSTAMP:20260421T132547
CREATED:20230919T061417Z
LAST-MODIFIED:20231004T230444Z
UID:10003816-1704585600-1704671999@collaroysurfclub.com.au
SUMMARY:Nippers Carnival - Beach
DESCRIPTION:
URL:https://collaroysurfclub.com.au/event/nippers-carnival-beach-3/
LOCATION:Narrabeen SLSC\, 77MX+XW Narrabeen\, New South Wales
CATEGORIES:Carnival,Nippers
END:VEVENT
BEGIN:VEVENT
DTSTART;TZID=Australia/Sydney:20240107T081500
DTEND;TZID=Australia/Sydney:20240107T113000
DTSTAMP:20260421T132547
CREATED:20230711T004144Z
LAST-MODIFIED:20240209T055052Z
UID:10003856-1704615300-1704627000@collaroysurfclub.com.au
SUMMARY:Nippers
DESCRIPTION:U6 – U8 at 8.30am\, U9 – U14 at 9.45am \n\n\n\nPlease arrive 15 minutes early and join your age group on the beach infront of the clubhouse.
URL:https://collaroysurfclub.com.au/event/first-nippers/2024-01-07/
LOCATION:Collaroy SLSC\, 1054 Pittwater Road\,\, Collaroy\, Australia
CATEGORIES:Nippers
GEO:33"43'58"S;151"18'08"E
X-APPLE-STRUCTURED-LOCATION;VALUE=URI;X-ADDRESS=Collaroy SLSC 1054 Pittwater Road Collaroy Australia;X-APPLE-RADIUS=500;X-TITLE=1054 Pittwater Road\,:geo:151"18'08"E,33"43'58"S
END:VEVENT
BEGIN:VEVENT
DTSTART;TZID=Australia/Sydney:20240107T084500
DTEND;TZID=Australia/Sydney:20240107T133000
DTSTAMP:20260421T132547
CREATED:20230919T003150Z
LAST-MODIFIED:20230919T011901Z
UID:10003727-1704617100-1704634200@collaroysurfclub.com.au
SUMMARY:AM Patrol - Patrol LS 2
DESCRIPTION:
URL:https://collaroysurfclub.com.au/event/am-patrol-patrol-ls-2/2024-01-07/
LOCATION:Collaroy SLSC\, 1054 Pittwater Road\,\, Collaroy\, Australia
CATEGORIES:Patrol LS2
GEO:33"43'58"S;151"18'08"E
X-APPLE-STRUCTURED-LOCATION;VALUE=URI;X-ADDRESS=Collaroy SLSC 1054 Pittwater Road Collaroy Australia;X-APPLE-RADIUS=500;X-TITLE=1054 Pittwater Road\,:geo:151"18'08"E,33"43'58"S
END:VEVENT
BEGIN:VEVENT
DTSTART;TZID=Australia/Sydney:20240107T131500
DTEND;TZID=Australia/Sydney:20240107T180000
DTSTAMP:20260421T132547
CREATED:20230919T011020Z
LAST-MODIFIED:20230919T011020Z
UID:10003799-1704633300-1704650400@collaroysurfclub.com.au
SUMMARY:PM Patrol - Patrol 12
DESCRIPTION:
URL:https://collaroysurfclub.com.au/event/pm-patrol-patrol-12/2024-01-07/
LOCATION:Collaroy SLSC\, 1054 Pittwater Road\,\, Collaroy\, Australia
CATEGORIES:Patrol 12
GEO:33"43'58"S;151"18'08"E
X-APPLE-STRUCTURED-LOCATION;VALUE=URI;X-ADDRESS=Collaroy SLSC 1054 Pittwater Road Collaroy Australia;X-APPLE-RADIUS=500;X-TITLE=1054 Pittwater Road\,:geo:151"18'08"E,33"43'58"S
END:VEVENT
BEGIN:VEVENT
DTSTART;VALUE=DATE:20240113
DTEND;VALUE=DATE:20240114
DTSTAMP:20260421T132547
CREATED:20230919T061937Z
LAST-MODIFIED:20230919T061937Z
UID:10003821-1705104000-1705190399@collaroysurfclub.com.au
SUMMARY:Surf Boats - Premiership Round 3
DESCRIPTION:State Selection U19/23’s
URL:https://collaroysurfclub.com.au/event/surf-boats-premiership-round-3/
LOCATION:North Steyne SLSC\, 675P+JP Manly\, New South Wales
CATEGORIES:Carnival
END:VEVENT
BEGIN:VEVENT
DTSTART;TZID=Australia/Sydney:20240113T084500
DTEND;TZID=Australia/Sydney:20240113T133000
DTSTAMP:20260421T132547
CREATED:20230919T000933Z
LAST-MODIFIED:20230919T000933Z
UID:10003677-1705135500-1705152600@collaroysurfclub.com.au
SUMMARY:AM Patrol - Patrol 4
DESCRIPTION:
URL:https://collaroysurfclub.com.au/event/am-patrol-patrol-4/2024-01-13/
LOCATION:Collaroy SLSC\, 1054 Pittwater Road\,\, Collaroy\, Australia
CATEGORIES:Patrol 4
GEO:33"43'58"S;151"18'08"E
X-APPLE-STRUCTURED-LOCATION;VALUE=URI;X-ADDRESS=Collaroy SLSC 1054 Pittwater Road Collaroy Australia;X-APPLE-RADIUS=500;X-TITLE=1054 Pittwater Road\,:geo:151"18'08"E,33"43'58"S
END:VEVENT
BEGIN:VEVENT
DTSTART;TZID=Australia/Sydney:20240113T131500
DTEND;TZID=Australia/Sydney:20240113T180000
DTSTAMP:20260421T132547
CREATED:20230919T004949Z
LAST-MODIFIED:20230919T004949Z
UID:10003747-1705151700-1705168800@collaroysurfclub.com.au
SUMMARY:PM Patrol - Patrol 2
DESCRIPTION:
URL:https://collaroysurfclub.com.au/event/pm-patrol-patrol-2/2024-01-13/
LOCATION:Collaroy SLSC\, 1054 Pittwater Road\,\, Collaroy\, Australia
CATEGORIES:Patrol 2
GEO:33"43'58"S;151"18'08"E
X-APPLE-STRUCTURED-LOCATION;VALUE=URI;X-ADDRESS=Collaroy SLSC 1054 Pittwater Road Collaroy Australia;X-APPLE-RADIUS=500;X-TITLE=1054 Pittwater Road\,:geo:151"18'08"E,33"43'58"S
END:VEVENT
END:VCALENDAR