BEGIN:VCALENDAR
VERSION:2.0
PRODID:-//Collaroy Surf Life Saving Club - ECPv6.15.20//NONSGML v1.0//EN
CALSCALE:GREGORIAN
METHOD:PUBLISH
X-ORIGINAL-URL:https://collaroysurfclub.com.au
X-WR-CALDESC:Events for Collaroy Surf Life Saving Club
REFRESH-INTERVAL;VALUE=DURATION:PT1H
X-Robots-Tag:noindex
X-PUBLISHED-TTL:PT1H
BEGIN:VTIMEZONE
TZID:Australia/Sydney
BEGIN:STANDARD
TZOFFSETFROM:+1100
TZOFFSETTO:+1000
TZNAME:AEST
DTSTART:20220402T160000
END:STANDARD
BEGIN:DAYLIGHT
TZOFFSETFROM:+1000
TZOFFSETTO:+1100
TZNAME:AEDT
DTSTART:20221001T160000
END:DAYLIGHT
BEGIN:STANDARD
TZOFFSETFROM:+1100
TZOFFSETTO:+1000
TZNAME:AEST
DTSTART:20230401T160000
END:STANDARD
BEGIN:DAYLIGHT
TZOFFSETFROM:+1000
TZOFFSETTO:+1100
TZNAME:AEDT
DTSTART:20230930T160000
END:DAYLIGHT
BEGIN:STANDARD
TZOFFSETFROM:+1100
TZOFFSETTO:+1000
TZNAME:AEST
DTSTART:20240406T160000
END:STANDARD
BEGIN:DAYLIGHT
TZOFFSETFROM:+1000
TZOFFSETTO:+1100
TZNAME:AEDT
DTSTART:20241005T160000
END:DAYLIGHT
END:VTIMEZONE
BEGIN:VEVENT
DTSTART;TZID=Australia/Sydney:20231028T084500
DTEND;TZID=Australia/Sydney:20231028T130000
DTSTAMP:20260426T131552
CREATED:20230919T002613Z
LAST-MODIFIED:20230919T012114Z
UID:10003711-1698482700-1698498000@collaroysurfclub.com.au
SUMMARY:AM Patrol - Patrol 12
DESCRIPTION:
URL:https://collaroysurfclub.com.au/event/am-patrol-patrol-12/2023-10-28/
LOCATION:Collaroy SLSC\, 1054 Pittwater Road\,\, Collaroy\, Australia
CATEGORIES:Patrol 12
GEO:33"43'58"S;151"18'08"E
X-APPLE-STRUCTURED-LOCATION;VALUE=URI;X-ADDRESS=Collaroy SLSC 1054 Pittwater Road Collaroy Australia;X-APPLE-RADIUS=500;X-TITLE=1054 Pittwater Road\,:geo:151"18'08"E,33"43'58"S
END:VEVENT
BEGIN:VEVENT
DTSTART;TZID=Australia/Sydney:20231028T124500
DTEND;TZID=Australia/Sydney:20231028T170000
DTSTAMP:20260426T131552
CREATED:20230919T005538Z
LAST-MODIFIED:20230919T012230Z
UID:10003759-1698497100-1698512400@collaroysurfclub.com.au
SUMMARY:PM Patrol - Patrol 5
DESCRIPTION:
URL:https://collaroysurfclub.com.au/event/pm-patrol-patrol-5/2023-10-28/
LOCATION:Collaroy SLSC\, 1054 Pittwater Road\,\, Collaroy\, Australia
CATEGORIES:Patrol 5
GEO:33"43'58"S;151"18'08"E
X-APPLE-STRUCTURED-LOCATION;VALUE=URI;X-ADDRESS=Collaroy SLSC 1054 Pittwater Road Collaroy Australia;X-APPLE-RADIUS=500;X-TITLE=1054 Pittwater Road\,:geo:151"18'08"E,33"43'58"S
END:VEVENT
BEGIN:VEVENT
DTSTART;TZID=Australia/Sydney:20231029T081500
DTEND;TZID=Australia/Sydney:20231029T113000
DTSTAMP:20260426T131552
CREATED:20230711T004144Z
LAST-MODIFIED:20240209T055052Z
UID:10003846-1698567300-1698579000@collaroysurfclub.com.au
SUMMARY:Nippers
DESCRIPTION:U6 – U8 at 8.30am\, U9 – U14 at 9.45am \n\n\n\nPlease arrive 15 minutes early and join your age group on the beach infront of the clubhouse.
URL:https://collaroysurfclub.com.au/event/first-nippers/2023-10-29/
LOCATION:Collaroy SLSC\, 1054 Pittwater Road\,\, Collaroy\, Australia
CATEGORIES:Nippers
GEO:33"43'58"S;151"18'08"E
X-APPLE-STRUCTURED-LOCATION;VALUE=URI;X-ADDRESS=Collaroy SLSC 1054 Pittwater Road Collaroy Australia;X-APPLE-RADIUS=500;X-TITLE=1054 Pittwater Road\,:geo:151"18'08"E,33"43'58"S
END:VEVENT
BEGIN:VEVENT
DTSTART;TZID=Australia/Sydney:20231029T084500
DTEND;TZID=Australia/Sydney:20231029T130000
DTSTAMP:20260426T131552
CREATED:20230919T002154Z
LAST-MODIFIED:20230919T002154Z
UID:10003700-1698569100-1698584400@collaroysurfclub.com.au
SUMMARY:AM Patrol - Patrol 9
DESCRIPTION:
URL:https://collaroysurfclub.com.au/event/am-patrol-patrol-9/2023-10-29/
LOCATION:Collaroy SLSC\, 1054 Pittwater Road\,\, Collaroy\, Australia
CATEGORIES:Patrol 9
GEO:33"43'58"S;151"18'08"E
X-APPLE-STRUCTURED-LOCATION;VALUE=URI;X-ADDRESS=Collaroy SLSC 1054 Pittwater Road Collaroy Australia;X-APPLE-RADIUS=500;X-TITLE=1054 Pittwater Road\,:geo:151"18'08"E,33"43'58"S
END:VEVENT
BEGIN:VEVENT
DTSTART;TZID=Australia/Sydney:20231029T110000
DTEND;TZID=Australia/Sydney:20231029T130000
DTSTAMP:20260426T131552
CREATED:20231013T101512Z
LAST-MODIFIED:20231013T224039Z
UID:10003870-1698577200-1698584400@collaroysurfclub.com.au
SUMMARY:Bronze/SRC Skills Update
DESCRIPTION:All active lifesavers are required to complete a skills maintenance to demonstrate\ncompetency in the lifesaving award/s they hold and in which they wish to remain current. \nIf you wish to patrol or compete this season you must complete the update prior to December 31\, 2023.
URL:https://collaroysurfclub.com.au/event/bronze-src-skills-update/2023-10-29/
LOCATION:Collaroy SLSC\, 1054 Pittwater Road\,\, Collaroy\, Australia
CATEGORIES:Training
GEO:33"43'58"S;151"18'08"E
X-APPLE-STRUCTURED-LOCATION;VALUE=URI;X-ADDRESS=Collaroy SLSC 1054 Pittwater Road Collaroy Australia;X-APPLE-RADIUS=500;X-TITLE=1054 Pittwater Road\,:geo:151"18'08"E,33"43'58"S
END:VEVENT
BEGIN:VEVENT
DTSTART;TZID=Australia/Sydney:20231029T124500
DTEND;TZID=Australia/Sydney:20231029T170000
DTSTAMP:20260426T131552
CREATED:20230919T010728Z
LAST-MODIFIED:20230919T010728Z
UID:10003788-1698583500-1698598800@collaroysurfclub.com.au
SUMMARY:PM Patrol - Patrol 11
DESCRIPTION:
URL:https://collaroysurfclub.com.au/event/pm-patrol-patrol-11/2023-10-29/
LOCATION:Collaroy SLSC\, 1054 Pittwater Road\,\, Collaroy\, Australia
CATEGORIES:Patrol 11
GEO:33"43'58"S;151"18'08"E
X-APPLE-STRUCTURED-LOCATION;VALUE=URI;X-ADDRESS=Collaroy SLSC 1054 Pittwater Road Collaroy Australia;X-APPLE-RADIUS=500;X-TITLE=1054 Pittwater Road\,:geo:151"18'08"E,33"43'58"S
END:VEVENT
BEGIN:VEVENT
DTSTART;VALUE=DATE:20231104
DTEND;VALUE=DATE:20231105
DTSTAMP:20260426T131552
CREATED:20230919T061807Z
LAST-MODIFIED:20230919T061807Z
UID:10003819-1699056000-1699142399@collaroysurfclub.com.au
SUMMARY:Surf Boats - Premiership Round 1
DESCRIPTION:
URL:https://collaroysurfclub.com.au/event/surf-boats-premiership-round-1/
LOCATION:Freshwater SLSC\, 679Q+HX Freshwater\, New South Wales
CATEGORIES:Carnival
END:VEVENT
BEGIN:VEVENT
DTSTART;TZID=Australia/Sydney:20231104T084500
DTEND;TZID=Australia/Sydney:20231104T130000
DTSTAMP:20260426T131552
CREATED:20230919T000005Z
LAST-MODIFIED:20230919T000005Z
UID:10003663-1699087500-1699102800@collaroysurfclub.com.au
SUMMARY:AM Patrol - Patrol 1
DESCRIPTION:
URL:https://collaroysurfclub.com.au/event/am-patrol-patrol-1/2023-11-04/
LOCATION:Collaroy SLSC\, 1054 Pittwater Road\,\, Collaroy\, Australia
CATEGORIES:Patrol 1
GEO:33"43'58"S;151"18'08"E
X-APPLE-STRUCTURED-LOCATION;VALUE=URI;X-ADDRESS=Collaroy SLSC 1054 Pittwater Road Collaroy Australia;X-APPLE-RADIUS=500;X-TITLE=1054 Pittwater Road\,:geo:151"18'08"E,33"43'58"S
END:VEVENT
BEGIN:VEVENT
DTSTART;TZID=Australia/Sydney:20231104T090000
DTEND;TZID=Australia/Sydney:20231104T110000
DTSTAMP:20260426T131552
CREATED:20231013T101512Z
LAST-MODIFIED:20231013T224039Z
UID:10003871-1699088400-1699095600@collaroysurfclub.com.au
SUMMARY:Bronze/SRC Skills Update
DESCRIPTION:All active lifesavers are required to complete a skills maintenance to demonstrate\ncompetency in the lifesaving award/s they hold and in which they wish to remain current. \nIf you wish to patrol or compete this season you must complete the update prior to December 31\, 2023.
URL:https://collaroysurfclub.com.au/event/bronze-src-skills-update/2023-11-04/
LOCATION:Collaroy SLSC\, 1054 Pittwater Road\,\, Collaroy\, Australia
CATEGORIES:Training
GEO:33"43'58"S;151"18'08"E
X-APPLE-STRUCTURED-LOCATION;VALUE=URI;X-ADDRESS=Collaroy SLSC 1054 Pittwater Road Collaroy Australia;X-APPLE-RADIUS=500;X-TITLE=1054 Pittwater Road\,:geo:151"18'08"E,33"43'58"S
END:VEVENT
BEGIN:VEVENT
DTSTART;TZID=Australia/Sydney:20231104T124500
DTEND;TZID=Australia/Sydney:20231104T170000
DTSTAMP:20260426T131552
CREATED:20230919T010112Z
LAST-MODIFIED:20230919T011611Z
UID:10003772-1699101900-1699117200@collaroysurfclub.com.au
SUMMARY:PM Patrol - Patrol 8
DESCRIPTION:
URL:https://collaroysurfclub.com.au/event/pm-patrol-patrol-8/2023-11-04/
LOCATION:Collaroy SLSC\, 1054 Pittwater Road\,\, Collaroy\, Australia
CATEGORIES:Patrol 8
GEO:33"43'58"S;151"18'08"E
X-APPLE-STRUCTURED-LOCATION;VALUE=URI;X-ADDRESS=Collaroy SLSC 1054 Pittwater Road Collaroy Australia;X-APPLE-RADIUS=500;X-TITLE=1054 Pittwater Road\,:geo:151"18'08"E,33"43'58"S
END:VEVENT
BEGIN:VEVENT
DTSTART;VALUE=DATE:20231105
DTEND;VALUE=DATE:20231106
DTSTAMP:20260426T131552
CREATED:20230919T060702Z
LAST-MODIFIED:20231004T230503Z
UID:10003812-1699142400-1699228799@collaroysurfclub.com.au
SUMMARY:Nippers Carnival - Beach
DESCRIPTION:
URL:https://collaroysurfclub.com.au/event/nippers-carnival-beach/
LOCATION:Queenscliff SLSC\, 677Q+J4 Manly\, New South Wales\, Australia
CATEGORIES:Carnival,Nippers
END:VEVENT
BEGIN:VEVENT
DTSTART;TZID=Australia/Sydney:20231105T081500
DTEND;TZID=Australia/Sydney:20231105T113000
DTSTAMP:20260426T131552
CREATED:20230711T004144Z
LAST-MODIFIED:20240209T055052Z
UID:10003847-1699172100-1699183800@collaroysurfclub.com.au
SUMMARY:Nippers
DESCRIPTION:U6 – U8 at 8.30am\, U9 – U14 at 9.45am \n\n\n\nPlease arrive 15 minutes early and join your age group on the beach infront of the clubhouse.
URL:https://collaroysurfclub.com.au/event/first-nippers/2023-11-05/
LOCATION:Collaroy SLSC\, 1054 Pittwater Road\,\, Collaroy\, Australia
CATEGORIES:Nippers
GEO:33"43'58"S;151"18'08"E
X-APPLE-STRUCTURED-LOCATION;VALUE=URI;X-ADDRESS=Collaroy SLSC 1054 Pittwater Road Collaroy Australia;X-APPLE-RADIUS=500;X-TITLE=1054 Pittwater Road\,:geo:151"18'08"E,33"43'58"S
END:VEVENT
BEGIN:VEVENT
DTSTART;TZID=Australia/Sydney:20231105T084500
DTEND;TZID=Australia/Sydney:20231105T133000
DTSTAMP:20260426T131552
CREATED:20230919T002613Z
LAST-MODIFIED:20230919T012114Z
UID:10003712-1699173900-1699191000@collaroysurfclub.com.au
SUMMARY:AM Patrol - Patrol 12
DESCRIPTION:
URL:https://collaroysurfclub.com.au/event/am-patrol-patrol-12/2023-11-05/
LOCATION:Collaroy SLSC\, 1054 Pittwater Road\,\, Collaroy\, Australia
CATEGORIES:Patrol 12
GEO:33"43'58"S;151"18'08"E
X-APPLE-STRUCTURED-LOCATION;VALUE=URI;X-ADDRESS=Collaroy SLSC 1054 Pittwater Road Collaroy Australia;X-APPLE-RADIUS=500;X-TITLE=1054 Pittwater Road\,:geo:151"18'08"E,33"43'58"S
END:VEVENT
BEGIN:VEVENT
DTSTART;TZID=Australia/Sydney:20231105T124500
DTEND;TZID=Australia/Sydney:20231105T170000
DTSTAMP:20260426T131552
CREATED:20230919T004949Z
LAST-MODIFIED:20230919T004949Z
UID:10003746-1699188300-1699203600@collaroysurfclub.com.au
SUMMARY:PM Patrol - Patrol 2
DESCRIPTION:
URL:https://collaroysurfclub.com.au/event/pm-patrol-patrol-2/2023-11-05/
LOCATION:Collaroy SLSC\, 1054 Pittwater Road\,\, Collaroy\, Australia
CATEGORIES:Patrol 2
GEO:33"43'58"S;151"18'08"E
X-APPLE-STRUCTURED-LOCATION;VALUE=URI;X-ADDRESS=Collaroy SLSC 1054 Pittwater Road Collaroy Australia;X-APPLE-RADIUS=500;X-TITLE=1054 Pittwater Road\,:geo:151"18'08"E,33"43'58"S
END:VEVENT
BEGIN:VEVENT
DTSTART;TZID=Australia/Sydney:20231107T120000
DTEND;TZID=Australia/Sydney:20231107T180000
DTSTAMP:20260426T131552
CREATED:20231029T215119Z
LAST-MODIFIED:20231029T215119Z
UID:10003876-1699358400-1699380000@collaroysurfclub.com.au
SUMMARY:Melbourne Cup
DESCRIPTION:Join us at the club for the cup.\nTuesday November 7 from midday. \n  \n$12 Aperols all day!!\n$5 Schooners and Wine from 12 -2 \n  \n$5 and $10 Sweeps\nPlus a boozy bundle prize for our best dressed male and female!
URL:https://collaroysurfclub.com.au/event/melbourne-cup/
LOCATION:Collaroy SLSC\, 1054 Pittwater Road\,\, Collaroy\, Australia
CATEGORIES:Collaroy Bar
ATTACH;FMTTYPE=image/png:https://collaroysurfclub.com.au/wp-content/uploads/2023/10/Melb-Cup23.png
GEO:33"43'58"S;151"18'08"E
X-APPLE-STRUCTURED-LOCATION;VALUE=URI;X-ADDRESS=Collaroy SLSC 1054 Pittwater Road Collaroy Australia;X-APPLE-RADIUS=500;X-TITLE=1054 Pittwater Road\,:geo:151"18'08"E,33"43'58"S
END:VEVENT
BEGIN:VEVENT
DTSTART;VALUE=DATE:20231111
DTEND;VALUE=DATE:20231112
DTSTAMP:20260426T131552
CREATED:20230919T061837Z
LAST-MODIFIED:20230919T061837Z
UID:10003820-1699660800-1699747199@collaroysurfclub.com.au
SUMMARY:Surf Boats - Premiership Round 2
DESCRIPTION:
URL:https://collaroysurfclub.com.au/event/surf-boats-premiership-round-2/
LOCATION:Newport SLSC\, 394 Barrenjoey Rd\,\, Newport\, Australia
CATEGORIES:Carnival
END:VEVENT
BEGIN:VEVENT
DTSTART;TZID=Australia/Sydney:20231111T084500
DTEND;TZID=Australia/Sydney:20231111T130000
DTSTAMP:20260426T131552
CREATED:20230919T000933Z
LAST-MODIFIED:20230919T000933Z
UID:10003675-1699692300-1699707600@collaroysurfclub.com.au
SUMMARY:AM Patrol - Patrol 4
DESCRIPTION:
URL:https://collaroysurfclub.com.au/event/am-patrol-patrol-4/2023-11-11/
LOCATION:Collaroy SLSC\, 1054 Pittwater Road\,\, Collaroy\, Australia
CATEGORIES:Patrol 4
GEO:33"43'58"S;151"18'08"E
X-APPLE-STRUCTURED-LOCATION;VALUE=URI;X-ADDRESS=Collaroy SLSC 1054 Pittwater Road Collaroy Australia;X-APPLE-RADIUS=500;X-TITLE=1054 Pittwater Road\,:geo:151"18'08"E,33"43'58"S
END:VEVENT
BEGIN:VEVENT
DTSTART;TZID=Australia/Sydney:20231111T124500
DTEND;TZID=Australia/Sydney:20231111T170000
DTSTAMP:20260426T131552
CREATED:20230919T010432Z
LAST-MODIFIED:20230919T010432Z
UID:10003781-1699706700-1699722000@collaroysurfclub.com.au
SUMMARY:PM Patrol - Patrol 9
DESCRIPTION:
URL:https://collaroysurfclub.com.au/event/pm-patrol-patrol-9/2023-11-11/
LOCATION:Collaroy SLSC\, 1054 Pittwater Road\,\, Collaroy\, Australia
CATEGORIES:Patrol 9
GEO:33"43'58"S;151"18'08"E
X-APPLE-STRUCTURED-LOCATION;VALUE=URI;X-ADDRESS=Collaroy SLSC 1054 Pittwater Road Collaroy Australia;X-APPLE-RADIUS=500;X-TITLE=1054 Pittwater Road\,:geo:151"18'08"E,33"43'58"S
END:VEVENT
BEGIN:VEVENT
DTSTART;TZID=Australia/Sydney:20231111T160000
DTEND;TZID=Australia/Sydney:20231111T170000
DTSTAMP:20260426T131552
CREATED:20231003T234056Z
LAST-MODIFIED:20231003T234056Z
UID:10003869-1699718400-1699722000@collaroysurfclub.com.au
SUMMARY:Twilight Nippers
DESCRIPTION:With the Collaroy Ocean Swim being held on Sunday 12th November\, we’ll be having Twilight Nippers on Saturday 11th at 4pm. \nHang around after Nippers for a BBQ or pickup dinner from one of the club sponsors Alimento Pizza Restaurant\, Exquisite Thai or Gurtaj Indian Restaurant.
URL:https://collaroysurfclub.com.au/event/twilight-nippers/
LOCATION:Collaroy SLSC\, 1054 Pittwater Road\,\, Collaroy\, Australia
CATEGORIES:Nippers
GEO:33"43'58"S;151"18'08"E
X-APPLE-STRUCTURED-LOCATION;VALUE=URI;X-ADDRESS=Collaroy SLSC 1054 Pittwater Road Collaroy Australia;X-APPLE-RADIUS=500;X-TITLE=1054 Pittwater Road\,:geo:151"18'08"E,33"43'58"S
END:VEVENT
BEGIN:VEVENT
DTSTART;TZID=Australia/Sydney:20231112T080000
DTEND;TZID=Australia/Sydney:20231112T120000
DTSTAMP:20260426T131552
CREATED:20230919T063515Z
LAST-MODIFIED:20230919T063515Z
UID:10003841-1699776000-1699790400@collaroysurfclub.com.au
SUMMARY:Collaroy Ocean Swim
DESCRIPTION:
URL:https://collaroysurfclub.com.au/event/collaroy-ocean-swim/
LOCATION:Collaroy SLSC\, 1054 Pittwater Road\,\, Collaroy\, Australia
CATEGORIES:Carnival
GEO:33"43'58"S;151"18'08"E
X-APPLE-STRUCTURED-LOCATION;VALUE=URI;X-ADDRESS=Collaroy SLSC 1054 Pittwater Road Collaroy Australia;X-APPLE-RADIUS=500;X-TITLE=1054 Pittwater Road\,:geo:151"18'08"E,33"43'58"S
END:VEVENT
BEGIN:VEVENT
DTSTART;TZID=Australia/Sydney:20231112T093000
DTEND;TZID=Australia/Sydney:20231112T100000
DTSTAMP:20260426T131552
CREATED:20230919T003150Z
LAST-MODIFIED:20230919T011901Z
UID:10003729-1699781400-1699783200@collaroysurfclub.com.au
SUMMARY:AM Patrol - Patrol LS 2
DESCRIPTION:
URL:https://collaroysurfclub.com.au/event/am-patrol-patrol-ls-2/2023-11-12/
LOCATION:Collaroy SLSC\, 1054 Pittwater Road\,\, Collaroy\, Australia
CATEGORIES:Patrol LS2
GEO:33"43'58"S;151"18'08"E
X-APPLE-STRUCTURED-LOCATION;VALUE=URI;X-ADDRESS=Collaroy SLSC 1054 Pittwater Road Collaroy Australia;X-APPLE-RADIUS=500;X-TITLE=1054 Pittwater Road\,:geo:151"18'08"E,33"43'58"S
END:VEVENT
BEGIN:VEVENT
DTSTART;TZID=Australia/Sydney:20231112T124500
DTEND;TZID=Australia/Sydney:20231112T170000
DTSTAMP:20260426T131552
CREATED:20230919T010728Z
LAST-MODIFIED:20230919T010728Z
UID:10003789-1699793100-1699808400@collaroysurfclub.com.au
SUMMARY:PM Patrol - Patrol 11
DESCRIPTION:
URL:https://collaroysurfclub.com.au/event/pm-patrol-patrol-11/2023-11-12/
LOCATION:Collaroy SLSC\, 1054 Pittwater Road\,\, Collaroy\, Australia
CATEGORIES:Patrol 11
GEO:33"43'58"S;151"18'08"E
X-APPLE-STRUCTURED-LOCATION;VALUE=URI;X-ADDRESS=Collaroy SLSC 1054 Pittwater Road Collaroy Australia;X-APPLE-RADIUS=500;X-TITLE=1054 Pittwater Road\,:geo:151"18'08"E,33"43'58"S
END:VEVENT
BEGIN:VEVENT
DTSTART;TZID=Australia/Sydney:20231118T084500
DTEND;TZID=Australia/Sydney:20231118T133000
DTSTAMP:20260426T131552
CREATED:20230919T002957Z
LAST-MODIFIED:20230919T002957Z
UID:10003716-1700297100-1700314200@collaroysurfclub.com.au
SUMMARY:AM Patrol - Patrol LS 1
DESCRIPTION:
URL:https://collaroysurfclub.com.au/event/am-patrol-patrol-ls-1/2023-11-18/
LOCATION:Collaroy SLSC\, 1054 Pittwater Road\,\, Collaroy\, Australia
CATEGORIES:Patrol LS1
GEO:33"43'58"S;151"18'08"E
X-APPLE-STRUCTURED-LOCATION;VALUE=URI;X-ADDRESS=Collaroy SLSC 1054 Pittwater Road Collaroy Australia;X-APPLE-RADIUS=500;X-TITLE=1054 Pittwater Road\,:geo:151"18'08"E,33"43'58"S
END:VEVENT
BEGIN:VEVENT
DTSTART;TZID=Australia/Sydney:20231118T090000
DTEND;TZID=Australia/Sydney:20231118T110000
DTSTAMP:20260426T131552
CREATED:20231013T101512Z
LAST-MODIFIED:20231013T224039Z
UID:10003872-1700298000-1700305200@collaroysurfclub.com.au
SUMMARY:Bronze/SRC Skills Update
DESCRIPTION:All active lifesavers are required to complete a skills maintenance to demonstrate\ncompetency in the lifesaving award/s they hold and in which they wish to remain current. \nIf you wish to patrol or compete this season you must complete the update prior to December 31\, 2023.
URL:https://collaroysurfclub.com.au/event/bronze-src-skills-update/2023-11-18/
LOCATION:Collaroy SLSC\, 1054 Pittwater Road\,\, Collaroy\, Australia
CATEGORIES:Training
GEO:33"43'58"S;151"18'08"E
X-APPLE-STRUCTURED-LOCATION;VALUE=URI;X-ADDRESS=Collaroy SLSC 1054 Pittwater Road Collaroy Australia;X-APPLE-RADIUS=500;X-TITLE=1054 Pittwater Road\,:geo:151"18'08"E,33"43'58"S
END:VEVENT
BEGIN:VEVENT
DTSTART;TZID=Australia/Sydney:20231118T124500
DTEND;TZID=Australia/Sydney:20231118T170000
DTSTAMP:20260426T131552
CREATED:20230919T005538Z
LAST-MODIFIED:20230919T012230Z
UID:10003760-1700311500-1700326800@collaroysurfclub.com.au
SUMMARY:PM Patrol - Patrol 5
DESCRIPTION:
URL:https://collaroysurfclub.com.au/event/pm-patrol-patrol-5/2023-11-18/
LOCATION:Collaroy SLSC\, 1054 Pittwater Road\,\, Collaroy\, Australia
CATEGORIES:Patrol 5
GEO:33"43'58"S;151"18'08"E
X-APPLE-STRUCTURED-LOCATION;VALUE=URI;X-ADDRESS=Collaroy SLSC 1054 Pittwater Road Collaroy Australia;X-APPLE-RADIUS=500;X-TITLE=1054 Pittwater Road\,:geo:151"18'08"E,33"43'58"S
END:VEVENT
BEGIN:VEVENT
DTSTART;TZID=Australia/Sydney:20231119T081500
DTEND;TZID=Australia/Sydney:20231119T113000
DTSTAMP:20260426T131552
CREATED:20230711T004144Z
LAST-MODIFIED:20240209T055052Z
UID:10003849-1700381700-1700393400@collaroysurfclub.com.au
SUMMARY:Nippers
DESCRIPTION:U6 – U8 at 8.30am\, U9 – U14 at 9.45am \n\n\n\nPlease arrive 15 minutes early and join your age group on the beach infront of the clubhouse.
URL:https://collaroysurfclub.com.au/event/first-nippers/2023-11-19/
LOCATION:Collaroy SLSC\, 1054 Pittwater Road\,\, Collaroy\, Australia
CATEGORIES:Nippers
GEO:33"43'58"S;151"18'08"E
X-APPLE-STRUCTURED-LOCATION;VALUE=URI;X-ADDRESS=Collaroy SLSC 1054 Pittwater Road Collaroy Australia;X-APPLE-RADIUS=500;X-TITLE=1054 Pittwater Road\,:geo:151"18'08"E,33"43'58"S
END:VEVENT
BEGIN:VEVENT
DTSTART;TZID=Australia/Sydney:20231119T084500
DTEND;TZID=Australia/Sydney:20231119T133000
DTSTAMP:20260426T131552
CREATED:20230919T002957Z
LAST-MODIFIED:20230919T002957Z
UID:10003717-1700383500-1700400600@collaroysurfclub.com.au
SUMMARY:AM Patrol - Patrol LS 1
DESCRIPTION:
URL:https://collaroysurfclub.com.au/event/am-patrol-patrol-ls-1/2023-11-19/
LOCATION:Collaroy SLSC\, 1054 Pittwater Road\,\, Collaroy\, Australia
CATEGORIES:Patrol LS1
GEO:33"43'58"S;151"18'08"E
X-APPLE-STRUCTURED-LOCATION;VALUE=URI;X-ADDRESS=Collaroy SLSC 1054 Pittwater Road Collaroy Australia;X-APPLE-RADIUS=500;X-TITLE=1054 Pittwater Road\,:geo:151"18'08"E,33"43'58"S
END:VEVENT
BEGIN:VEVENT
DTSTART;TZID=Australia/Sydney:20231119T124500
DTEND;TZID=Australia/Sydney:20231119T170000
DTSTAMP:20260426T131552
CREATED:20230919T010112Z
LAST-MODIFIED:20230919T011611Z
UID:10003773-1700397900-1700413200@collaroysurfclub.com.au
SUMMARY:PM Patrol - Patrol 8
DESCRIPTION:
URL:https://collaroysurfclub.com.au/event/pm-patrol-patrol-8/2023-11-19/
LOCATION:Collaroy SLSC\, 1054 Pittwater Road\,\, Collaroy\, Australia
CATEGORIES:Patrol 8
GEO:33"43'58"S;151"18'08"E
X-APPLE-STRUCTURED-LOCATION;VALUE=URI;X-ADDRESS=Collaroy SLSC 1054 Pittwater Road Collaroy Australia;X-APPLE-RADIUS=500;X-TITLE=1054 Pittwater Road\,:geo:151"18'08"E,33"43'58"S
END:VEVENT
BEGIN:VEVENT
DTSTART;TZID=Australia/Sydney:20231125T084500
DTEND;TZID=Australia/Sydney:20231125T133000
DTSTAMP:20260426T131552
CREATED:20230919T002154Z
LAST-MODIFIED:20230919T002154Z
UID:10003701-1700901900-1700919000@collaroysurfclub.com.au
SUMMARY:AM Patrol - Patrol 9
DESCRIPTION:
URL:https://collaroysurfclub.com.au/event/am-patrol-patrol-9/2023-11-25/
LOCATION:Collaroy SLSC\, 1054 Pittwater Road\,\, Collaroy\, Australia
CATEGORIES:Patrol 9
GEO:33"43'58"S;151"18'08"E
X-APPLE-STRUCTURED-LOCATION;VALUE=URI;X-ADDRESS=Collaroy SLSC 1054 Pittwater Road Collaroy Australia;X-APPLE-RADIUS=500;X-TITLE=1054 Pittwater Road\,:geo:151"18'08"E,33"43'58"S
END:VEVENT
BEGIN:VEVENT
DTSTART;TZID=Australia/Sydney:20231125T124500
DTEND;TZID=Australia/Sydney:20231125T170000
DTSTAMP:20260426T131552
CREATED:20230919T005817Z
LAST-MODIFIED:20230919T011716Z
UID:10003766-1700916300-1700931600@collaroysurfclub.com.au
SUMMARY:PM Patrol - Patrol 7
DESCRIPTION:
URL:https://collaroysurfclub.com.au/event/pm-patrol-patrol-7/2023-11-25/
LOCATION:Collaroy SLSC\, 1054 Pittwater Road\,\, Collaroy\, Australia
CATEGORIES:Patrol 7
GEO:33"43'58"S;151"18'08"E
X-APPLE-STRUCTURED-LOCATION;VALUE=URI;X-ADDRESS=Collaroy SLSC 1054 Pittwater Road Collaroy Australia;X-APPLE-RADIUS=500;X-TITLE=1054 Pittwater Road\,:geo:151"18'08"E,33"43'58"S
END:VEVENT
END:VCALENDAR