BEGIN:VCALENDAR
VERSION:2.0
PRODID:-//Collaroy Surf Life Saving Club - ECPv6.15.20//NONSGML v1.0//EN
CALSCALE:GREGORIAN
METHOD:PUBLISH
X-ORIGINAL-URL:https://collaroysurfclub.com.au
X-WR-CALDESC:Events for Collaroy Surf Life Saving Club
REFRESH-INTERVAL;VALUE=DURATION:PT1H
X-Robots-Tag:noindex
X-PUBLISHED-TTL:PT1H
BEGIN:VTIMEZONE
TZID:Australia/Sydney
BEGIN:STANDARD
TZOFFSETFROM:+1100
TZOFFSETTO:+1000
TZNAME:AEST
DTSTART:20220402T160000
END:STANDARD
BEGIN:DAYLIGHT
TZOFFSETFROM:+1000
TZOFFSETTO:+1100
TZNAME:AEDT
DTSTART:20221001T160000
END:DAYLIGHT
BEGIN:STANDARD
TZOFFSETFROM:+1100
TZOFFSETTO:+1000
TZNAME:AEST
DTSTART:20230401T160000
END:STANDARD
BEGIN:DAYLIGHT
TZOFFSETFROM:+1000
TZOFFSETTO:+1100
TZNAME:AEDT
DTSTART:20230930T160000
END:DAYLIGHT
BEGIN:STANDARD
TZOFFSETFROM:+1100
TZOFFSETTO:+1000
TZNAME:AEST
DTSTART:20240406T160000
END:STANDARD
BEGIN:DAYLIGHT
TZOFFSETFROM:+1000
TZOFFSETTO:+1100
TZNAME:AEDT
DTSTART:20241005T160000
END:DAYLIGHT
END:VTIMEZONE
BEGIN:VEVENT
DTSTART;TZID=Australia/Sydney:20230531T180000
DTEND;TZID=Australia/Sydney:20230531T230000
DTSTAMP:20260423T083102
CREATED:20230531T041807Z
LAST-MODIFIED:20230531T041807Z
UID:10003593-1685556000-1685574000@collaroysurfclub.com.au
SUMMARY:State of Origin
DESCRIPTION:Join your mates for State of Origin at the surf club\, opening at 6pm\, kick off at 8pm with $5 schooners and wine from 6pm until first points in the game\, and doubles available on the game.
URL:https://collaroysurfclub.com.au/event/state-of-origin/2023-05-31/
LOCATION:Collaroy SLSC\, 1054 Pittwater Road\,\, Collaroy\, Australia
CATEGORIES:Collaroy Bar
ATTACH;FMTTYPE=image/png:https://collaroysurfclub.com.au/wp-content/uploads/2023/05/Origin-2023.png
GEO:33"43'58"S;151"18'08"E
X-APPLE-STRUCTURED-LOCATION;VALUE=URI;X-ADDRESS=Collaroy SLSC 1054 Pittwater Road Collaroy Australia;X-APPLE-RADIUS=500;X-TITLE=1054 Pittwater Road\,:geo:151"18'08"E,33"43'58"S
END:VEVENT
BEGIN:VEVENT
DTSTART;TZID=Australia/Sydney:20230621T180000
DTEND;TZID=Australia/Sydney:20230621T230000
DTSTAMP:20260423T083102
CREATED:20230531T041807Z
LAST-MODIFIED:20230531T041807Z
UID:10003594-1687370400-1687388400@collaroysurfclub.com.au
SUMMARY:State of Origin
DESCRIPTION:Join your mates for State of Origin at the surf club\, opening at 6pm\, kick off at 8pm with $5 schooners and wine from 6pm until first points in the game\, and doubles available on the game.
URL:https://collaroysurfclub.com.au/event/state-of-origin/2023-06-21/
LOCATION:Collaroy SLSC\, 1054 Pittwater Road\,\, Collaroy\, Australia
CATEGORIES:Collaroy Bar
ATTACH;FMTTYPE=image/png:https://collaroysurfclub.com.au/wp-content/uploads/2023/05/Origin-2023.png
GEO:33"43'58"S;151"18'08"E
X-APPLE-STRUCTURED-LOCATION;VALUE=URI;X-ADDRESS=Collaroy SLSC 1054 Pittwater Road Collaroy Australia;X-APPLE-RADIUS=500;X-TITLE=1054 Pittwater Road\,:geo:151"18'08"E,33"43'58"S
END:VEVENT
BEGIN:VEVENT
DTSTART;TZID=Australia/Sydney:20230701T180000
DTEND;TZID=Australia/Sydney:20230701T230000
DTSTAMP:20260423T083102
CREATED:20230701T073836Z
LAST-MODIFIED:20230701T073950Z
UID:10003607-1688234400-1688252400@collaroysurfclub.com.au
SUMMARY:Presentation Night
DESCRIPTION:Members are invited to come along to our Presentation Night where all lifesaving and club/section awards will be presented.\n\nIf you received a lifesaving award this season please come along and collect your award.\n\nClub awards will follow the Lifesaving presentation.\n\nDinner will be served after the formalities and the bar will be open from 6 pm.\n\nWe hope you can join your fellow members for what is always a great night of fun and celebration.
URL:https://collaroysurfclub.com.au/event/presentation-night/
LOCATION:Collaroy SLSC\, 1054 Pittwater Road\,\, Collaroy\, Australia
CATEGORIES:Club,Function
GEO:33"43'58"S;151"18'08"E
X-APPLE-STRUCTURED-LOCATION;VALUE=URI;X-ADDRESS=Collaroy SLSC 1054 Pittwater Road Collaroy Australia;X-APPLE-RADIUS=500;X-TITLE=1054 Pittwater Road\,:geo:151"18'08"E,33"43'58"S
END:VEVENT
BEGIN:VEVENT
DTSTART;TZID=Australia/Sydney:20230712T180000
DTEND;TZID=Australia/Sydney:20230712T230000
DTSTAMP:20260423T083102
CREATED:20230531T041807Z
LAST-MODIFIED:20230531T041807Z
UID:10003595-1689184800-1689202800@collaroysurfclub.com.au
SUMMARY:State of Origin
DESCRIPTION:Join your mates for State of Origin at the surf club\, opening at 6pm\, kick off at 8pm with $5 schooners and wine from 6pm until first points in the game\, and doubles available on the game.
URL:https://collaroysurfclub.com.au/event/state-of-origin/2023-07-12/
LOCATION:Collaroy SLSC\, 1054 Pittwater Road\,\, Collaroy\, Australia
CATEGORIES:Collaroy Bar
ATTACH;FMTTYPE=image/png:https://collaroysurfclub.com.au/wp-content/uploads/2023/05/Origin-2023.png
GEO:33"43'58"S;151"18'08"E
X-APPLE-STRUCTURED-LOCATION;VALUE=URI;X-ADDRESS=Collaroy SLSC 1054 Pittwater Road Collaroy Australia;X-APPLE-RADIUS=500;X-TITLE=1054 Pittwater Road\,:geo:151"18'08"E,33"43'58"S
END:VEVENT
BEGIN:VEVENT
DTSTART;TZID=Australia/Sydney:20230806T100000
DTEND;TZID=Australia/Sydney:20230806T110000
DTSTAMP:20260423T083102
CREATED:20230711T005050Z
LAST-MODIFIED:20231004T230240Z
UID:10003646-1691316000-1691319600@collaroysurfclub.com.au
SUMMARY:Membership Registration and Renewals
DESCRIPTION:Membership Registration and Renewals can be completed online or in person at the clubhouse. \nClick here for more information.
URL:https://collaroysurfclub.com.au/event/membership-registration-and-renewals/2023-08-06/
LOCATION:Collaroy SLSC\, 1054 Pittwater Road\,\, Collaroy\, Australia
CATEGORIES:Club,Nippers
GEO:33"43'58"S;151"18'08"E
X-APPLE-STRUCTURED-LOCATION;VALUE=URI;X-ADDRESS=Collaroy SLSC 1054 Pittwater Road Collaroy Australia;X-APPLE-RADIUS=500;X-TITLE=1054 Pittwater Road\,:geo:151"18'08"E,33"43'58"S
END:VEVENT
BEGIN:VEVENT
DTSTART;TZID=Australia/Sydney:20230806T110000
DTEND;TZID=Australia/Sydney:20230806T130000
DTSTAMP:20260423T083102
CREATED:20230711T003434Z
LAST-MODIFIED:20230713T053757Z
UID:10003616-1691319600-1691326800@collaroysurfclub.com.au
SUMMARY:AGM
DESCRIPTION:Join us for the 111th Annual General Meeting of the members of Collaroy SLSC at 11am in the Surf Club Hall.
URL:https://collaroysurfclub.com.au/event/agm/
LOCATION:Collaroy SLSC\, 1054 Pittwater Road\,\, Collaroy\, Australia
CATEGORIES:Club,Function
GEO:33"43'58"S;151"18'08"E
X-APPLE-STRUCTURED-LOCATION;VALUE=URI;X-ADDRESS=Collaroy SLSC 1054 Pittwater Road Collaroy Australia;X-APPLE-RADIUS=500;X-TITLE=1054 Pittwater Road\,:geo:151"18'08"E,33"43'58"S
END:VEVENT
BEGIN:VEVENT
DTSTART;TZID=Australia/Sydney:20230917T080000
DTEND;TZID=Australia/Sydney:20230917T120000
DTSTAMP:20260423T083102
CREATED:20230711T003724Z
LAST-MODIFIED:20230808T113319Z
UID:10003617-1694937600-1694952000@collaroysurfclub.com.au
SUMMARY:Nippers Registration and Proficiency Swim
DESCRIPTION:Membership renewals are now open online. \n\n\n\nNew Nippers can register at the clubhouse on September 17 from 8am – midday \n\n\n\nTo renew your membership click here. \nFor step by step instructions to renew click here. \n\n\n\n\n\nRegistration and Swim Proficiency Day  \n\n\n\n\n\nSwim Proficiencies for U8’s – U14’s will be held at the Collaroy Ocean Pool on Sunday September 17\, 8.00am till midday. \n\n\n\nWetsuits can be worn and Goggles and Swim Caps are recommended.
URL:https://collaroysurfclub.com.au/event/nippers-registration-and-proficiency-swim/
LOCATION:Collaroy SLSC\, 1054 Pittwater Road\,\, Collaroy\, Australia
CATEGORIES:Nippers
GEO:33"43'58"S;151"18'08"E
X-APPLE-STRUCTURED-LOCATION;VALUE=URI;X-ADDRESS=Collaroy SLSC 1054 Pittwater Road Collaroy Australia;X-APPLE-RADIUS=500;X-TITLE=1054 Pittwater Road\,:geo:151"18'08"E,33"43'58"S
END:VEVENT
BEGIN:VEVENT
DTSTART;TZID=Australia/Sydney:20230917T083000
DTEND;TZID=Australia/Sydney:20230917T123000
DTSTAMP:20260423T083102
CREATED:20230711T005050Z
LAST-MODIFIED:20231004T230240Z
UID:10003657-1694939400-1694953800@collaroysurfclub.com.au
SUMMARY:Membership Registration and Renewals
DESCRIPTION:Membership Registration and Renewals can be completed online or in person at the clubhouse. \nClick here for more information.
URL:https://collaroysurfclub.com.au/event/membership-registration-and-renewals/2023-09-17/
LOCATION:Collaroy SLSC\, 1054 Pittwater Road\,\, Collaroy\, Australia
CATEGORIES:Club,Nippers
GEO:33"43'58"S;151"18'08"E
X-APPLE-STRUCTURED-LOCATION;VALUE=URI;X-ADDRESS=Collaroy SLSC 1054 Pittwater Road Collaroy Australia;X-APPLE-RADIUS=500;X-TITLE=1054 Pittwater Road\,:geo:151"18'08"E,33"43'58"S
END:VEVENT
BEGIN:VEVENT
DTSTART;VALUE=DATE:20230923
DTEND;VALUE=DATE:20230924
DTSTAMP:20260423T083102
CREATED:20230711T010442Z
LAST-MODIFIED:20230711T010442Z
UID:10003649-1695427200-1695513599@collaroysurfclub.com.au
SUMMARY:Flags Up - Patrol Season Commences
DESCRIPTION:
URL:https://collaroysurfclub.com.au/event/flags-up-patrol-season-commences/
LOCATION:Collaroy SLSC\, 1054 Pittwater Road\,\, Collaroy\, Australia
CATEGORIES:Club
GEO:33"43'58"S;151"18'08"E
X-APPLE-STRUCTURED-LOCATION;VALUE=URI;X-ADDRESS=Collaroy SLSC 1054 Pittwater Road Collaroy Australia;X-APPLE-RADIUS=500;X-TITLE=1054 Pittwater Road\,:geo:151"18'08"E,33"43'58"S
END:VEVENT
BEGIN:VEVENT
DTSTART;TZID=Australia/Sydney:20230923T084500
DTEND;TZID=Australia/Sydney:20230923T130000
DTSTAMP:20260423T083102
CREATED:20230919T000005Z
LAST-MODIFIED:20230919T000005Z
UID:10003661-1695458700-1695474000@collaroysurfclub.com.au
SUMMARY:AM Patrol - Patrol 1
DESCRIPTION:
URL:https://collaroysurfclub.com.au/event/am-patrol-patrol-1/2023-09-23/
LOCATION:Collaroy SLSC\, 1054 Pittwater Road\,\, Collaroy\, Australia
CATEGORIES:Patrol 1
GEO:33"43'58"S;151"18'08"E
X-APPLE-STRUCTURED-LOCATION;VALUE=URI;X-ADDRESS=Collaroy SLSC 1054 Pittwater Road Collaroy Australia;X-APPLE-RADIUS=500;X-TITLE=1054 Pittwater Road\,:geo:151"18'08"E,33"43'58"S
END:VEVENT
BEGIN:VEVENT
DTSTART;TZID=Australia/Sydney:20230923T124500
DTEND;TZID=Australia/Sydney:20230923T170000
DTSTAMP:20260423T083102
CREATED:20230919T005256Z
LAST-MODIFIED:20230919T005256Z
UID:10003751-1695473100-1695488400@collaroysurfclub.com.au
SUMMARY:PM Patrol - Patrol 4
DESCRIPTION:
URL:https://collaroysurfclub.com.au/event/pm-patrol-patrol-4/2023-09-23/
LOCATION:Collaroy SLSC\, 1054 Pittwater Road\,\, Collaroy\, Australia
CATEGORIES:Patrol 4
GEO:33"43'58"S;151"18'08"E
X-APPLE-STRUCTURED-LOCATION;VALUE=URI;X-ADDRESS=Collaroy SLSC 1054 Pittwater Road Collaroy Australia;X-APPLE-RADIUS=500;X-TITLE=1054 Pittwater Road\,:geo:151"18'08"E,33"43'58"S
END:VEVENT
BEGIN:VEVENT
DTSTART;TZID=Australia/Sydney:20230924T084500
DTEND;TZID=Australia/Sydney:20230924T130000
DTSTAMP:20260423T083102
CREATED:20230919T001222Z
LAST-MODIFIED:20230919T001222Z
UID:10003680-1695545100-1695560400@collaroysurfclub.com.au
SUMMARY:AM Patrol - Patrol 5
DESCRIPTION:
URL:https://collaroysurfclub.com.au/event/am-patrol-patrol-5/2023-09-24/
LOCATION:Collaroy SLSC\, 1054 Pittwater Road\,\, Collaroy\, Australia
CATEGORIES:Patrol 5
GEO:33"43'58"S;151"18'08"E
X-APPLE-STRUCTURED-LOCATION;VALUE=URI;X-ADDRESS=Collaroy SLSC 1054 Pittwater Road Collaroy Australia;X-APPLE-RADIUS=500;X-TITLE=1054 Pittwater Road\,:geo:151"18'08"E,33"43'58"S
END:VEVENT
BEGIN:VEVENT
DTSTART;TZID=Australia/Sydney:20230924T124500
DTEND;TZID=Australia/Sydney:20230924T170000
DTSTAMP:20260423T083102
CREATED:20230919T004949Z
LAST-MODIFIED:20230919T004949Z
UID:10003744-1695559500-1695574800@collaroysurfclub.com.au
SUMMARY:PM Patrol - Patrol 2
DESCRIPTION:
URL:https://collaroysurfclub.com.au/event/pm-patrol-patrol-2/2023-09-24/
LOCATION:Collaroy SLSC\, 1054 Pittwater Road\,\, Collaroy\, Australia
CATEGORIES:Patrol 2
GEO:33"43'58"S;151"18'08"E
X-APPLE-STRUCTURED-LOCATION;VALUE=URI;X-ADDRESS=Collaroy SLSC 1054 Pittwater Road Collaroy Australia;X-APPLE-RADIUS=500;X-TITLE=1054 Pittwater Road\,:geo:151"18'08"E,33"43'58"S
END:VEVENT
BEGIN:VEVENT
DTSTART;TZID=Australia/Sydney:20230930T084500
DTEND;TZID=Australia/Sydney:20230930T130000
DTSTAMP:20260423T083102
CREATED:20230919T001514Z
LAST-MODIFIED:20230919T001514Z
UID:10003686-1696063500-1696078800@collaroysurfclub.com.au
SUMMARY:AM Patrol - Patrol 7
DESCRIPTION:
URL:https://collaroysurfclub.com.au/event/am-patrol-patrol-7/2023-09-30/
LOCATION:Collaroy SLSC\, 1054 Pittwater Road\,\, Collaroy\, Australia
CATEGORIES:Patrol 7
GEO:33"43'58"S;151"18'08"E
X-APPLE-STRUCTURED-LOCATION;VALUE=URI;X-ADDRESS=Collaroy SLSC 1054 Pittwater Road Collaroy Australia;X-APPLE-RADIUS=500;X-TITLE=1054 Pittwater Road\,:geo:151"18'08"E,33"43'58"S
END:VEVENT
BEGIN:VEVENT
DTSTART;TZID=Australia/Sydney:20230930T124500
DTEND;TZID=Australia/Sydney:20230930T170000
DTSTAMP:20260423T083102
CREATED:20230919T010112Z
LAST-MODIFIED:20230919T011611Z
UID:10003771-1696077900-1696093200@collaroysurfclub.com.au
SUMMARY:PM Patrol - Patrol 8
DESCRIPTION:
URL:https://collaroysurfclub.com.au/event/pm-patrol-patrol-8/2023-09-30/
LOCATION:Collaroy SLSC\, 1054 Pittwater Road\,\, Collaroy\, Australia
CATEGORIES:Patrol 8
GEO:33"43'58"S;151"18'08"E
X-APPLE-STRUCTURED-LOCATION;VALUE=URI;X-ADDRESS=Collaroy SLSC 1054 Pittwater Road Collaroy Australia;X-APPLE-RADIUS=500;X-TITLE=1054 Pittwater Road\,:geo:151"18'08"E,33"43'58"S
END:VEVENT
BEGIN:VEVENT
DTSTART;TZID=Australia/Sydney:20231001T081500
DTEND;TZID=Australia/Sydney:20231001T113000
DTSTAMP:20260423T083102
CREATED:20230711T004144Z
LAST-MODIFIED:20240209T055052Z
UID:10003842-1696148100-1696159800@collaroysurfclub.com.au
SUMMARY:Nippers
DESCRIPTION:U6 – U8 at 8.30am\, U9 – U14 at 9.45am \n\n\n\nPlease arrive 15 minutes early and join your age group on the beach infront of the clubhouse.
URL:https://collaroysurfclub.com.au/event/first-nippers/2023-10-01/
LOCATION:Collaroy SLSC\, 1054 Pittwater Road\,\, Collaroy\, Australia
CATEGORIES:Nippers
GEO:33"43'58"S;151"18'08"E
X-APPLE-STRUCTURED-LOCATION;VALUE=URI;X-ADDRESS=Collaroy SLSC 1054 Pittwater Road Collaroy Australia;X-APPLE-RADIUS=500;X-TITLE=1054 Pittwater Road\,:geo:151"18'08"E,33"43'58"S
END:VEVENT
BEGIN:VEVENT
DTSTART;TZID=Australia/Sydney:20231001T084500
DTEND;TZID=Australia/Sydney:20231001T130000
DTSTAMP:20260423T083102
CREATED:20230919T002154Z
LAST-MODIFIED:20230919T002154Z
UID:10003699-1696149900-1696165200@collaroysurfclub.com.au
SUMMARY:AM Patrol - Patrol 9
DESCRIPTION:
URL:https://collaroysurfclub.com.au/event/am-patrol-patrol-9/2023-10-01/
LOCATION:Collaroy SLSC\, 1054 Pittwater Road\,\, Collaroy\, Australia
CATEGORIES:Patrol 9
GEO:33"43'58"S;151"18'08"E
X-APPLE-STRUCTURED-LOCATION;VALUE=URI;X-ADDRESS=Collaroy SLSC 1054 Pittwater Road Collaroy Australia;X-APPLE-RADIUS=500;X-TITLE=1054 Pittwater Road\,:geo:151"18'08"E,33"43'58"S
END:VEVENT
BEGIN:VEVENT
DTSTART;TZID=Australia/Sydney:20231001T124500
DTEND;TZID=Australia/Sydney:20231001T170000
DTSTAMP:20260423T083102
CREATED:20230919T010728Z
LAST-MODIFIED:20230919T010728Z
UID:10003787-1696164300-1696179600@collaroysurfclub.com.au
SUMMARY:PM Patrol - Patrol 11
DESCRIPTION:
URL:https://collaroysurfclub.com.au/event/pm-patrol-patrol-11/2023-10-01/
LOCATION:Collaroy SLSC\, 1054 Pittwater Road\,\, Collaroy\, Australia
CATEGORIES:Patrol 11
GEO:33"43'58"S;151"18'08"E
X-APPLE-STRUCTURED-LOCATION;VALUE=URI;X-ADDRESS=Collaroy SLSC 1054 Pittwater Road Collaroy Australia;X-APPLE-RADIUS=500;X-TITLE=1054 Pittwater Road\,:geo:151"18'08"E,33"43'58"S
END:VEVENT
BEGIN:VEVENT
DTSTART;TZID=Australia/Sydney:20231002T084500
DTEND;TZID=Australia/Sydney:20231002T130000
DTSTAMP:20260423T083102
CREATED:20230919T000933Z
LAST-MODIFIED:20230919T000933Z
UID:10003674-1696236300-1696251600@collaroysurfclub.com.au
SUMMARY:AM Patrol - Patrol 4
DESCRIPTION:
URL:https://collaroysurfclub.com.au/event/am-patrol-patrol-4/2023-10-02/
LOCATION:Collaroy SLSC\, 1054 Pittwater Road\,\, Collaroy\, Australia
CATEGORIES:Patrol 4
GEO:33"43'58"S;151"18'08"E
X-APPLE-STRUCTURED-LOCATION;VALUE=URI;X-ADDRESS=Collaroy SLSC 1054 Pittwater Road Collaroy Australia;X-APPLE-RADIUS=500;X-TITLE=1054 Pittwater Road\,:geo:151"18'08"E,33"43'58"S
END:VEVENT
BEGIN:VEVENT
DTSTART;TZID=Australia/Sydney:20231002T124500
DTEND;TZID=Australia/Sydney:20231002T170000
DTSTAMP:20260423T083102
CREATED:20230919T011020Z
LAST-MODIFIED:20230919T011020Z
UID:10003795-1696250700-1696266000@collaroysurfclub.com.au
SUMMARY:PM Patrol - Patrol 12
DESCRIPTION:
URL:https://collaroysurfclub.com.au/event/pm-patrol-patrol-12/2023-10-02/
LOCATION:Collaroy SLSC\, 1054 Pittwater Road\,\, Collaroy\, Australia
CATEGORIES:Patrol 12
GEO:33"43'58"S;151"18'08"E
X-APPLE-STRUCTURED-LOCATION;VALUE=URI;X-ADDRESS=Collaroy SLSC 1054 Pittwater Road Collaroy Australia;X-APPLE-RADIUS=500;X-TITLE=1054 Pittwater Road\,:geo:151"18'08"E,33"43'58"S
END:VEVENT
BEGIN:VEVENT
DTSTART;TZID=Australia/Sydney:20231007T084500
DTEND;TZID=Australia/Sydney:20231007T130000
DTSTAMP:20260423T083102
CREATED:20230919T000005Z
LAST-MODIFIED:20230919T000005Z
UID:10003662-1696668300-1696683600@collaroysurfclub.com.au
SUMMARY:AM Patrol - Patrol 1
DESCRIPTION:
URL:https://collaroysurfclub.com.au/event/am-patrol-patrol-1/2023-10-07/
LOCATION:Collaroy SLSC\, 1054 Pittwater Road\,\, Collaroy\, Australia
CATEGORIES:Patrol 1
GEO:33"43'58"S;151"18'08"E
X-APPLE-STRUCTURED-LOCATION;VALUE=URI;X-ADDRESS=Collaroy SLSC 1054 Pittwater Road Collaroy Australia;X-APPLE-RADIUS=500;X-TITLE=1054 Pittwater Road\,:geo:151"18'08"E,33"43'58"S
END:VEVENT
BEGIN:VEVENT
DTSTART;TZID=Australia/Sydney:20231007T124500
DTEND;TZID=Australia/Sydney:20231007T170000
DTSTAMP:20260423T083102
CREATED:20230919T005817Z
LAST-MODIFIED:20230919T011716Z
UID:10003765-1696682700-1696698000@collaroysurfclub.com.au
SUMMARY:PM Patrol - Patrol 7
DESCRIPTION:
URL:https://collaroysurfclub.com.au/event/pm-patrol-patrol-7/2023-10-07/
LOCATION:Collaroy SLSC\, 1054 Pittwater Road\,\, Collaroy\, Australia
CATEGORIES:Patrol 7
GEO:33"43'58"S;151"18'08"E
X-APPLE-STRUCTURED-LOCATION;VALUE=URI;X-ADDRESS=Collaroy SLSC 1054 Pittwater Road Collaroy Australia;X-APPLE-RADIUS=500;X-TITLE=1054 Pittwater Road\,:geo:151"18'08"E,33"43'58"S
END:VEVENT
BEGIN:VEVENT
DTSTART;TZID=Australia/Sydney:20231008T081500
DTEND;TZID=Australia/Sydney:20231008T113000
DTSTAMP:20260423T083102
CREATED:20230711T004144Z
LAST-MODIFIED:20240209T055052Z
UID:10003843-1696752900-1696764600@collaroysurfclub.com.au
SUMMARY:Nippers
DESCRIPTION:U6 – U8 at 8.30am\, U9 – U14 at 9.45am \n\n\n\nPlease arrive 15 minutes early and join your age group on the beach infront of the clubhouse.
URL:https://collaroysurfclub.com.au/event/first-nippers/2023-10-08/
LOCATION:Collaroy SLSC\, 1054 Pittwater Road\,\, Collaroy\, Australia
CATEGORIES:Nippers
GEO:33"43'58"S;151"18'08"E
X-APPLE-STRUCTURED-LOCATION;VALUE=URI;X-ADDRESS=Collaroy SLSC 1054 Pittwater Road Collaroy Australia;X-APPLE-RADIUS=500;X-TITLE=1054 Pittwater Road\,:geo:151"18'08"E,33"43'58"S
END:VEVENT
BEGIN:VEVENT
DTSTART;TZID=Australia/Sydney:20231008T083000
DTEND;TZID=Australia/Sydney:20231008T120000
DTSTAMP:20260423T083102
CREATED:20230711T005050Z
LAST-MODIFIED:20231004T230240Z
UID:10003658-1696753800-1696766400@collaroysurfclub.com.au
SUMMARY:Membership Registration and Renewals
DESCRIPTION:Membership Registration and Renewals can be completed online or in person at the clubhouse. \nClick here for more information.
URL:https://collaroysurfclub.com.au/event/membership-registration-and-renewals/2023-10-08/
LOCATION:Collaroy SLSC\, 1054 Pittwater Road\,\, Collaroy\, Australia
CATEGORIES:Club,Nippers
GEO:33"43'58"S;151"18'08"E
X-APPLE-STRUCTURED-LOCATION;VALUE=URI;X-ADDRESS=Collaroy SLSC 1054 Pittwater Road Collaroy Australia;X-APPLE-RADIUS=500;X-TITLE=1054 Pittwater Road\,:geo:151"18'08"E,33"43'58"S
END:VEVENT
BEGIN:VEVENT
DTSTART;TZID=Australia/Sydney:20231008T084500
DTEND;TZID=Australia/Sydney:20231008T130000
DTSTAMP:20260423T083102
CREATED:20230919T001844Z
LAST-MODIFIED:20230919T001844Z
UID:10003693-1696754700-1696770000@collaroysurfclub.com.au
SUMMARY:AM Patrol - Patrol 8
DESCRIPTION:
URL:https://collaroysurfclub.com.au/event/am-patrol-patrol-8/2023-10-08/
LOCATION:Collaroy SLSC\, 1054 Pittwater Road\,\, Collaroy\, Australia
CATEGORIES:Patrol 8
GEO:33"43'58"S;151"18'08"E
X-APPLE-STRUCTURED-LOCATION;VALUE=URI;X-ADDRESS=Collaroy SLSC 1054 Pittwater Road Collaroy Australia;X-APPLE-RADIUS=500;X-TITLE=1054 Pittwater Road\,:geo:151"18'08"E,33"43'58"S
END:VEVENT
BEGIN:VEVENT
DTSTART;TZID=Australia/Sydney:20231008T124500
DTEND;TZID=Australia/Sydney:20231008T170000
DTSTAMP:20260423T083102
CREATED:20230919T010432Z
LAST-MODIFIED:20230919T010432Z
UID:10003780-1696769100-1696784400@collaroysurfclub.com.au
SUMMARY:PM Patrol - Patrol 9
DESCRIPTION:
URL:https://collaroysurfclub.com.au/event/pm-patrol-patrol-9/2023-10-08/
LOCATION:Collaroy SLSC\, 1054 Pittwater Road\,\, Collaroy\, Australia
CATEGORIES:Patrol 9
GEO:33"43'58"S;151"18'08"E
X-APPLE-STRUCTURED-LOCATION;VALUE=URI;X-ADDRESS=Collaroy SLSC 1054 Pittwater Road Collaroy Australia;X-APPLE-RADIUS=500;X-TITLE=1054 Pittwater Road\,:geo:151"18'08"E,33"43'58"S
END:VEVENT
BEGIN:VEVENT
DTSTART;TZID=Australia/Sydney:20231014T084500
DTEND;TZID=Australia/Sydney:20231014T130000
DTSTAMP:20260423T083102
CREATED:20230919T001222Z
LAST-MODIFIED:20230919T001222Z
UID:10003681-1697273100-1697288400@collaroysurfclub.com.au
SUMMARY:AM Patrol - Patrol 5
DESCRIPTION:
URL:https://collaroysurfclub.com.au/event/am-patrol-patrol-5/2023-10-14/
LOCATION:Collaroy SLSC\, 1054 Pittwater Road\,\, Collaroy\, Australia
CATEGORIES:Patrol 5
GEO:33"43'58"S;151"18'08"E
X-APPLE-STRUCTURED-LOCATION;VALUE=URI;X-ADDRESS=Collaroy SLSC 1054 Pittwater Road Collaroy Australia;X-APPLE-RADIUS=500;X-TITLE=1054 Pittwater Road\,:geo:151"18'08"E,33"43'58"S
END:VEVENT
BEGIN:VEVENT
DTSTART;TZID=Australia/Sydney:20231014T124500
DTEND;TZID=Australia/Sydney:20231014T170000
DTSTAMP:20260423T083102
CREATED:20230919T005256Z
LAST-MODIFIED:20230919T005256Z
UID:10003752-1697287500-1697302800@collaroysurfclub.com.au
SUMMARY:PM Patrol - Patrol 4
DESCRIPTION:
URL:https://collaroysurfclub.com.au/event/pm-patrol-patrol-4/2023-10-14/
LOCATION:Collaroy SLSC\, 1054 Pittwater Road\,\, Collaroy\, Australia
CATEGORIES:Patrol 4
GEO:33"43'58"S;151"18'08"E
X-APPLE-STRUCTURED-LOCATION;VALUE=URI;X-ADDRESS=Collaroy SLSC 1054 Pittwater Road Collaroy Australia;X-APPLE-RADIUS=500;X-TITLE=1054 Pittwater Road\,:geo:151"18'08"E,33"43'58"S
END:VEVENT
BEGIN:VEVENT
DTSTART;TZID=Australia/Sydney:20231014T160000
DTEND;TZID=Australia/Sydney:20231014T220000
DTSTAMP:20260423T083102
CREATED:20231003T110017Z
LAST-MODIFIED:20231009T003910Z
UID:10003868-1697299200-1697320800@collaroysurfclub.com.au
SUMMARY:Nippers and Parents Meet and Greet
DESCRIPTION:
URL:https://collaroysurfclub.com.au/event/nippers-parents-meet-and-greet/
LOCATION:Collaroy SLSC\, 1054 Pittwater Road\,\, Collaroy\, Australia
CATEGORIES:Nippers
GEO:33"43'58"S;151"18'08"E
X-APPLE-STRUCTURED-LOCATION;VALUE=URI;X-ADDRESS=Collaroy SLSC 1054 Pittwater Road Collaroy Australia;X-APPLE-RADIUS=500;X-TITLE=1054 Pittwater Road\,:geo:151"18'08"E,33"43'58"S
END:VEVENT
BEGIN:VEVENT
DTSTART;TZID=Australia/Sydney:20231015T081500
DTEND;TZID=Australia/Sydney:20231015T113000
DTSTAMP:20260423T083102
CREATED:20230711T004144Z
LAST-MODIFIED:20240209T055052Z
UID:10003844-1697357700-1697369400@collaroysurfclub.com.au
SUMMARY:Nippers
DESCRIPTION:U6 – U8 at 8.30am\, U9 – U14 at 9.45am \n\n\n\nPlease arrive 15 minutes early and join your age group on the beach infront of the clubhouse.
URL:https://collaroysurfclub.com.au/event/first-nippers/2023-10-15/
LOCATION:Collaroy SLSC\, 1054 Pittwater Road\,\, Collaroy\, Australia
CATEGORIES:Nippers
GEO:33"43'58"S;151"18'08"E
X-APPLE-STRUCTURED-LOCATION;VALUE=URI;X-ADDRESS=Collaroy SLSC 1054 Pittwater Road Collaroy Australia;X-APPLE-RADIUS=500;X-TITLE=1054 Pittwater Road\,:geo:151"18'08"E,33"43'58"S
END:VEVENT
END:VCALENDAR