BEGIN:VCALENDAR
VERSION:2.0
PRODID:-//Collaroy Surf Life Saving Club - ECPv6.15.20//NONSGML v1.0//EN
CALSCALE:GREGORIAN
METHOD:PUBLISH
X-ORIGINAL-URL:https://collaroysurfclub.com.au
X-WR-CALDESC:Events for Collaroy Surf Life Saving Club
REFRESH-INTERVAL;VALUE=DURATION:PT1H
X-Robots-Tag:noindex
X-PUBLISHED-TTL:PT1H
BEGIN:VTIMEZONE
TZID:Australia/Sydney
BEGIN:STANDARD
TZOFFSETFROM:+1100
TZOFFSETTO:+1000
TZNAME:AEST
DTSTART:20220402T160000
END:STANDARD
BEGIN:DAYLIGHT
TZOFFSETFROM:+1000
TZOFFSETTO:+1100
TZNAME:AEDT
DTSTART:20221001T160000
END:DAYLIGHT
BEGIN:STANDARD
TZOFFSETFROM:+1100
TZOFFSETTO:+1000
TZNAME:AEST
DTSTART:20230401T160000
END:STANDARD
BEGIN:DAYLIGHT
TZOFFSETFROM:+1000
TZOFFSETTO:+1100
TZNAME:AEDT
DTSTART:20230930T160000
END:DAYLIGHT
BEGIN:STANDARD
TZOFFSETFROM:+1100
TZOFFSETTO:+1000
TZNAME:AEST
DTSTART:20240406T160000
END:STANDARD
BEGIN:DAYLIGHT
TZOFFSETFROM:+1000
TZOFFSETTO:+1100
TZNAME:AEDT
DTSTART:20241005T160000
END:DAYLIGHT
END:VTIMEZONE
BEGIN:VEVENT
DTSTART;VALUE=DATE:20230327
DTEND;VALUE=DATE:20230329
DTSTAMP:20260426T131656
CREATED:20220907T130438Z
LAST-MODIFIED:20220907T130438Z
UID:10003352-1679875200-1680047999@collaroysurfclub.com.au
SUMMARY:Aussies Masters
DESCRIPTION:
URL:https://collaroysurfclub.com.au/event/aussies-masters/
LOCATION:Scarborough SLSC\, 163 The Esplanade\, Scarborough\, WA\, Australia
CATEGORIES:Carnival
END:VEVENT
BEGIN:VEVENT
DTSTART;VALUE=DATE:20230329
DTEND;VALUE=DATE:20230401
DTSTAMP:20260426T131656
CREATED:20220907T131140Z
LAST-MODIFIED:20220907T131207Z
UID:10003353-1680048000-1680307199@collaroysurfclub.com.au
SUMMARY:Aussies Open
DESCRIPTION:
URL:https://collaroysurfclub.com.au/event/aussies-open/
LOCATION:Scarborough SLSC\, 163 The Esplanade\, Scarborough\, WA\, Australia
CATEGORIES:Carnival
END:VEVENT
BEGIN:VEVENT
DTSTART;TZID=Australia/Sydney:20230401T084500
DTEND;TZID=Australia/Sydney:20230401T170000
DTSTAMP:20260426T131656
CREATED:20220906T123041Z
LAST-MODIFIED:20220906T123539Z
UID:10003328-1680338700-1680368400@collaroysurfclub.com.au
SUMMARY:Volunteer Patrol
DESCRIPTION:
URL:https://collaroysurfclub.com.au/event/volunteer-patrol-2/2023-04-01/
LOCATION:Collaroy SLSC\, 1054 Pittwater Road\,\, Collaroy\, Australia
CATEGORIES:Patrol Volunteer
GEO:33"43'58"S;151"18'08"E
X-APPLE-STRUCTURED-LOCATION;VALUE=URI;X-ADDRESS=Collaroy SLSC 1054 Pittwater Road Collaroy Australia;X-APPLE-RADIUS=500;X-TITLE=1054 Pittwater Road\,:geo:151"18'08"E,33"43'58"S
END:VEVENT
BEGIN:VEVENT
DTSTART;TZID=Australia/Sydney:20230402T084500
DTEND;TZID=Australia/Sydney:20230402T170000
DTSTAMP:20260426T131656
CREATED:20220906T123041Z
LAST-MODIFIED:20220906T123539Z
UID:10003329-1680425100-1680454800@collaroysurfclub.com.au
SUMMARY:Volunteer Patrol
DESCRIPTION:
URL:https://collaroysurfclub.com.au/event/volunteer-patrol-2/2023-04-02/
LOCATION:Collaroy SLSC\, 1054 Pittwater Road\,\, Collaroy\, Australia
CATEGORIES:Patrol Volunteer
GEO:33"43'58"S;151"18'08"E
X-APPLE-STRUCTURED-LOCATION;VALUE=URI;X-ADDRESS=Collaroy SLSC 1054 Pittwater Road Collaroy Australia;X-APPLE-RADIUS=500;X-TITLE=1054 Pittwater Road\,:geo:151"18'08"E,33"43'58"S
END:VEVENT
BEGIN:VEVENT
DTSTART;TZID=Australia/Sydney:20230402T120000
DTEND;TZID=Australia/Sydney:20230402T160000
DTSTAMP:20260426T131656
CREATED:20221003T080757Z
LAST-MODIFIED:20221003T080907Z
UID:10003375-1680436800-1680451200@collaroysurfclub.com.au
SUMMARY:Sunday Sippers
DESCRIPTION:Join us in the bar every throughout the patrol season Sunday throughout the patrol season from 12pm until at least 4pm.
URL:https://collaroysurfclub.com.au/event/sunday-sippers-2/2023-04-02/
LOCATION:Collaroy SLSC\, 1054 Pittwater Road\,\, Collaroy\, Australia
CATEGORIES:Collaroy Bar
GEO:33"43'58"S;151"18'08"E
X-APPLE-STRUCTURED-LOCATION;VALUE=URI;X-ADDRESS=Collaroy SLSC 1054 Pittwater Road Collaroy Australia;X-APPLE-RADIUS=500;X-TITLE=1054 Pittwater Road\,:geo:151"18'08"E,33"43'58"S
END:VEVENT
BEGIN:VEVENT
DTSTART;TZID=Australia/Sydney:20230407T084500
DTEND;TZID=Australia/Sydney:20230407T130000
DTSTAMP:20260426T131656
CREATED:20220906T113008Z
LAST-MODIFIED:20220906T113008Z
UID:10003218-1680857100-1680872400@collaroysurfclub.com.au
SUMMARY:Patrol 2
DESCRIPTION:
URL:https://collaroysurfclub.com.au/event/patrol-2/2023-04-07/
LOCATION:Collaroy SLSC\, 1054 Pittwater Road\,\, Collaroy\, Australia
CATEGORIES:Patrol 2
GEO:33"43'58"S;151"18'08"E
X-APPLE-STRUCTURED-LOCATION;VALUE=URI;X-ADDRESS=Collaroy SLSC 1054 Pittwater Road Collaroy Australia;X-APPLE-RADIUS=500;X-TITLE=1054 Pittwater Road\,:geo:151"18'08"E,33"43'58"S
END:VEVENT
BEGIN:VEVENT
DTSTART;TZID=Australia/Sydney:20230407T131500
DTEND;TZID=Australia/Sydney:20230407T180000
DTSTAMP:20260426T131656
CREATED:20220906T112012Z
LAST-MODIFIED:20220906T112012Z
UID:10003612-1680873300-1680890400@collaroysurfclub.com.au
SUMMARY:Patrol 1
DESCRIPTION:
URL:https://collaroysurfclub.com.au/event/patrol-1/2023-04-07/
LOCATION:Collaroy SLSC\, 1054 Pittwater Road\,\, Collaroy\, Australia
CATEGORIES:Patrol 1
GEO:33"43'58"S;151"18'08"E
X-APPLE-STRUCTURED-LOCATION;VALUE=URI;X-ADDRESS=Collaroy SLSC 1054 Pittwater Road Collaroy Australia;X-APPLE-RADIUS=500;X-TITLE=1054 Pittwater Road\,:geo:151"18'08"E,33"43'58"S
END:VEVENT
BEGIN:VEVENT
DTSTART;TZID=Australia/Sydney:20230408T084500
DTEND;TZID=Australia/Sydney:20230408T133000
DTSTAMP:20260426T131656
CREATED:20220906T121531Z
LAST-MODIFIED:20220906T123728Z
UID:10003615-1680943500-1680960600@collaroysurfclub.com.au
SUMMARY:Patrol 12
DESCRIPTION:
URL:https://collaroysurfclub.com.au/event/patrol-12/2023-04-08/
LOCATION:Collaroy SLSC\, 1054 Pittwater Road\,\, Collaroy\, Australia
CATEGORIES:Patrol 12
GEO:33"43'58"S;151"18'08"E
X-APPLE-STRUCTURED-LOCATION;VALUE=URI;X-ADDRESS=Collaroy SLSC 1054 Pittwater Road Collaroy Australia;X-APPLE-RADIUS=500;X-TITLE=1054 Pittwater Road\,:geo:151"18'08"E,33"43'58"S
END:VEVENT
BEGIN:VEVENT
DTSTART;TZID=Australia/Sydney:20230408T124500
DTEND;TZID=Australia/Sydney:20230408T170000
DTSTAMP:20260426T131656
CREATED:20220906T120422Z
LAST-MODIFIED:20220906T124457Z
UID:10003281-1680957900-1680973200@collaroysurfclub.com.au
SUMMARY:Patrol 9
DESCRIPTION:
URL:https://collaroysurfclub.com.au/event/patrol-9/2023-04-08/
LOCATION:Collaroy SLSC\, 1054 Pittwater Road\,\, Collaroy\, Australia
CATEGORIES:Patrol 9
GEO:33"43'58"S;151"18'08"E
X-APPLE-STRUCTURED-LOCATION;VALUE=URI;X-ADDRESS=Collaroy SLSC 1054 Pittwater Road Collaroy Australia;X-APPLE-RADIUS=500;X-TITLE=1054 Pittwater Road\,:geo:151"18'08"E,33"43'58"S
END:VEVENT
BEGIN:VEVENT
DTSTART;TZID=Australia/Sydney:20230409T084500
DTEND;TZID=Australia/Sydney:20230409T130000
DTSTAMP:20260426T131656
CREATED:20220906T121033Z
LAST-MODIFIED:20220906T124257Z
UID:10003295-1681029900-1681045200@collaroysurfclub.com.au
SUMMARY:Patrol 11
DESCRIPTION:
URL:https://collaroysurfclub.com.au/event/patrol-11/2023-04-09/
LOCATION:Collaroy SLSC\, 1054 Pittwater Road\,\, Collaroy\, Australia
CATEGORIES:Patrol 11
GEO:33"43'58"S;151"18'08"E
X-APPLE-STRUCTURED-LOCATION;VALUE=URI;X-ADDRESS=Collaroy SLSC 1054 Pittwater Road Collaroy Australia;X-APPLE-RADIUS=500;X-TITLE=1054 Pittwater Road\,:geo:151"18'08"E,33"43'58"S
END:VEVENT
BEGIN:VEVENT
DTSTART;TZID=Australia/Sydney:20230409T120000
DTEND;TZID=Australia/Sydney:20230409T160000
DTSTAMP:20260426T131656
CREATED:20221003T080757Z
LAST-MODIFIED:20221003T080907Z
UID:10003376-1681041600-1681056000@collaroysurfclub.com.au
SUMMARY:Sunday Sippers
DESCRIPTION:Join us in the bar every throughout the patrol season Sunday throughout the patrol season from 12pm until at least 4pm.
URL:https://collaroysurfclub.com.au/event/sunday-sippers-2/2023-04-09/
LOCATION:Collaroy SLSC\, 1054 Pittwater Road\,\, Collaroy\, Australia
CATEGORIES:Collaroy Bar
GEO:33"43'58"S;151"18'08"E
X-APPLE-STRUCTURED-LOCATION;VALUE=URI;X-ADDRESS=Collaroy SLSC 1054 Pittwater Road Collaroy Australia;X-APPLE-RADIUS=500;X-TITLE=1054 Pittwater Road\,:geo:151"18'08"E,33"43'58"S
END:VEVENT
BEGIN:VEVENT
DTSTART;TZID=Australia/Sydney:20230409T124500
DTEND;TZID=Australia/Sydney:20230409T170000
DTSTAMP:20260426T131656
CREATED:20220906T113826Z
LAST-MODIFIED:20220906T113826Z
UID:10003230-1681044300-1681059600@collaroysurfclub.com.au
SUMMARY:Patrol 4
DESCRIPTION:
URL:https://collaroysurfclub.com.au/event/patrol-4/2023-04-09/
LOCATION:Collaroy SLSC\, 1054 Pittwater Road\,\, Collaroy\, Australia
CATEGORIES:Patrol 4
GEO:33"43'58"S;151"18'08"E
X-APPLE-STRUCTURED-LOCATION;VALUE=URI;X-ADDRESS=Collaroy SLSC 1054 Pittwater Road Collaroy Australia;X-APPLE-RADIUS=500;X-TITLE=1054 Pittwater Road\,:geo:151"18'08"E,33"43'58"S
END:VEVENT
BEGIN:VEVENT
DTSTART;TZID=Australia/Sydney:20230410T084500
DTEND;TZID=Australia/Sydney:20230410T130000
DTSTAMP:20260426T131656
CREATED:20220906T114450Z
LAST-MODIFIED:20220906T124052Z
UID:10003243-1681116300-1681131600@collaroysurfclub.com.au
SUMMARY:Patrol 5
DESCRIPTION:
URL:https://collaroysurfclub.com.au/event/patrol-5/2023-04-10/
LOCATION:Collaroy SLSC\, 1054 Pittwater Road\,\, Collaroy\, Australia
CATEGORIES:Patrol 5
GEO:33"43'58"S;151"18'08"E
X-APPLE-STRUCTURED-LOCATION;VALUE=URI;X-ADDRESS=Collaroy SLSC 1054 Pittwater Road Collaroy Australia;X-APPLE-RADIUS=500;X-TITLE=1054 Pittwater Road\,:geo:151"18'08"E,33"43'58"S
END:VEVENT
BEGIN:VEVENT
DTSTART;TZID=Australia/Sydney:20230410T124500
DTEND;TZID=Australia/Sydney:20230410T170000
DTSTAMP:20260426T131656
CREATED:20220906T115740Z
LAST-MODIFIED:20220906T123908Z
UID:10003269-1681130700-1681146000@collaroysurfclub.com.au
SUMMARY:Patrol 8
DESCRIPTION:
URL:https://collaroysurfclub.com.au/event/patrol-8/2023-04-10/
LOCATION:Collaroy SLSC\, 1054 Pittwater Road\,\, Collaroy\, Australia
CATEGORIES:Patrol 8
GEO:33"43'58"S;151"18'08"E
X-APPLE-STRUCTURED-LOCATION;VALUE=URI;X-ADDRESS=Collaroy SLSC 1054 Pittwater Road Collaroy Australia;X-APPLE-RADIUS=500;X-TITLE=1054 Pittwater Road\,:geo:151"18'08"E,33"43'58"S
END:VEVENT
BEGIN:VEVENT
DTSTART;TZID=Australia/Sydney:20230415T084500
DTEND;TZID=Australia/Sydney:20230415T133000
DTSTAMP:20260426T131656
CREATED:20220906T120422Z
LAST-MODIFIED:20220906T124457Z
UID:10003606-1681548300-1681565400@collaroysurfclub.com.au
SUMMARY:Patrol 9
DESCRIPTION:
URL:https://collaroysurfclub.com.au/event/patrol-9/2023-04-15/
LOCATION:Collaroy SLSC\, 1054 Pittwater Road\,\, Collaroy\, Australia
CATEGORIES:Patrol 9
GEO:33"43'58"S;151"18'08"E
X-APPLE-STRUCTURED-LOCATION;VALUE=URI;X-ADDRESS=Collaroy SLSC 1054 Pittwater Road Collaroy Australia;X-APPLE-RADIUS=500;X-TITLE=1054 Pittwater Road\,:geo:151"18'08"E,33"43'58"S
END:VEVENT
BEGIN:VEVENT
DTSTART;TZID=Australia/Sydney:20230415T131500
DTEND;TZID=Australia/Sydney:20230415T180000
DTSTAMP:20260426T131656
CREATED:20220906T112012Z
LAST-MODIFIED:20220906T112012Z
UID:10003613-1681564500-1681581600@collaroysurfclub.com.au
SUMMARY:Patrol 1
DESCRIPTION:
URL:https://collaroysurfclub.com.au/event/patrol-1/2023-04-15/
LOCATION:Collaroy SLSC\, 1054 Pittwater Road\,\, Collaroy\, Australia
CATEGORIES:Patrol 1
GEO:33"43'58"S;151"18'08"E
X-APPLE-STRUCTURED-LOCATION;VALUE=URI;X-ADDRESS=Collaroy SLSC 1054 Pittwater Road Collaroy Australia;X-APPLE-RADIUS=500;X-TITLE=1054 Pittwater Road\,:geo:151"18'08"E,33"43'58"S
END:VEVENT
BEGIN:VEVENT
DTSTART;TZID=Australia/Sydney:20230416T084500
DTEND;TZID=Australia/Sydney:20230416T133000
DTSTAMP:20260426T131656
CREATED:20220906T113826Z
LAST-MODIFIED:20220906T113826Z
UID:10003604-1681634700-1681651800@collaroysurfclub.com.au
SUMMARY:Patrol 4
DESCRIPTION:
URL:https://collaroysurfclub.com.au/event/patrol-4/2023-04-16/
LOCATION:Collaroy SLSC\, 1054 Pittwater Road\,\, Collaroy\, Australia
CATEGORIES:Patrol 4
GEO:33"43'58"S;151"18'08"E
X-APPLE-STRUCTURED-LOCATION;VALUE=URI;X-ADDRESS=Collaroy SLSC 1054 Pittwater Road Collaroy Australia;X-APPLE-RADIUS=500;X-TITLE=1054 Pittwater Road\,:geo:151"18'08"E,33"43'58"S
END:VEVENT
BEGIN:VEVENT
DTSTART;TZID=Australia/Sydney:20230416T120000
DTEND;TZID=Australia/Sydney:20230416T160000
DTSTAMP:20260426T131656
CREATED:20221003T080757Z
LAST-MODIFIED:20221003T080907Z
UID:10003377-1681646400-1681660800@collaroysurfclub.com.au
SUMMARY:Sunday Sippers
DESCRIPTION:Join us in the bar every throughout the patrol season Sunday throughout the patrol season from 12pm until at least 4pm.
URL:https://collaroysurfclub.com.au/event/sunday-sippers-2/2023-04-16/
LOCATION:Collaroy SLSC\, 1054 Pittwater Road\,\, Collaroy\, Australia
CATEGORIES:Collaroy Bar
GEO:33"43'58"S;151"18'08"E
X-APPLE-STRUCTURED-LOCATION;VALUE=URI;X-ADDRESS=Collaroy SLSC 1054 Pittwater Road Collaroy Australia;X-APPLE-RADIUS=500;X-TITLE=1054 Pittwater Road\,:geo:151"18'08"E,33"43'58"S
END:VEVENT
BEGIN:VEVENT
DTSTART;TZID=Australia/Sydney:20230416T124500
DTEND;TZID=Australia/Sydney:20230416T170000
DTSTAMP:20260426T131656
CREATED:20220906T115118Z
LAST-MODIFIED:20220906T115118Z
UID:10003256-1681649100-1681664400@collaroysurfclub.com.au
SUMMARY:Patrol 7
DESCRIPTION:
URL:https://collaroysurfclub.com.au/event/patrol-7/2023-04-16/
LOCATION:Collaroy SLSC\, 1054 Pittwater Road\,\, Collaroy\, Australia
CATEGORIES:Patrol 7
GEO:33"43'58"S;151"18'08"E
X-APPLE-STRUCTURED-LOCATION;VALUE=URI;X-ADDRESS=Collaroy SLSC 1054 Pittwater Road Collaroy Australia;X-APPLE-RADIUS=500;X-TITLE=1054 Pittwater Road\,:geo:151"18'08"E,33"43'58"S
END:VEVENT
BEGIN:VEVENT
DTSTART;TZID=Australia/Sydney:20230422T124500
DTEND;TZID=Australia/Sydney:20230422T170000
DTSTAMP:20260426T131656
CREATED:20220906T121531Z
LAST-MODIFIED:20220906T123728Z
UID:10003308-1682167500-1682182800@collaroysurfclub.com.au
SUMMARY:Patrol 12
DESCRIPTION:
URL:https://collaroysurfclub.com.au/event/patrol-12/2023-04-22/
LOCATION:Collaroy SLSC\, 1054 Pittwater Road\,\, Collaroy\, Australia
CATEGORIES:Patrol 12
GEO:33"43'58"S;151"18'08"E
X-APPLE-STRUCTURED-LOCATION;VALUE=URI;X-ADDRESS=Collaroy SLSC 1054 Pittwater Road Collaroy Australia;X-APPLE-RADIUS=500;X-TITLE=1054 Pittwater Road\,:geo:151"18'08"E,33"43'58"S
END:VEVENT
BEGIN:VEVENT
DTSTART;TZID=Australia/Sydney:20230422T131500
DTEND;TZID=Australia/Sydney:20230422T180000
DTSTAMP:20260426T131656
CREATED:20220906T115740Z
LAST-MODIFIED:20220906T123908Z
UID:10003614-1682169300-1682186400@collaroysurfclub.com.au
SUMMARY:Patrol 8
DESCRIPTION:
URL:https://collaroysurfclub.com.au/event/patrol-8/2023-04-22/
LOCATION:Collaroy SLSC\, 1054 Pittwater Road\,\, Collaroy\, Australia
CATEGORIES:Patrol 8
GEO:33"43'58"S;151"18'08"E
X-APPLE-STRUCTURED-LOCATION;VALUE=URI;X-ADDRESS=Collaroy SLSC 1054 Pittwater Road Collaroy Australia;X-APPLE-RADIUS=500;X-TITLE=1054 Pittwater Road\,:geo:151"18'08"E,33"43'58"S
END:VEVENT
BEGIN:VEVENT
DTSTART;TZID=Australia/Sydney:20230423T084500
DTEND;TZID=Australia/Sydney:20230423T130000
DTSTAMP:20260426T131656
CREATED:20220906T113008Z
LAST-MODIFIED:20220906T113008Z
UID:10003219-1682239500-1682254800@collaroysurfclub.com.au
SUMMARY:Patrol 2
DESCRIPTION:
URL:https://collaroysurfclub.com.au/event/patrol-2/2023-04-23/
LOCATION:Collaroy SLSC\, 1054 Pittwater Road\,\, Collaroy\, Australia
CATEGORIES:Patrol 2
GEO:33"43'58"S;151"18'08"E
X-APPLE-STRUCTURED-LOCATION;VALUE=URI;X-ADDRESS=Collaroy SLSC 1054 Pittwater Road Collaroy Australia;X-APPLE-RADIUS=500;X-TITLE=1054 Pittwater Road\,:geo:151"18'08"E,33"43'58"S
END:VEVENT
BEGIN:VEVENT
DTSTART;TZID=Australia/Sydney:20230423T120000
DTEND;TZID=Australia/Sydney:20230423T160000
DTSTAMP:20260426T131656
CREATED:20221003T080757Z
LAST-MODIFIED:20221003T080907Z
UID:10003378-1682251200-1682265600@collaroysurfclub.com.au
SUMMARY:Sunday Sippers
DESCRIPTION:Join us in the bar every throughout the patrol season Sunday throughout the patrol season from 12pm until at least 4pm.
URL:https://collaroysurfclub.com.au/event/sunday-sippers-2/2023-04-23/
LOCATION:Collaroy SLSC\, 1054 Pittwater Road\,\, Collaroy\, Australia
CATEGORIES:Collaroy Bar
GEO:33"43'58"S;151"18'08"E
X-APPLE-STRUCTURED-LOCATION;VALUE=URI;X-ADDRESS=Collaroy SLSC 1054 Pittwater Road Collaroy Australia;X-APPLE-RADIUS=500;X-TITLE=1054 Pittwater Road\,:geo:151"18'08"E,33"43'58"S
END:VEVENT
BEGIN:VEVENT
DTSTART;TZID=Australia/Sydney:20230423T131500
DTEND;TZID=Australia/Sydney:20230423T180000
DTSTAMP:20260426T131656
CREATED:20220906T121033Z
LAST-MODIFIED:20220906T124257Z
UID:10003589-1682255700-1682272800@collaroysurfclub.com.au
SUMMARY:Patrol 11
DESCRIPTION:
URL:https://collaroysurfclub.com.au/event/patrol-11/2023-04-23/
LOCATION:Collaroy SLSC\, 1054 Pittwater Road\,\, Collaroy\, Australia
CATEGORIES:Patrol 11
GEO:33"43'58"S;151"18'08"E
X-APPLE-STRUCTURED-LOCATION;VALUE=URI;X-ADDRESS=Collaroy SLSC 1054 Pittwater Road Collaroy Australia;X-APPLE-RADIUS=500;X-TITLE=1054 Pittwater Road\,:geo:151"18'08"E,33"43'58"S
END:VEVENT
BEGIN:VEVENT
DTSTART;TZID=Australia/Sydney:20230425T124500
DTEND;TZID=Australia/Sydney:20230425T170000
DTSTAMP:20260426T131656
CREATED:20220906T120422Z
LAST-MODIFIED:20220906T124457Z
UID:10003283-1682426700-1682442000@collaroysurfclub.com.au
SUMMARY:Patrol 9
DESCRIPTION:
URL:https://collaroysurfclub.com.au/event/patrol-9/2023-04-25/
LOCATION:Collaroy SLSC\, 1054 Pittwater Road\,\, Collaroy\, Australia
CATEGORIES:Patrol 9
GEO:33"43'58"S;151"18'08"E
X-APPLE-STRUCTURED-LOCATION;VALUE=URI;X-ADDRESS=Collaroy SLSC 1054 Pittwater Road Collaroy Australia;X-APPLE-RADIUS=500;X-TITLE=1054 Pittwater Road\,:geo:151"18'08"E,33"43'58"S
END:VEVENT
BEGIN:VEVENT
DTSTART;TZID=Australia/Sydney:20230425T131500
DTEND;TZID=Australia/Sydney:20230425T180000
DTSTAMP:20260426T131656
CREATED:20220906T115118Z
LAST-MODIFIED:20220906T115118Z
UID:10003610-1682428500-1682445600@collaroysurfclub.com.au
SUMMARY:Patrol 7
DESCRIPTION:
URL:https://collaroysurfclub.com.au/event/patrol-7/2023-04-25/
LOCATION:Collaroy SLSC\, 1054 Pittwater Road\,\, Collaroy\, Australia
CATEGORIES:Patrol 7
GEO:33"43'58"S;151"18'08"E
X-APPLE-STRUCTURED-LOCATION;VALUE=URI;X-ADDRESS=Collaroy SLSC 1054 Pittwater Road Collaroy Australia;X-APPLE-RADIUS=500;X-TITLE=1054 Pittwater Road\,:geo:151"18'08"E,33"43'58"S
END:VEVENT
BEGIN:VEVENT
DTSTART;TZID=Australia/Sydney:20230531T180000
DTEND;TZID=Australia/Sydney:20230531T230000
DTSTAMP:20260426T131656
CREATED:20230531T041807Z
LAST-MODIFIED:20230531T041807Z
UID:10003593-1685556000-1685574000@collaroysurfclub.com.au
SUMMARY:State of Origin
DESCRIPTION:Join your mates for State of Origin at the surf club\, opening at 6pm\, kick off at 8pm with $5 schooners and wine from 6pm until first points in the game\, and doubles available on the game.
URL:https://collaroysurfclub.com.au/event/state-of-origin/2023-05-31/
LOCATION:Collaroy SLSC\, 1054 Pittwater Road\,\, Collaroy\, Australia
CATEGORIES:Collaroy Bar
ATTACH;FMTTYPE=image/png:https://collaroysurfclub.com.au/wp-content/uploads/2023/05/Origin-2023.png
GEO:33"43'58"S;151"18'08"E
X-APPLE-STRUCTURED-LOCATION;VALUE=URI;X-ADDRESS=Collaroy SLSC 1054 Pittwater Road Collaroy Australia;X-APPLE-RADIUS=500;X-TITLE=1054 Pittwater Road\,:geo:151"18'08"E,33"43'58"S
END:VEVENT
BEGIN:VEVENT
DTSTART;TZID=Australia/Sydney:20230621T180000
DTEND;TZID=Australia/Sydney:20230621T230000
DTSTAMP:20260426T131656
CREATED:20230531T041807Z
LAST-MODIFIED:20230531T041807Z
UID:10003594-1687370400-1687388400@collaroysurfclub.com.au
SUMMARY:State of Origin
DESCRIPTION:Join your mates for State of Origin at the surf club\, opening at 6pm\, kick off at 8pm with $5 schooners and wine from 6pm until first points in the game\, and doubles available on the game.
URL:https://collaroysurfclub.com.au/event/state-of-origin/2023-06-21/
LOCATION:Collaroy SLSC\, 1054 Pittwater Road\,\, Collaroy\, Australia
CATEGORIES:Collaroy Bar
ATTACH;FMTTYPE=image/png:https://collaroysurfclub.com.au/wp-content/uploads/2023/05/Origin-2023.png
GEO:33"43'58"S;151"18'08"E
X-APPLE-STRUCTURED-LOCATION;VALUE=URI;X-ADDRESS=Collaroy SLSC 1054 Pittwater Road Collaroy Australia;X-APPLE-RADIUS=500;X-TITLE=1054 Pittwater Road\,:geo:151"18'08"E,33"43'58"S
END:VEVENT
BEGIN:VEVENT
DTSTART;TZID=Australia/Sydney:20230701T180000
DTEND;TZID=Australia/Sydney:20230701T230000
DTSTAMP:20260426T131656
CREATED:20230701T073836Z
LAST-MODIFIED:20230701T073950Z
UID:10003607-1688234400-1688252400@collaroysurfclub.com.au
SUMMARY:Presentation Night
DESCRIPTION:Members are invited to come along to our Presentation Night where all lifesaving and club/section awards will be presented.\n\nIf you received a lifesaving award this season please come along and collect your award.\n\nClub awards will follow the Lifesaving presentation.\n\nDinner will be served after the formalities and the bar will be open from 6 pm.\n\nWe hope you can join your fellow members for what is always a great night of fun and celebration.
URL:https://collaroysurfclub.com.au/event/presentation-night/
LOCATION:Collaroy SLSC\, 1054 Pittwater Road\,\, Collaroy\, Australia
CATEGORIES:Club,Function
GEO:33"43'58"S;151"18'08"E
X-APPLE-STRUCTURED-LOCATION;VALUE=URI;X-ADDRESS=Collaroy SLSC 1054 Pittwater Road Collaroy Australia;X-APPLE-RADIUS=500;X-TITLE=1054 Pittwater Road\,:geo:151"18'08"E,33"43'58"S
END:VEVENT
BEGIN:VEVENT
DTSTART;TZID=Australia/Sydney:20230712T180000
DTEND;TZID=Australia/Sydney:20230712T230000
DTSTAMP:20260426T131656
CREATED:20230531T041807Z
LAST-MODIFIED:20230531T041807Z
UID:10003595-1689184800-1689202800@collaroysurfclub.com.au
SUMMARY:State of Origin
DESCRIPTION:Join your mates for State of Origin at the surf club\, opening at 6pm\, kick off at 8pm with $5 schooners and wine from 6pm until first points in the game\, and doubles available on the game.
URL:https://collaroysurfclub.com.au/event/state-of-origin/2023-07-12/
LOCATION:Collaroy SLSC\, 1054 Pittwater Road\,\, Collaroy\, Australia
CATEGORIES:Collaroy Bar
ATTACH;FMTTYPE=image/png:https://collaroysurfclub.com.au/wp-content/uploads/2023/05/Origin-2023.png
GEO:33"43'58"S;151"18'08"E
X-APPLE-STRUCTURED-LOCATION;VALUE=URI;X-ADDRESS=Collaroy SLSC 1054 Pittwater Road Collaroy Australia;X-APPLE-RADIUS=500;X-TITLE=1054 Pittwater Road\,:geo:151"18'08"E,33"43'58"S
END:VEVENT
END:VCALENDAR