BEGIN:VCALENDAR
VERSION:2.0
PRODID:-//Collaroy Surf Life Saving Club - ECPv6.15.20//NONSGML v1.0//EN
CALSCALE:GREGORIAN
METHOD:PUBLISH
X-ORIGINAL-URL:https://collaroysurfclub.com.au
X-WR-CALDESC:Events for Collaroy Surf Life Saving Club
REFRESH-INTERVAL;VALUE=DURATION:PT1H
X-Robots-Tag:noindex
X-PUBLISHED-TTL:PT1H
BEGIN:VTIMEZONE
TZID:Australia/Sydney
BEGIN:STANDARD
TZOFFSETFROM:+1100
TZOFFSETTO:+1000
TZNAME:AEST
DTSTART:20220402T160000
END:STANDARD
BEGIN:DAYLIGHT
TZOFFSETFROM:+1000
TZOFFSETTO:+1100
TZNAME:AEDT
DTSTART:20221001T160000
END:DAYLIGHT
BEGIN:STANDARD
TZOFFSETFROM:+1100
TZOFFSETTO:+1000
TZNAME:AEST
DTSTART:20230401T160000
END:STANDARD
BEGIN:DAYLIGHT
TZOFFSETFROM:+1000
TZOFFSETTO:+1100
TZNAME:AEDT
DTSTART:20230930T160000
END:DAYLIGHT
BEGIN:STANDARD
TZOFFSETFROM:+1100
TZOFFSETTO:+1000
TZNAME:AEST
DTSTART:20240406T160000
END:STANDARD
BEGIN:DAYLIGHT
TZOFFSETFROM:+1000
TZOFFSETTO:+1100
TZNAME:AEDT
DTSTART:20241005T160000
END:DAYLIGHT
END:VTIMEZONE
BEGIN:VEVENT
DTSTART;TZID=Australia/Sydney:20230223T080000
DTEND;TZID=Australia/Sydney:20230223T170000
DTSTAMP:20260426T142720
CREATED:20230110T103640Z
LAST-MODIFIED:20230110T103640Z
UID:10003546-1677139200-1677171600@collaroysurfclub.com.au
SUMMARY:NSW Surf Lifesaving Championships - Age Championships
DESCRIPTION:
URL:https://collaroysurfclub.com.au/event/nsw-surf-lifesaving-championships-age-championships/2023-02-23/
LOCATION:Queenscliff SLSC\, 677Q+J4 Manly\, New South Wales\, Australia
CATEGORIES:Carnival
END:VEVENT
BEGIN:VEVENT
DTSTART;TZID=Australia/Sydney:20230224T080000
DTEND;TZID=Australia/Sydney:20230224T170000
DTSTAMP:20260426T142720
CREATED:20230110T103640Z
LAST-MODIFIED:20230110T103640Z
UID:10003547-1677225600-1677258000@collaroysurfclub.com.au
SUMMARY:NSW Surf Lifesaving Championships - Age Championships
DESCRIPTION:
URL:https://collaroysurfclub.com.au/event/nsw-surf-lifesaving-championships-age-championships/2023-02-24/
LOCATION:Queenscliff SLSC\, 677Q+J4 Manly\, New South Wales\, Australia
CATEGORIES:Carnival
END:VEVENT
BEGIN:VEVENT
DTSTART;TZID=Australia/Sydney:20230225T080000
DTEND;TZID=Australia/Sydney:20230225T170000
DTSTAMP:20260426T142720
CREATED:20230110T103640Z
LAST-MODIFIED:20230110T103640Z
UID:10003548-1677312000-1677344400@collaroysurfclub.com.au
SUMMARY:NSW Surf Lifesaving Championships - Age Championships
DESCRIPTION:
URL:https://collaroysurfclub.com.au/event/nsw-surf-lifesaving-championships-age-championships/2023-02-25/
LOCATION:Queenscliff SLSC\, 677Q+J4 Manly\, New South Wales\, Australia
CATEGORIES:Carnival
END:VEVENT
BEGIN:VEVENT
DTSTART;TZID=Australia/Sydney:20230225T080000
DTEND;TZID=Australia/Sydney:20230225T170000
DTSTAMP:20260426T142720
CREATED:20230110T103757Z
LAST-MODIFIED:20230110T103757Z
UID:10003550-1677312000-1677344400@collaroysurfclub.com.au
SUMMARY:NSW Surf Lifesaving Championships - First Aid
DESCRIPTION:
URL:https://collaroysurfclub.com.au/event/nsw-surf-lifesaving-championships-first-aid/2023-02-25/
LOCATION:Freshwater SLSC\, 679Q+HX Freshwater\, New South Wales
CATEGORIES:Carnival
END:VEVENT
BEGIN:VEVENT
DTSTART;TZID=Australia/Sydney:20230225T084500
DTEND;TZID=Australia/Sydney:20230225T133000
DTSTAMP:20260426T142720
CREATED:20220906T113826Z
LAST-MODIFIED:20220906T113826Z
UID:10003229-1677314700-1677331800@collaroysurfclub.com.au
SUMMARY:Patrol 4
DESCRIPTION:
URL:https://collaroysurfclub.com.au/event/patrol-4/2023-02-25/
LOCATION:Collaroy SLSC\, 1054 Pittwater Road\,\, Collaroy\, Australia
CATEGORIES:Patrol 4
GEO:33"43'58"S;151"18'08"E
X-APPLE-STRUCTURED-LOCATION;VALUE=URI;X-ADDRESS=Collaroy SLSC 1054 Pittwater Road Collaroy Australia;X-APPLE-RADIUS=500;X-TITLE=1054 Pittwater Road\,:geo:151"18'08"E,33"43'58"S
END:VEVENT
BEGIN:VEVENT
DTSTART;TZID=Australia/Sydney:20230225T131500
DTEND;TZID=Australia/Sydney:20230225T180000
DTSTAMP:20260426T142720
CREATED:20220906T121033Z
LAST-MODIFIED:20220906T124257Z
UID:10003588-1677330900-1677348000@collaroysurfclub.com.au
SUMMARY:Patrol 11
DESCRIPTION:
URL:https://collaroysurfclub.com.au/event/patrol-11/2023-02-25/
LOCATION:Collaroy SLSC\, 1054 Pittwater Road\,\, Collaroy\, Australia
CATEGORIES:Patrol 11
GEO:33"43'58"S;151"18'08"E
X-APPLE-STRUCTURED-LOCATION;VALUE=URI;X-ADDRESS=Collaroy SLSC 1054 Pittwater Road Collaroy Australia;X-APPLE-RADIUS=500;X-TITLE=1054 Pittwater Road\,:geo:151"18'08"E,33"43'58"S
END:VEVENT
BEGIN:VEVENT
DTSTART;TZID=Australia/Sydney:20230226T080000
DTEND;TZID=Australia/Sydney:20230226T170000
DTSTAMP:20260426T142720
CREATED:20230110T103640Z
LAST-MODIFIED:20230110T103640Z
UID:10003549-1677398400-1677430800@collaroysurfclub.com.au
SUMMARY:NSW Surf Lifesaving Championships - Age Championships
DESCRIPTION:
URL:https://collaroysurfclub.com.au/event/nsw-surf-lifesaving-championships-age-championships/2023-02-26/
LOCATION:Queenscliff SLSC\, 677Q+J4 Manly\, New South Wales\, Australia
CATEGORIES:Carnival
END:VEVENT
BEGIN:VEVENT
DTSTART;TZID=Australia/Sydney:20230226T080000
DTEND;TZID=Australia/Sydney:20230226T170000
DTSTAMP:20260426T142720
CREATED:20230110T103757Z
LAST-MODIFIED:20230110T103757Z
UID:10003551-1677398400-1677430800@collaroysurfclub.com.au
SUMMARY:NSW Surf Lifesaving Championships - First Aid
DESCRIPTION:
URL:https://collaroysurfclub.com.au/event/nsw-surf-lifesaving-championships-first-aid/2023-02-26/
LOCATION:Freshwater SLSC\, 679Q+HX Freshwater\, New South Wales
CATEGORIES:Carnival
END:VEVENT
BEGIN:VEVENT
DTSTART;TZID=Australia/Sydney:20230226T120000
DTEND;TZID=Australia/Sydney:20230226T160000
DTSTAMP:20260426T142720
CREATED:20221003T080757Z
LAST-MODIFIED:20221003T080907Z
UID:10003370-1677412800-1677427200@collaroysurfclub.com.au
SUMMARY:Sunday Sippers
DESCRIPTION:Join us in the bar every throughout the patrol season Sunday throughout the patrol season from 12pm until at least 4pm.
URL:https://collaroysurfclub.com.au/event/sunday-sippers-2/2023-02-26/
LOCATION:Collaroy SLSC\, 1054 Pittwater Road\,\, Collaroy\, Australia
CATEGORIES:Collaroy Bar
GEO:33"43'58"S;151"18'08"E
X-APPLE-STRUCTURED-LOCATION;VALUE=URI;X-ADDRESS=Collaroy SLSC 1054 Pittwater Road Collaroy Australia;X-APPLE-RADIUS=500;X-TITLE=1054 Pittwater Road\,:geo:151"18'08"E,33"43'58"S
END:VEVENT
BEGIN:VEVENT
DTSTART;TZID=Australia/Sydney:20230226T124500
DTEND;TZID=Australia/Sydney:20230226T170000
DTSTAMP:20260426T142720
CREATED:20220906T120422Z
LAST-MODIFIED:20220906T124457Z
UID:10003279-1677415500-1677430800@collaroysurfclub.com.au
SUMMARY:Patrol 9
DESCRIPTION:
URL:https://collaroysurfclub.com.au/event/patrol-9/2023-02-26/
LOCATION:Collaroy SLSC\, 1054 Pittwater Road\,\, Collaroy\, Australia
CATEGORIES:Patrol 9
GEO:33"43'58"S;151"18'08"E
X-APPLE-STRUCTURED-LOCATION;VALUE=URI;X-ADDRESS=Collaroy SLSC 1054 Pittwater Road Collaroy Australia;X-APPLE-RADIUS=500;X-TITLE=1054 Pittwater Road\,:geo:151"18'08"E,33"43'58"S
END:VEVENT
BEGIN:VEVENT
DTSTART;TZID=Australia/Sydney:20230226T131500
DTEND;TZID=Australia/Sydney:20230226T180000
DTSTAMP:20260426T142720
CREATED:20220906T115118Z
LAST-MODIFIED:20220906T115118Z
UID:10003608-1677417300-1677434400@collaroysurfclub.com.au
SUMMARY:Patrol 7
DESCRIPTION:
URL:https://collaroysurfclub.com.au/event/patrol-7/2023-02-26/
LOCATION:Collaroy SLSC\, 1054 Pittwater Road\,\, Collaroy\, Australia
CATEGORIES:Patrol 7
GEO:33"43'58"S;151"18'08"E
X-APPLE-STRUCTURED-LOCATION;VALUE=URI;X-ADDRESS=Collaroy SLSC 1054 Pittwater Road Collaroy Australia;X-APPLE-RADIUS=500;X-TITLE=1054 Pittwater Road\,:geo:151"18'08"E,33"43'58"S
END:VEVENT
BEGIN:VEVENT
DTSTART;TZID=Australia/Sydney:20230226T194400
DTEND;TZID=Australia/Sydney:20230226T194400
DTSTAMP:20260426T142720
CREATED:20230110T084758Z
LAST-MODIFIED:20230110T084800Z
UID:10003478-1677440640-1677440640@collaroysurfclub.com.au
SUMMARY:Nippers
DESCRIPTION:U6-U8 8.30am – 9.30am\nU9-U14 9.45am – 11.00am \nPlease be ready 15 minutes prior to the scheduled start time with cap\, sunscreen\, googles and water bottle.
URL:https://collaroysurfclub.com.au/event/nippers-4-2/2023-02-26/
LOCATION:Collaroy SLSC\, 1054 Pittwater Road\,\, Collaroy\, Australia
CATEGORIES:Nippers
GEO:33"43'58"S;151"18'08"E
X-APPLE-STRUCTURED-LOCATION;VALUE=URI;X-ADDRESS=Collaroy SLSC 1054 Pittwater Road Collaroy Australia;X-APPLE-RADIUS=500;X-TITLE=1054 Pittwater Road\,:geo:151"18'08"E,33"43'58"S
END:VEVENT
BEGIN:VEVENT
DTSTART;TZID=Australia/Sydney:20230301T080000
DTEND;TZID=Australia/Sydney:20230301T170000
DTSTAMP:20260426T142720
CREATED:20230110T103914Z
LAST-MODIFIED:20230110T103914Z
UID:10003552-1677657600-1677690000@collaroysurfclub.com.au
SUMMARY:NSW Surf Lifesaving Championships - Masters
DESCRIPTION:
URL:https://collaroysurfclub.com.au/event/nsw-surf-lifesaving-championships-masters/2023-03-01/
LOCATION:Queenscliff SLSC\, 677Q+J4 Manly\, New South Wales\, Australia
CATEGORIES:Carnival
END:VEVENT
BEGIN:VEVENT
DTSTART;TZID=Australia/Sydney:20230302T080000
DTEND;TZID=Australia/Sydney:20230302T170000
DTSTAMP:20260426T142720
CREATED:20230110T103914Z
LAST-MODIFIED:20230110T103914Z
UID:10003553-1677744000-1677776400@collaroysurfclub.com.au
SUMMARY:NSW Surf Lifesaving Championships - Masters
DESCRIPTION:
URL:https://collaroysurfclub.com.au/event/nsw-surf-lifesaving-championships-masters/2023-03-02/
LOCATION:Queenscliff SLSC\, 677Q+J4 Manly\, New South Wales\, Australia
CATEGORIES:Carnival
END:VEVENT
BEGIN:VEVENT
DTSTART;TZID=Australia/Sydney:20230303T080000
DTEND;TZID=Australia/Sydney:20230303T170000
DTSTAMP:20260426T142720
CREATED:20230110T104057Z
LAST-MODIFIED:20230110T104057Z
UID:10003554-1677830400-1677862800@collaroysurfclub.com.au
SUMMARY:NSW Surf Lifesaving Championships - Surf Boats
DESCRIPTION:
URL:https://collaroysurfclub.com.au/event/nsw-surf-lifesaving-championships-surf-boats/2023-03-03/
LOCATION:North Steyne SLSC\, 675P+JP Manly\, New South Wales
CATEGORIES:Carnival
END:VEVENT
BEGIN:VEVENT
DTSTART;TZID=Australia/Sydney:20230303T080000
DTEND;TZID=Australia/Sydney:20230303T170000
DTSTAMP:20260426T142720
CREATED:20230110T105304Z
LAST-MODIFIED:20230110T105304Z
UID:10003557-1677830400-1677862800@collaroysurfclub.com.au
SUMMARY:NSW Surf Lifesaving Championships - Opens
DESCRIPTION:
URL:https://collaroysurfclub.com.au/event/nsw-surf-lifesaving-championships-opens/2023-03-03/
LOCATION:Queenscliff SLSC\, 677Q+J4 Manly\, New South Wales\, Australia
CATEGORIES:Carnival
END:VEVENT
BEGIN:VEVENT
DTSTART;TZID=Australia/Sydney:20230304T080000
DTEND;TZID=Australia/Sydney:20230304T170000
DTSTAMP:20260426T142720
CREATED:20230110T104057Z
LAST-MODIFIED:20230110T104057Z
UID:10003555-1677916800-1677949200@collaroysurfclub.com.au
SUMMARY:NSW Surf Lifesaving Championships - Surf Boats
DESCRIPTION:
URL:https://collaroysurfclub.com.au/event/nsw-surf-lifesaving-championships-surf-boats/2023-03-04/
LOCATION:North Steyne SLSC\, 675P+JP Manly\, New South Wales
CATEGORIES:Carnival
END:VEVENT
BEGIN:VEVENT
DTSTART;TZID=Australia/Sydney:20230304T080000
DTEND;TZID=Australia/Sydney:20230304T170000
DTSTAMP:20260426T142720
CREATED:20230110T105304Z
LAST-MODIFIED:20230110T105304Z
UID:10003558-1677916800-1677949200@collaroysurfclub.com.au
SUMMARY:NSW Surf Lifesaving Championships - Opens
DESCRIPTION:
URL:https://collaroysurfclub.com.au/event/nsw-surf-lifesaving-championships-opens/2023-03-04/
LOCATION:Queenscliff SLSC\, 677Q+J4 Manly\, New South Wales\, Australia
CATEGORIES:Carnival
END:VEVENT
BEGIN:VEVENT
DTSTART;TZID=Australia/Sydney:20230304T084500
DTEND;TZID=Australia/Sydney:20230304T170000
DTSTAMP:20260426T142720
CREATED:20220906T123041Z
LAST-MODIFIED:20220906T123539Z
UID:10003326-1677919500-1677949200@collaroysurfclub.com.au
SUMMARY:Volunteer Patrol
DESCRIPTION:
URL:https://collaroysurfclub.com.au/event/volunteer-patrol-2/2023-03-04/
LOCATION:Collaroy SLSC\, 1054 Pittwater Road\,\, Collaroy\, Australia
CATEGORIES:Patrol Volunteer
GEO:33"43'58"S;151"18'08"E
X-APPLE-STRUCTURED-LOCATION;VALUE=URI;X-ADDRESS=Collaroy SLSC 1054 Pittwater Road Collaroy Australia;X-APPLE-RADIUS=500;X-TITLE=1054 Pittwater Road\,:geo:151"18'08"E,33"43'58"S
END:VEVENT
BEGIN:VEVENT
DTSTART;TZID=Australia/Sydney:20230305T080000
DTEND;TZID=Australia/Sydney:20230305T170000
DTSTAMP:20260426T142720
CREATED:20230110T104057Z
LAST-MODIFIED:20230110T104057Z
UID:10003556-1678003200-1678035600@collaroysurfclub.com.au
SUMMARY:NSW Surf Lifesaving Championships - Surf Boats
DESCRIPTION:
URL:https://collaroysurfclub.com.au/event/nsw-surf-lifesaving-championships-surf-boats/2023-03-05/
LOCATION:North Steyne SLSC\, 675P+JP Manly\, New South Wales
CATEGORIES:Carnival
END:VEVENT
BEGIN:VEVENT
DTSTART;TZID=Australia/Sydney:20230305T080000
DTEND;TZID=Australia/Sydney:20230305T170000
DTSTAMP:20260426T142720
CREATED:20230110T105304Z
LAST-MODIFIED:20230110T105304Z
UID:10003559-1678003200-1678035600@collaroysurfclub.com.au
SUMMARY:NSW Surf Lifesaving Championships - Opens
DESCRIPTION:
URL:https://collaroysurfclub.com.au/event/nsw-surf-lifesaving-championships-opens/2023-03-05/
LOCATION:Queenscliff SLSC\, 677Q+J4 Manly\, New South Wales\, Australia
CATEGORIES:Carnival
END:VEVENT
BEGIN:VEVENT
DTSTART;TZID=Australia/Sydney:20230305T084500
DTEND;TZID=Australia/Sydney:20230305T170000
DTSTAMP:20260426T142720
CREATED:20220906T123041Z
LAST-MODIFIED:20220906T123539Z
UID:10003327-1678005900-1678035600@collaroysurfclub.com.au
SUMMARY:Volunteer Patrol
DESCRIPTION:
URL:https://collaroysurfclub.com.au/event/volunteer-patrol-2/2023-03-05/
LOCATION:Collaroy SLSC\, 1054 Pittwater Road\,\, Collaroy\, Australia
CATEGORIES:Patrol Volunteer
GEO:33"43'58"S;151"18'08"E
X-APPLE-STRUCTURED-LOCATION;VALUE=URI;X-ADDRESS=Collaroy SLSC 1054 Pittwater Road Collaroy Australia;X-APPLE-RADIUS=500;X-TITLE=1054 Pittwater Road\,:geo:151"18'08"E,33"43'58"S
END:VEVENT
BEGIN:VEVENT
DTSTART;TZID=Australia/Sydney:20230305T120000
DTEND;TZID=Australia/Sydney:20230305T160000
DTSTAMP:20260426T142720
CREATED:20221003T080757Z
LAST-MODIFIED:20221003T080907Z
UID:10003371-1678017600-1678032000@collaroysurfclub.com.au
SUMMARY:Sunday Sippers
DESCRIPTION:Join us in the bar every throughout the patrol season Sunday throughout the patrol season from 12pm until at least 4pm.
URL:https://collaroysurfclub.com.au/event/sunday-sippers-2/2023-03-05/
LOCATION:Collaroy SLSC\, 1054 Pittwater Road\,\, Collaroy\, Australia
CATEGORIES:Collaroy Bar
GEO:33"43'58"S;151"18'08"E
X-APPLE-STRUCTURED-LOCATION;VALUE=URI;X-ADDRESS=Collaroy SLSC 1054 Pittwater Road Collaroy Australia;X-APPLE-RADIUS=500;X-TITLE=1054 Pittwater Road\,:geo:151"18'08"E,33"43'58"S
END:VEVENT
BEGIN:VEVENT
DTSTART;TZID=Australia/Sydney:20230311T084500
DTEND;TZID=Australia/Sydney:20230311T130000
DTSTAMP:20260426T142720
CREATED:20220906T112012Z
LAST-MODIFIED:20220906T112012Z
UID:10003204-1678524300-1678539600@collaroysurfclub.com.au
SUMMARY:Patrol 1
DESCRIPTION:
URL:https://collaroysurfclub.com.au/event/patrol-1/2023-03-11/
LOCATION:Collaroy SLSC\, 1054 Pittwater Road\,\, Collaroy\, Australia
CATEGORIES:Patrol 1
GEO:33"43'58"S;151"18'08"E
X-APPLE-STRUCTURED-LOCATION;VALUE=URI;X-ADDRESS=Collaroy SLSC 1054 Pittwater Road Collaroy Australia;X-APPLE-RADIUS=500;X-TITLE=1054 Pittwater Road\,:geo:151"18'08"E,33"43'58"S
END:VEVENT
BEGIN:VEVENT
DTSTART;TZID=Australia/Sydney:20230311T124500
DTEND;TZID=Australia/Sydney:20230311T170000
DTSTAMP:20260426T142720
CREATED:20220906T115740Z
LAST-MODIFIED:20220906T123908Z
UID:10003267-1678538700-1678554000@collaroysurfclub.com.au
SUMMARY:Patrol 8
DESCRIPTION:
URL:https://collaroysurfclub.com.au/event/patrol-8/2023-03-11/
LOCATION:Collaroy SLSC\, 1054 Pittwater Road\,\, Collaroy\, Australia
CATEGORIES:Patrol 8
GEO:33"43'58"S;151"18'08"E
X-APPLE-STRUCTURED-LOCATION;VALUE=URI;X-ADDRESS=Collaroy SLSC 1054 Pittwater Road Collaroy Australia;X-APPLE-RADIUS=500;X-TITLE=1054 Pittwater Road\,:geo:151"18'08"E,33"43'58"S
END:VEVENT
BEGIN:VEVENT
DTSTART;TZID=Australia/Sydney:20230312T084500
DTEND;TZID=Australia/Sydney:20230312T133000
DTSTAMP:20260426T142720
CREATED:20220906T113008Z
LAST-MODIFIED:20220906T113008Z
UID:10003611-1678610700-1678627800@collaroysurfclub.com.au
SUMMARY:Patrol 2
DESCRIPTION:
URL:https://collaroysurfclub.com.au/event/patrol-2/2023-03-12/
LOCATION:Collaroy SLSC\, 1054 Pittwater Road\,\, Collaroy\, Australia
CATEGORIES:Patrol 2
GEO:33"43'58"S;151"18'08"E
X-APPLE-STRUCTURED-LOCATION;VALUE=URI;X-ADDRESS=Collaroy SLSC 1054 Pittwater Road Collaroy Australia;X-APPLE-RADIUS=500;X-TITLE=1054 Pittwater Road\,:geo:151"18'08"E,33"43'58"S
END:VEVENT
BEGIN:VEVENT
DTSTART;TZID=Australia/Sydney:20230312T084500
DTEND;TZID=Australia/Sydney:20230312T133000
DTSTAMP:20260426T142720
CREATED:20220906T122506Z
LAST-MODIFIED:20220906T122506Z
UID:10003319-1678610700-1678627800@collaroysurfclub.com.au
SUMMARY:Patrol LS2
DESCRIPTION:
URL:https://collaroysurfclub.com.au/event/patrol-ls2/2023-03-12/
LOCATION:Collaroy SLSC\, 1054 Pittwater Road\,\, Collaroy\, Australia
CATEGORIES:Patrol LS2
GEO:33"43'58"S;151"18'08"E
X-APPLE-STRUCTURED-LOCATION;VALUE=URI;X-ADDRESS=Collaroy SLSC 1054 Pittwater Road Collaroy Australia;X-APPLE-RADIUS=500;X-TITLE=1054 Pittwater Road\,:geo:151"18'08"E,33"43'58"S
END:VEVENT
BEGIN:VEVENT
DTSTART;TZID=Australia/Sydney:20230312T120000
DTEND;TZID=Australia/Sydney:20230312T160000
DTSTAMP:20260426T142720
CREATED:20221003T080757Z
LAST-MODIFIED:20221003T080907Z
UID:10003372-1678622400-1678636800@collaroysurfclub.com.au
SUMMARY:Sunday Sippers
DESCRIPTION:Join us in the bar every throughout the patrol season Sunday throughout the patrol season from 12pm until at least 4pm.
URL:https://collaroysurfclub.com.au/event/sunday-sippers-2/2023-03-12/
LOCATION:Collaroy SLSC\, 1054 Pittwater Road\,\, Collaroy\, Australia
CATEGORIES:Collaroy Bar
GEO:33"43'58"S;151"18'08"E
X-APPLE-STRUCTURED-LOCATION;VALUE=URI;X-ADDRESS=Collaroy SLSC 1054 Pittwater Road Collaroy Australia;X-APPLE-RADIUS=500;X-TITLE=1054 Pittwater Road\,:geo:151"18'08"E,33"43'58"S
END:VEVENT
BEGIN:VEVENT
DTSTART;TZID=Australia/Sydney:20230318T131500
DTEND;TZID=Australia/Sydney:20230318T180000
DTSTAMP:20260426T142720
CREATED:20220906T114450Z
LAST-MODIFIED:20220906T124052Z
UID:10003598-1679145300-1679162400@collaroysurfclub.com.au
SUMMARY:Patrol 5
DESCRIPTION:
URL:https://collaroysurfclub.com.au/event/patrol-5/2023-03-18/
LOCATION:Collaroy SLSC\, 1054 Pittwater Road\,\, Collaroy\, Australia
CATEGORIES:Patrol 5
GEO:33"43'58"S;151"18'08"E
X-APPLE-STRUCTURED-LOCATION;VALUE=URI;X-ADDRESS=Collaroy SLSC 1054 Pittwater Road Collaroy Australia;X-APPLE-RADIUS=500;X-TITLE=1054 Pittwater Road\,:geo:151"18'08"E,33"43'58"S
END:VEVENT
BEGIN:VEVENT
DTSTART;TZID=Australia/Sydney:20230318T131500
DTEND;TZID=Australia/Sydney:20230318T180000
DTSTAMP:20260426T142720
CREATED:20220906T115118Z
LAST-MODIFIED:20220906T115118Z
UID:10003609-1679145300-1679162400@collaroysurfclub.com.au
SUMMARY:Patrol 7
DESCRIPTION:
URL:https://collaroysurfclub.com.au/event/patrol-7/2023-03-18/
LOCATION:Collaroy SLSC\, 1054 Pittwater Road\,\, Collaroy\, Australia
CATEGORIES:Patrol 7
GEO:33"43'58"S;151"18'08"E
X-APPLE-STRUCTURED-LOCATION;VALUE=URI;X-ADDRESS=Collaroy SLSC 1054 Pittwater Road Collaroy Australia;X-APPLE-RADIUS=500;X-TITLE=1054 Pittwater Road\,:geo:151"18'08"E,33"43'58"S
END:VEVENT
END:VCALENDAR