BEGIN:VCALENDAR
VERSION:2.0
PRODID:-//Collaroy Surf Life Saving Club - ECPv6.15.20//NONSGML v1.0//EN
CALSCALE:GREGORIAN
METHOD:PUBLISH
X-WR-CALNAME:Collaroy Surf Life Saving Club
X-ORIGINAL-URL:https://collaroysurfclub.com.au
X-WR-CALDESC:Events for Collaroy Surf Life Saving Club
REFRESH-INTERVAL;VALUE=DURATION:PT1H
X-Robots-Tag:noindex
X-PUBLISHED-TTL:PT1H
BEGIN:VTIMEZONE
TZID:Australia/Sydney
BEGIN:STANDARD
TZOFFSETFROM:+1100
TZOFFSETTO:+1000
TZNAME:AEST
DTSTART:20220402T160000
END:STANDARD
BEGIN:DAYLIGHT
TZOFFSETFROM:+1000
TZOFFSETTO:+1100
TZNAME:AEDT
DTSTART:20221001T160000
END:DAYLIGHT
BEGIN:STANDARD
TZOFFSETFROM:+1100
TZOFFSETTO:+1000
TZNAME:AEST
DTSTART:20230401T160000
END:STANDARD
BEGIN:DAYLIGHT
TZOFFSETFROM:+1000
TZOFFSETTO:+1100
TZNAME:AEDT
DTSTART:20230930T160000
END:DAYLIGHT
BEGIN:STANDARD
TZOFFSETFROM:+1100
TZOFFSETTO:+1000
TZNAME:AEST
DTSTART:20240406T160000
END:STANDARD
BEGIN:DAYLIGHT
TZOFFSETFROM:+1000
TZOFFSETTO:+1100
TZNAME:AEDT
DTSTART:20241005T160000
END:DAYLIGHT
END:VTIMEZONE
BEGIN:VEVENT
DTSTART;TZID=Australia/Sydney:20230126T084500
DTEND;TZID=Australia/Sydney:20230126T133000
DTSTAMP:20260425T110330
CREATED:20220906T112012Z
LAST-MODIFIED:20220906T112012Z
UID:10003202-1674722700-1674739800@collaroysurfclub.com.au
SUMMARY:Patrol 1
DESCRIPTION:
URL:https://collaroysurfclub.com.au/event/patrol-1/2023-01-26/
LOCATION:Collaroy SLSC\, 1054 Pittwater Road\,\, Collaroy\, Australia
CATEGORIES:Patrol 1
GEO:33"43'58"S;151"18'08"E
X-APPLE-STRUCTURED-LOCATION;VALUE=URI;X-ADDRESS=Collaroy SLSC 1054 Pittwater Road Collaroy Australia;X-APPLE-RADIUS=500;X-TITLE=1054 Pittwater Road\,:geo:151"18'08"E,33"43'58"S
END:VEVENT
BEGIN:VEVENT
DTSTART;TZID=Australia/Sydney:20230126T131500
DTEND;TZID=Australia/Sydney:20230126T180000
DTSTAMP:20260425T110330
CREATED:20220906T121033Z
LAST-MODIFIED:20220906T124257Z
UID:10003291-1674738900-1674756000@collaroysurfclub.com.au
SUMMARY:Patrol 11
DESCRIPTION:
URL:https://collaroysurfclub.com.au/event/patrol-11/2023-01-26/
LOCATION:Collaroy SLSC\, 1054 Pittwater Road\,\, Collaroy\, Australia
CATEGORIES:Patrol 11
GEO:33"43'58"S;151"18'08"E
X-APPLE-STRUCTURED-LOCATION;VALUE=URI;X-ADDRESS=Collaroy SLSC 1054 Pittwater Road Collaroy Australia;X-APPLE-RADIUS=500;X-TITLE=1054 Pittwater Road\,:geo:151"18'08"E,33"43'58"S
END:VEVENT
BEGIN:VEVENT
DTSTART;TZID=Australia/Sydney:20230128T080000
DTEND;TZID=Australia/Sydney:20230128T170000
DTSTAMP:20260425T110330
CREATED:20230110T100704Z
LAST-MODIFIED:20230110T100704Z
UID:10003486-1674892800-1674925200@collaroysurfclub.com.au
SUMMARY:SLSSNB Branch Championships - Opens and Masters Water
DESCRIPTION:
URL:https://collaroysurfclub.com.au/event/slssnb-branch-championships-opens-and-masters-water/
LOCATION:Collaroy SLSC\, 1054 Pittwater Road\,\, Collaroy\, Australia
CATEGORIES:Carnival
GEO:33"43'58"S;151"18'08"E
X-APPLE-STRUCTURED-LOCATION;VALUE=URI;X-ADDRESS=Collaroy SLSC 1054 Pittwater Road Collaroy Australia;X-APPLE-RADIUS=500;X-TITLE=1054 Pittwater Road\,:geo:151"18'08"E,33"43'58"S
END:VEVENT
BEGIN:VEVENT
DTSTART;TZID=Australia/Sydney:20230128T084500
DTEND;TZID=Australia/Sydney:20230128T133000
DTSTAMP:20260425T110330
CREATED:20220906T122132Z
LAST-MODIFIED:20220907T114007Z
UID:10003312-1674895500-1674912600@collaroysurfclub.com.au
SUMMARY:Patrol LS1
DESCRIPTION:
URL:https://collaroysurfclub.com.au/event/patrol-ls1/2023-01-28/
LOCATION:Collaroy SLSC\, 1054 Pittwater Road\,\, Collaroy\, Australia
CATEGORIES:Patrol LS1
GEO:33"43'58"S;151"18'08"E
X-APPLE-STRUCTURED-LOCATION;VALUE=URI;X-ADDRESS=Collaroy SLSC 1054 Pittwater Road Collaroy Australia;X-APPLE-RADIUS=500;X-TITLE=1054 Pittwater Road\,:geo:151"18'08"E,33"43'58"S
END:VEVENT
BEGIN:VEVENT
DTSTART;TZID=Australia/Sydney:20230128T131500
DTEND;TZID=Australia/Sydney:20230128T180000
DTSTAMP:20260425T110330
CREATED:20220906T113008Z
LAST-MODIFIED:20220906T113008Z
UID:10003215-1674911700-1674928800@collaroysurfclub.com.au
SUMMARY:Patrol 2
DESCRIPTION:
URL:https://collaroysurfclub.com.au/event/patrol-2/2023-01-28/
LOCATION:Collaroy SLSC\, 1054 Pittwater Road\,\, Collaroy\, Australia
CATEGORIES:Patrol 2
GEO:33"43'58"S;151"18'08"E
X-APPLE-STRUCTURED-LOCATION;VALUE=URI;X-ADDRESS=Collaroy SLSC 1054 Pittwater Road Collaroy Australia;X-APPLE-RADIUS=500;X-TITLE=1054 Pittwater Road\,:geo:151"18'08"E,33"43'58"S
END:VEVENT
BEGIN:VEVENT
DTSTART;TZID=Australia/Sydney:20230129T073000
DTEND;TZID=Australia/Sydney:20230129T113000
DTSTAMP:20260425T110330
CREATED:20230110T093618Z
LAST-MODIFIED:20230110T093618Z
UID:10003479-1674977400-1674991800@collaroysurfclub.com.au
SUMMARY:Nippers CANCELLED
DESCRIPTION:Due to the SLSSNB Branch Championships being held at Collaroy there will be no Nippers on Sunday 29th January and Sunday 5th February. \nHead to the beach anyway and help your club hold this huge event and cheer on our competitors.
URL:https://collaroysurfclub.com.au/event/nippers-cancelled/2023-01-29/
LOCATION:Collaroy SLSC\, 1054 Pittwater Road\,\, Collaroy\, Australia
CATEGORIES:Nippers
GEO:33"43'58"S;151"18'08"E
X-APPLE-STRUCTURED-LOCATION;VALUE=URI;X-ADDRESS=Collaroy SLSC 1054 Pittwater Road Collaroy Australia;X-APPLE-RADIUS=500;X-TITLE=1054 Pittwater Road\,:geo:151"18'08"E,33"43'58"S
END:VEVENT
BEGIN:VEVENT
DTSTART;TZID=Australia/Sydney:20230129T080000
DTEND;TZID=Australia/Sydney:20230129T170000
DTSTAMP:20260425T110330
CREATED:20230110T100532Z
LAST-MODIFIED:20231004T230646Z
UID:10003485-1674979200-1675011600@collaroysurfclub.com.au
SUMMARY:SLSSNB Branch Championships - Junior Water
DESCRIPTION:
URL:https://collaroysurfclub.com.au/event/slssnb-branch-championships-junior-water/
LOCATION:Collaroy SLSC\, 1054 Pittwater Road\,\, Collaroy\, Australia
CATEGORIES:Carnival,Nippers
GEO:33"43'58"S;151"18'08"E
X-APPLE-STRUCTURED-LOCATION;VALUE=URI;X-ADDRESS=Collaroy SLSC 1054 Pittwater Road Collaroy Australia;X-APPLE-RADIUS=500;X-TITLE=1054 Pittwater Road\,:geo:151"18'08"E,33"43'58"S
END:VEVENT
BEGIN:VEVENT
DTSTART;TZID=Australia/Sydney:20230129T084500
DTEND;TZID=Australia/Sydney:20230129T133000
DTSTAMP:20260425T110330
CREATED:20220906T121531Z
LAST-MODIFIED:20220906T123728Z
UID:10003304-1674981900-1674999000@collaroysurfclub.com.au
SUMMARY:Patrol 12
DESCRIPTION:
URL:https://collaroysurfclub.com.au/event/patrol-12/2023-01-29/
LOCATION:Collaroy SLSC\, 1054 Pittwater Road\,\, Collaroy\, Australia
CATEGORIES:Patrol 12
GEO:33"43'58"S;151"18'08"E
X-APPLE-STRUCTURED-LOCATION;VALUE=URI;X-ADDRESS=Collaroy SLSC 1054 Pittwater Road Collaroy Australia;X-APPLE-RADIUS=500;X-TITLE=1054 Pittwater Road\,:geo:151"18'08"E,33"43'58"S
END:VEVENT
BEGIN:VEVENT
DTSTART;TZID=Australia/Sydney:20230129T120000
DTEND;TZID=Australia/Sydney:20230129T160000
DTSTAMP:20260425T110330
CREATED:20221003T080757Z
LAST-MODIFIED:20221003T080907Z
UID:10003366-1674993600-1675008000@collaroysurfclub.com.au
SUMMARY:Sunday Sippers
DESCRIPTION:Join us in the bar every throughout the patrol season Sunday throughout the patrol season from 12pm until at least 4pm.
URL:https://collaroysurfclub.com.au/event/sunday-sippers-2/2023-01-29/
LOCATION:Collaroy SLSC\, 1054 Pittwater Road\,\, Collaroy\, Australia
CATEGORIES:Collaroy Bar
GEO:33"43'58"S;151"18'08"E
X-APPLE-STRUCTURED-LOCATION;VALUE=URI;X-ADDRESS=Collaroy SLSC 1054 Pittwater Road Collaroy Australia;X-APPLE-RADIUS=500;X-TITLE=1054 Pittwater Road\,:geo:151"18'08"E,33"43'58"S
END:VEVENT
BEGIN:VEVENT
DTSTART;TZID=Australia/Sydney:20230129T131500
DTEND;TZID=Australia/Sydney:20230129T180000
DTSTAMP:20260425T110330
CREATED:20220906T115118Z
LAST-MODIFIED:20220906T115118Z
UID:10003252-1674998100-1675015200@collaroysurfclub.com.au
SUMMARY:Patrol 7
DESCRIPTION:
URL:https://collaroysurfclub.com.au/event/patrol-7/2023-01-29/
LOCATION:Collaroy SLSC\, 1054 Pittwater Road\,\, Collaroy\, Australia
CATEGORIES:Patrol 7
GEO:33"43'58"S;151"18'08"E
X-APPLE-STRUCTURED-LOCATION;VALUE=URI;X-ADDRESS=Collaroy SLSC 1054 Pittwater Road Collaroy Australia;X-APPLE-RADIUS=500;X-TITLE=1054 Pittwater Road\,:geo:151"18'08"E,33"43'58"S
END:VEVENT
BEGIN:VEVENT
DTSTART;VALUE=DATE:20230204
DTEND;VALUE=DATE:20230205
DTSTAMP:20260425T110330
CREATED:20220907T125348Z
LAST-MODIFIED:20220907T125348Z
UID:10003344-1675468800-1675555199@collaroysurfclub.com.au
SUMMARY:Ocean Thunder
DESCRIPTION:
URL:https://collaroysurfclub.com.au/event/ocean-thunder-4/
LOCATION:Dee Why SLSC\, The Strand\, Dee Why\, Australia
CATEGORIES:Carnival
END:VEVENT
BEGIN:VEVENT
DTSTART;TZID=Australia/Sydney:20230204T080000
DTEND;TZID=Australia/Sydney:20230204T170000
DTSTAMP:20260425T110330
CREATED:20230110T100337Z
LAST-MODIFIED:20230110T100337Z
UID:10003484-1675497600-1675530000@collaroysurfclub.com.au
SUMMARY:SLSSNB Branch Championships - Open/Masters Beach\, March Past\, R&R
DESCRIPTION:
URL:https://collaroysurfclub.com.au/event/slssnb-branch-championships-open-masters-beach-march-past-rr/
LOCATION:Collaroy SLSC\, 1054 Pittwater Road\,\, Collaroy\, Australia
CATEGORIES:Carnival
GEO:33"43'58"S;151"18'08"E
X-APPLE-STRUCTURED-LOCATION;VALUE=URI;X-ADDRESS=Collaroy SLSC 1054 Pittwater Road Collaroy Australia;X-APPLE-RADIUS=500;X-TITLE=1054 Pittwater Road\,:geo:151"18'08"E,33"43'58"S
END:VEVENT
BEGIN:VEVENT
DTSTART;TZID=Australia/Sydney:20230204T084500
DTEND;TZID=Australia/Sydney:20230204T133000
DTSTAMP:20260425T110330
CREATED:20220906T120422Z
LAST-MODIFIED:20220906T124457Z
UID:10003278-1675500300-1675517400@collaroysurfclub.com.au
SUMMARY:Patrol 9
DESCRIPTION:
URL:https://collaroysurfclub.com.au/event/patrol-9/2023-02-04/
LOCATION:Collaroy SLSC\, 1054 Pittwater Road\,\, Collaroy\, Australia
CATEGORIES:Patrol 9
GEO:33"43'58"S;151"18'08"E
X-APPLE-STRUCTURED-LOCATION;VALUE=URI;X-ADDRESS=Collaroy SLSC 1054 Pittwater Road Collaroy Australia;X-APPLE-RADIUS=500;X-TITLE=1054 Pittwater Road\,:geo:151"18'08"E,33"43'58"S
END:VEVENT
BEGIN:VEVENT
DTSTART;TZID=Australia/Sydney:20230204T131500
DTEND;TZID=Australia/Sydney:20230204T180000
DTSTAMP:20260425T110330
CREATED:20220906T113826Z
LAST-MODIFIED:20220906T113826Z
UID:10003227-1675516500-1675533600@collaroysurfclub.com.au
SUMMARY:Patrol 4
DESCRIPTION:
URL:https://collaroysurfclub.com.au/event/patrol-4/2023-02-04/
LOCATION:Collaroy SLSC\, 1054 Pittwater Road\,\, Collaroy\, Australia
CATEGORIES:Patrol 4
GEO:33"43'58"S;151"18'08"E
X-APPLE-STRUCTURED-LOCATION;VALUE=URI;X-ADDRESS=Collaroy SLSC 1054 Pittwater Road Collaroy Australia;X-APPLE-RADIUS=500;X-TITLE=1054 Pittwater Road\,:geo:151"18'08"E,33"43'58"S
END:VEVENT
BEGIN:VEVENT
DTSTART;TZID=Australia/Sydney:20230205T073000
DTEND;TZID=Australia/Sydney:20230205T113000
DTSTAMP:20260425T110330
CREATED:20230110T093618Z
LAST-MODIFIED:20230110T093618Z
UID:10003480-1675582200-1675596600@collaroysurfclub.com.au
SUMMARY:Nippers CANCELLED
DESCRIPTION:Due to the SLSSNB Branch Championships being held at Collaroy there will be no Nippers on Sunday 29th January and Sunday 5th February. \nHead to the beach anyway and help your club hold this huge event and cheer on our competitors.
URL:https://collaroysurfclub.com.au/event/nippers-cancelled/2023-02-05/
LOCATION:Collaroy SLSC\, 1054 Pittwater Road\,\, Collaroy\, Australia
CATEGORIES:Nippers
GEO:33"43'58"S;151"18'08"E
X-APPLE-STRUCTURED-LOCATION;VALUE=URI;X-ADDRESS=Collaroy SLSC 1054 Pittwater Road Collaroy Australia;X-APPLE-RADIUS=500;X-TITLE=1054 Pittwater Road\,:geo:151"18'08"E,33"43'58"S
END:VEVENT
BEGIN:VEVENT
DTSTART;TZID=Australia/Sydney:20230205T080000
DTEND;TZID=Australia/Sydney:20230205T170000
DTSTAMP:20260425T110330
CREATED:20230110T102440Z
LAST-MODIFIED:20231004T230637Z
UID:10003487-1675584000-1675616400@collaroysurfclub.com.au
SUMMARY:SLSSNB Branch Championships - Junior Beach\, Patrol Competition\, Champion Lifesaver
DESCRIPTION:
URL:https://collaroysurfclub.com.au/event/slssnb-branch-championships-junior-beach-patrol-competition-champion-lifesaver/
LOCATION:Collaroy SLSC\, 1054 Pittwater Road\,\, Collaroy\, Australia
CATEGORIES:Carnival,Nippers
GEO:33"43'58"S;151"18'08"E
X-APPLE-STRUCTURED-LOCATION;VALUE=URI;X-ADDRESS=Collaroy SLSC 1054 Pittwater Road Collaroy Australia;X-APPLE-RADIUS=500;X-TITLE=1054 Pittwater Road\,:geo:151"18'08"E,33"43'58"S
END:VEVENT
BEGIN:VEVENT
DTSTART;TZID=Australia/Sydney:20230205T084500
DTEND;TZID=Australia/Sydney:20230205T133000
DTSTAMP:20260425T110330
CREATED:20220906T121033Z
LAST-MODIFIED:20220906T124257Z
UID:10003292-1675586700-1675603800@collaroysurfclub.com.au
SUMMARY:Patrol 11
DESCRIPTION:
URL:https://collaroysurfclub.com.au/event/patrol-11/2023-02-05/
LOCATION:Collaroy SLSC\, 1054 Pittwater Road\,\, Collaroy\, Australia
CATEGORIES:Patrol 11
GEO:33"43'58"S;151"18'08"E
X-APPLE-STRUCTURED-LOCATION;VALUE=URI;X-ADDRESS=Collaroy SLSC 1054 Pittwater Road Collaroy Australia;X-APPLE-RADIUS=500;X-TITLE=1054 Pittwater Road\,:geo:151"18'08"E,33"43'58"S
END:VEVENT
BEGIN:VEVENT
DTSTART;TZID=Australia/Sydney:20230205T120000
DTEND;TZID=Australia/Sydney:20230205T160000
DTSTAMP:20260425T110330
CREATED:20221003T080757Z
LAST-MODIFIED:20221003T080907Z
UID:10003367-1675598400-1675612800@collaroysurfclub.com.au
SUMMARY:Sunday Sippers
DESCRIPTION:Join us in the bar every throughout the patrol season Sunday throughout the patrol season from 12pm until at least 4pm.
URL:https://collaroysurfclub.com.au/event/sunday-sippers-2/2023-02-05/
LOCATION:Collaroy SLSC\, 1054 Pittwater Road\,\, Collaroy\, Australia
CATEGORIES:Collaroy Bar
GEO:33"43'58"S;151"18'08"E
X-APPLE-STRUCTURED-LOCATION;VALUE=URI;X-ADDRESS=Collaroy SLSC 1054 Pittwater Road Collaroy Australia;X-APPLE-RADIUS=500;X-TITLE=1054 Pittwater Road\,:geo:151"18'08"E,33"43'58"S
END:VEVENT
BEGIN:VEVENT
DTSTART;TZID=Australia/Sydney:20230205T131500
DTEND;TZID=Australia/Sydney:20230205T180000
DTSTAMP:20260425T110330
CREATED:20220906T121531Z
LAST-MODIFIED:20220906T123728Z
UID:10003305-1675602900-1675620000@collaroysurfclub.com.au
SUMMARY:Patrol 12
DESCRIPTION:
URL:https://collaroysurfclub.com.au/event/patrol-12/2023-02-05/
LOCATION:Collaroy SLSC\, 1054 Pittwater Road\,\, Collaroy\, Australia
CATEGORIES:Patrol 12
GEO:33"43'58"S;151"18'08"E
X-APPLE-STRUCTURED-LOCATION;VALUE=URI;X-ADDRESS=Collaroy SLSC 1054 Pittwater Road Collaroy Australia;X-APPLE-RADIUS=500;X-TITLE=1054 Pittwater Road\,:geo:151"18'08"E,33"43'58"S
END:VEVENT
BEGIN:VEVENT
DTSTART;TZID=Australia/Sydney:20230211T080000
DTEND;TZID=Australia/Sydney:20230211T170000
DTSTAMP:20260425T110330
CREATED:20230110T102602Z
LAST-MODIFIED:20230110T102602Z
UID:10003488-1676102400-1676134800@collaroysurfclub.com.au
SUMMARY:SLSSNB Branch Championships - First Aid (17s & 19s)
DESCRIPTION:
URL:https://collaroysurfclub.com.au/event/slssnb-branch-championships-first-aid-17s-19s/
LOCATION:Collaroy SLSC\, 1054 Pittwater Road\,\, Collaroy\, Australia
CATEGORIES:Carnival
GEO:33"43'58"S;151"18'08"E
X-APPLE-STRUCTURED-LOCATION;VALUE=URI;X-ADDRESS=Collaroy SLSC 1054 Pittwater Road Collaroy Australia;X-APPLE-RADIUS=500;X-TITLE=1054 Pittwater Road\,:geo:151"18'08"E,33"43'58"S
END:VEVENT
BEGIN:VEVENT
DTSTART;TZID=Australia/Sydney:20230211T084500
DTEND;TZID=Australia/Sydney:20230211T133000
DTSTAMP:20260425T110330
CREATED:20220906T115740Z
LAST-MODIFIED:20220906T123908Z
UID:10003266-1676105100-1676122200@collaroysurfclub.com.au
SUMMARY:Patrol 8
DESCRIPTION:
URL:https://collaroysurfclub.com.au/event/patrol-8/2023-02-11/
LOCATION:Collaroy SLSC\, 1054 Pittwater Road\,\, Collaroy\, Australia
CATEGORIES:Patrol 8
GEO:33"43'58"S;151"18'08"E
X-APPLE-STRUCTURED-LOCATION;VALUE=URI;X-ADDRESS=Collaroy SLSC 1054 Pittwater Road Collaroy Australia;X-APPLE-RADIUS=500;X-TITLE=1054 Pittwater Road\,:geo:151"18'08"E,33"43'58"S
END:VEVENT
BEGIN:VEVENT
DTSTART;TZID=Australia/Sydney:20230211T131500
DTEND;TZID=Australia/Sydney:20230211T180000
DTSTAMP:20260425T110330
CREATED:20220906T112012Z
LAST-MODIFIED:20220906T112012Z
UID:10003203-1676121300-1676138400@collaroysurfclub.com.au
SUMMARY:Patrol 1
DESCRIPTION:
URL:https://collaroysurfclub.com.au/event/patrol-1/2023-02-11/
LOCATION:Collaroy SLSC\, 1054 Pittwater Road\,\, Collaroy\, Australia
CATEGORIES:Patrol 1
GEO:33"43'58"S;151"18'08"E
X-APPLE-STRUCTURED-LOCATION;VALUE=URI;X-ADDRESS=Collaroy SLSC 1054 Pittwater Road Collaroy Australia;X-APPLE-RADIUS=500;X-TITLE=1054 Pittwater Road\,:geo:151"18'08"E,33"43'58"S
END:VEVENT
BEGIN:VEVENT
DTSTART;TZID=Australia/Sydney:20230212T080000
DTEND;TZID=Australia/Sydney:20230212T170000
DTSTAMP:20260425T110330
CREATED:20230110T102642Z
LAST-MODIFIED:20230110T102642Z
UID:10003489-1676188800-1676221200@collaroysurfclub.com.au
SUMMARY:SLSSNB Branch Championships - First Aid (14s\, 15s & Opens)
DESCRIPTION:
URL:https://collaroysurfclub.com.au/event/slssnb-branch-championships-first-aid-14s-15s-opens/
LOCATION:Collaroy SLSC\, 1054 Pittwater Road\,\, Collaroy\, Australia
CATEGORIES:Carnival
GEO:33"43'58"S;151"18'08"E
X-APPLE-STRUCTURED-LOCATION;VALUE=URI;X-ADDRESS=Collaroy SLSC 1054 Pittwater Road Collaroy Australia;X-APPLE-RADIUS=500;X-TITLE=1054 Pittwater Road\,:geo:151"18'08"E,33"43'58"S
END:VEVENT
BEGIN:VEVENT
DTSTART;TZID=Australia/Sydney:20230212T084500
DTEND;TZID=Australia/Sydney:20230212T133000
DTSTAMP:20260425T110330
CREATED:20220906T122506Z
LAST-MODIFIED:20220906T122506Z
UID:10003318-1676191500-1676208600@collaroysurfclub.com.au
SUMMARY:Patrol LS2
DESCRIPTION:
URL:https://collaroysurfclub.com.au/event/patrol-ls2/2023-02-12/
LOCATION:Collaroy SLSC\, 1054 Pittwater Road\,\, Collaroy\, Australia
CATEGORIES:Patrol LS2
GEO:33"43'58"S;151"18'08"E
X-APPLE-STRUCTURED-LOCATION;VALUE=URI;X-ADDRESS=Collaroy SLSC 1054 Pittwater Road Collaroy Australia;X-APPLE-RADIUS=500;X-TITLE=1054 Pittwater Road\,:geo:151"18'08"E,33"43'58"S
END:VEVENT
BEGIN:VEVENT
DTSTART;TZID=Australia/Sydney:20230212T120000
DTEND;TZID=Australia/Sydney:20230212T160000
DTSTAMP:20260425T110330
CREATED:20221003T080757Z
LAST-MODIFIED:20221003T080907Z
UID:10003368-1676203200-1676217600@collaroysurfclub.com.au
SUMMARY:Sunday Sippers
DESCRIPTION:Join us in the bar every throughout the patrol season Sunday throughout the patrol season from 12pm until at least 4pm.
URL:https://collaroysurfclub.com.au/event/sunday-sippers-2/2023-02-12/
LOCATION:Collaroy SLSC\, 1054 Pittwater Road\,\, Collaroy\, Australia
CATEGORIES:Collaroy Bar
GEO:33"43'58"S;151"18'08"E
X-APPLE-STRUCTURED-LOCATION;VALUE=URI;X-ADDRESS=Collaroy SLSC 1054 Pittwater Road Collaroy Australia;X-APPLE-RADIUS=500;X-TITLE=1054 Pittwater Road\,:geo:151"18'08"E,33"43'58"S
END:VEVENT
BEGIN:VEVENT
DTSTART;TZID=Australia/Sydney:20230212T131500
DTEND;TZID=Australia/Sydney:20230212T180000
DTSTAMP:20260425T110330
CREATED:20220906T113008Z
LAST-MODIFIED:20220906T113008Z
UID:10003216-1676207700-1676224800@collaroysurfclub.com.au
SUMMARY:Patrol 2
DESCRIPTION:
URL:https://collaroysurfclub.com.au/event/patrol-2/2023-02-12/
LOCATION:Collaroy SLSC\, 1054 Pittwater Road\,\, Collaroy\, Australia
CATEGORIES:Patrol 2
GEO:33"43'58"S;151"18'08"E
X-APPLE-STRUCTURED-LOCATION;VALUE=URI;X-ADDRESS=Collaroy SLSC 1054 Pittwater Road Collaroy Australia;X-APPLE-RADIUS=500;X-TITLE=1054 Pittwater Road\,:geo:151"18'08"E,33"43'58"S
END:VEVENT
BEGIN:VEVENT
DTSTART;TZID=Australia/Sydney:20230212T194400
DTEND;TZID=Australia/Sydney:20230212T194400
DTSTAMP:20260425T110330
CREATED:20230110T084758Z
LAST-MODIFIED:20230110T084800Z
UID:10003476-1676231040-1676231040@collaroysurfclub.com.au
SUMMARY:Nippers
DESCRIPTION:U6-U8 8.30am – 9.30am\nU9-U14 9.45am – 11.00am \nPlease be ready 15 minutes prior to the scheduled start time with cap\, sunscreen\, googles and water bottle.
URL:https://collaroysurfclub.com.au/event/nippers-4-2/2023-02-12/
LOCATION:Collaroy SLSC\, 1054 Pittwater Road\,\, Collaroy\, Australia
CATEGORIES:Nippers
GEO:33"43'58"S;151"18'08"E
X-APPLE-STRUCTURED-LOCATION;VALUE=URI;X-ADDRESS=Collaroy SLSC 1054 Pittwater Road Collaroy Australia;X-APPLE-RADIUS=500;X-TITLE=1054 Pittwater Road\,:geo:151"18'08"E,33"43'58"S
END:VEVENT
BEGIN:VEVENT
DTSTART;TZID=Australia/Sydney:20230217T080000
DTEND;TZID=Australia/Sydney:20230217T170000
DTSTAMP:20260425T110330
CREATED:20230110T103240Z
LAST-MODIFIED:20230110T103240Z
UID:10003491-1676620800-1676653200@collaroysurfclub.com.au
SUMMARY:NSW Surf Lifesaving Championships - Champion Lifesaver & Patrol Competition
DESCRIPTION:
URL:https://collaroysurfclub.com.au/event/nsw-surf-lifesaving-championships-champion-lifesaver-patrol-competition/2023-02-17/
LOCATION:Freshwater SLSC\, 679Q+HX Freshwater\, New South Wales
CATEGORIES:Carnival
END:VEVENT
BEGIN:VEVENT
DTSTART;TZID=Australia/Sydney:20230218T080000
DTEND;TZID=Australia/Sydney:20230218T170000
DTSTAMP:20260425T110330
CREATED:20230110T102810Z
LAST-MODIFIED:20230110T102810Z
UID:10003490-1676707200-1676739600@collaroysurfclub.com.au
SUMMARY:SLSSNB Branch Championships - Surf Boats
DESCRIPTION:
URL:https://collaroysurfclub.com.au/event/slssnb-branch-championships-surf-boats/
LOCATION:Collaroy SLSC\, 1054 Pittwater Road\,\, Collaroy\, Australia
CATEGORIES:Carnival
GEO:33"43'58"S;151"18'08"E
X-APPLE-STRUCTURED-LOCATION;VALUE=URI;X-ADDRESS=Collaroy SLSC 1054 Pittwater Road Collaroy Australia;X-APPLE-RADIUS=500;X-TITLE=1054 Pittwater Road\,:geo:151"18'08"E,33"43'58"S
END:VEVENT
BEGIN:VEVENT
DTSTART;TZID=Australia/Sydney:20230218T080000
DTEND;TZID=Australia/Sydney:20230218T170000
DTSTAMP:20260425T110330
CREATED:20230110T103240Z
LAST-MODIFIED:20230110T103240Z
UID:10003492-1676707200-1676739600@collaroysurfclub.com.au
SUMMARY:NSW Surf Lifesaving Championships - Champion Lifesaver & Patrol Competition
DESCRIPTION:
URL:https://collaroysurfclub.com.au/event/nsw-surf-lifesaving-championships-champion-lifesaver-patrol-competition/2023-02-18/
LOCATION:Freshwater SLSC\, 679Q+HX Freshwater\, New South Wales
CATEGORIES:Carnival
END:VEVENT
END:VCALENDAR