BEGIN:VCALENDAR
VERSION:2.0
PRODID:-//Collaroy Surf Life Saving Club - ECPv6.15.20//NONSGML v1.0//EN
CALSCALE:GREGORIAN
METHOD:PUBLISH
X-ORIGINAL-URL:https://collaroysurfclub.com.au
X-WR-CALDESC:Events for Collaroy Surf Life Saving Club
REFRESH-INTERVAL;VALUE=DURATION:PT1H
X-Robots-Tag:noindex
X-PUBLISHED-TTL:PT1H
BEGIN:VTIMEZONE
TZID:Australia/Sydney
BEGIN:STANDARD
TZOFFSETFROM:+1100
TZOFFSETTO:+1000
TZNAME:AEST
DTSTART:20230401T160000
END:STANDARD
BEGIN:DAYLIGHT
TZOFFSETFROM:+1000
TZOFFSETTO:+1100
TZNAME:AEDT
DTSTART:20230930T160000
END:DAYLIGHT
BEGIN:STANDARD
TZOFFSETFROM:+1100
TZOFFSETTO:+1000
TZNAME:AEST
DTSTART:20240406T160000
END:STANDARD
BEGIN:DAYLIGHT
TZOFFSETFROM:+1000
TZOFFSETTO:+1100
TZNAME:AEDT
DTSTART:20241005T160000
END:DAYLIGHT
BEGIN:STANDARD
TZOFFSETFROM:+1100
TZOFFSETTO:+1000
TZNAME:AEST
DTSTART:20250405T160000
END:STANDARD
BEGIN:DAYLIGHT
TZOFFSETFROM:+1000
TZOFFSETTO:+1100
TZNAME:AEDT
DTSTART:20251004T160000
END:DAYLIGHT
END:VTIMEZONE
BEGIN:VEVENT
DTSTART;VALUE=DATE:20240210
DTEND;VALUE=DATE:20240211
DTSTAMP:20260426T091244
CREATED:20230919T063109Z
LAST-MODIFIED:20240209T055624Z
UID:10003832-1707523200-1707609599@collaroysurfclub.com.au
SUMMARY:Branch Championships
DESCRIPTION:Open Beach\, Champion Lifesaver\, Patrol Competition
URL:https://collaroysurfclub.com.au/event/branch-championships/
LOCATION:Newport SLSC\, 394 Barrenjoey Rd\,\, Newport\, Australia
CATEGORIES:Carnival
END:VEVENT
BEGIN:VEVENT
DTSTART;TZID=Australia/Sydney:20240210T084500
DTEND;TZID=Australia/Sydney:20240210T133000
DTSTAMP:20260426T091244
CREATED:20230919T001514Z
LAST-MODIFIED:20230919T001514Z
UID:10003689-1707554700-1707571800@collaroysurfclub.com.au
SUMMARY:AM Patrol - Patrol 7
DESCRIPTION:
URL:https://collaroysurfclub.com.au/event/am-patrol-patrol-7/2024-02-10/
LOCATION:Collaroy SLSC\, 1054 Pittwater Road\,\, Collaroy\, Australia
CATEGORIES:Patrol 7
GEO:33"43'58"S;151"18'08"E
X-APPLE-STRUCTURED-LOCATION;VALUE=URI;X-ADDRESS=Collaroy SLSC 1054 Pittwater Road Collaroy Australia;X-APPLE-RADIUS=500;X-TITLE=1054 Pittwater Road\,:geo:151"18'08"E,33"43'58"S
END:VEVENT
BEGIN:VEVENT
DTSTART;TZID=Australia/Sydney:20240210T131500
DTEND;TZID=Australia/Sydney:20240210T180000
DTSTAMP:20260426T091244
CREATED:20230919T010432Z
LAST-MODIFIED:20230919T010432Z
UID:10003784-1707570900-1707588000@collaroysurfclub.com.au
SUMMARY:PM Patrol - Patrol 9
DESCRIPTION:
URL:https://collaroysurfclub.com.au/event/pm-patrol-patrol-9/2024-02-10/
LOCATION:Collaroy SLSC\, 1054 Pittwater Road\,\, Collaroy\, Australia
CATEGORIES:Patrol 9
GEO:33"43'58"S;151"18'08"E
X-APPLE-STRUCTURED-LOCATION;VALUE=URI;X-ADDRESS=Collaroy SLSC 1054 Pittwater Road Collaroy Australia;X-APPLE-RADIUS=500;X-TITLE=1054 Pittwater Road\,:geo:151"18'08"E,33"43'58"S
END:VEVENT
END:VCALENDAR